BEGIN:VCALENDAR
VERSION:2.0
PRODID:-//Colchester East Hants Public Library - ECPv6.15.20//NONSGML v1.0//EN
CALSCALE:GREGORIAN
METHOD:PUBLISH
X-WR-CALNAME:Colchester East Hants Public Library
X-ORIGINAL-URL:https://www.lovemylibrary.ca
X-WR-CALDESC:Events for Colchester East Hants Public Library
REFRESH-INTERVAL;VALUE=DURATION:PT1H
X-Robots-Tag:noindex
X-PUBLISHED-TTL:PT1H
BEGIN:VTIMEZONE
TZID:America/Halifax
BEGIN:DAYLIGHT
TZOFFSETFROM:-0400
TZOFFSETTO:-0300
TZNAME:ADT
DTSTART:20220313T060000
END:DAYLIGHT
BEGIN:STANDARD
TZOFFSETFROM:-0300
TZOFFSETTO:-0400
TZNAME:AST
DTSTART:20221106T050000
END:STANDARD
BEGIN:DAYLIGHT
TZOFFSETFROM:-0400
TZOFFSETTO:-0300
TZNAME:ADT
DTSTART:20230312T060000
END:DAYLIGHT
BEGIN:STANDARD
TZOFFSETFROM:-0300
TZOFFSETTO:-0400
TZNAME:AST
DTSTART:20231105T050000
END:STANDARD
BEGIN:DAYLIGHT
TZOFFSETFROM:-0400
TZOFFSETTO:-0300
TZNAME:ADT
DTSTART:20240310T060000
END:DAYLIGHT
BEGIN:STANDARD
TZOFFSETFROM:-0300
TZOFFSETTO:-0400
TZNAME:AST
DTSTART:20241103T050000
END:STANDARD
END:VTIMEZONE
BEGIN:VEVENT
DTSTART;VALUE=DATE:20230704
DTEND;VALUE=DATE:20230901
DTSTAMP:20260419T204157
CREATED:20230617T161559Z
LAST-MODIFIED:20230617T161559Z
UID:10004584-1688428800-1693526399@www.lovemylibrary.ca
SUMMARY:Truro Art Society: Transformation art exhibit
DESCRIPTION:A transformational art exhibit from the Truro Art Society will be running through July and August at the Truro Library. Members of the Truro Art Society will be on site to talk with you about their art and the inspiration behind the exhibit on Saturday\, July 15 @1:30-3pm. \nThis is a drop in program.
URL:https://www.lovemylibrary.ca/event/truro-art-society-transformation-art-exhibit/
LOCATION:Truro Library\, 754 Prince St\, Truro\, Nova Scotia\, Canada
CATEGORIES:Events For Adults,Events For Seniors,Location: Truro
ATTACH;FMTTYPE=image/png:https://www.lovemylibrary.ca/wp-content/uploads/2023/06/Untitled-design-95.png
END:VEVENT
BEGIN:VEVENT
DTSTART;VALUE=DATE:20230801
DTEND;VALUE=DATE:20230901
DTSTAMP:20260419T204157
CREATED:20230628T190927Z
LAST-MODIFIED:20230628T190927Z
UID:10004633-1690848000-1693526399@www.lovemylibrary.ca
SUMMARY:Little Free Pantry
DESCRIPTION:Take what you need. Give what you can. We carry non perishable food\, toiletries and cleaning supplies. Available during open hours.
URL:https://www.lovemylibrary.ca/event/little-free-pantry/
LOCATION:Stewiacke Library\, 295 George Street\, Stewiacke\, Nova Scotia\, Canada
CATEGORIES:Location: Stewiacke
ATTACH;FMTTYPE=image/png:https://www.lovemylibrary.ca/wp-content/uploads/2023/06/Untitled-design-2023-06-28T161451.795.png
END:VEVENT
BEGIN:VEVENT
DTSTART;TZID=America/Halifax:20230807T133000
DTEND;TZID=America/Halifax:20230807T163000
DTSTAMP:20260419T204157
CREATED:20221026T175545Z
LAST-MODIFIED:20230919T182903Z
UID:10004714-1691415000-1691425800@www.lovemylibrary.ca
SUMMARY:Scrabble Group
DESCRIPTION:What spells F-U-N? Playing Scrabble with friends! \nThis is a drop-in program.  No registration is required.
URL:https://www.lovemylibrary.ca/event/scrabble-group-3-2/2023-08-07/
LOCATION:Truro Library\, 754 Prince St\, Truro\, Nova Scotia\, Canada
CATEGORIES:Events For Adults,Events For Seniors,Location: Truro
ATTACH;FMTTYPE=image/png:https://www.lovemylibrary.ca/wp-content/uploads/2022/05/Add-a-subheading-700-×-500-px-3.png
END:VEVENT
BEGIN:VEVENT
DTSTART;VALUE=DATE:20230808
DTEND;VALUE=DATE:20230809
DTSTAMP:20260419T204157
CREATED:20230628T193243Z
LAST-MODIFIED:20230628T193243Z
UID:10004651-1691452800-1691539199@www.lovemylibrary.ca
SUMMARY:Odds & Ends Craft Day
DESCRIPTION:Let your imagination go wild! Create your masterpiece with all of our amazing craft supplies! For children \nFor details\, please call 902-883-9838 or email us at elmsdale@cehpubliclibrary.ca
URL:https://www.lovemylibrary.ca/event/odds-ends-craft-day/
LOCATION:Elmsdale Library\, 15 Commerce Ct\, Elmsdale\, Nova Scotia\, Canada
CATEGORIES:Crafting,Events For Kids,Location: Elmsdale
ATTACH;FMTTYPE=image/png:https://www.lovemylibrary.ca/wp-content/uploads/2022/03/Untitled-design-57.png
END:VEVENT
BEGIN:VEVENT
DTSTART;TZID=America/Halifax:20230808T100000
DTEND;TZID=America/Halifax:20230808T150000
DTSTAMP:20260419T204157
CREATED:20220628T194614Z
LAST-MODIFIED:20230629T174710Z
UID:10004667-1691488800-1691506800@www.lovemylibrary.ca
SUMMARY:All Blocks Party
DESCRIPTION:Come in and build\, explore\, and create with hundreds of blocks!  All ages are welcome \nThis is a drop-in program.  Registration is not required.
URL:https://www.lovemylibrary.ca/event/block-party-3/2023-08-08/
LOCATION:Truro Library\, 754 Prince St\, Truro\, Nova Scotia\, Canada
CATEGORIES:Events For Kids,Location: Truro
ATTACH;FMTTYPE=image/png:https://www.lovemylibrary.ca/wp-content/uploads/2022/06/Untitled-design-5-1.png
END:VEVENT
BEGIN:VEVENT
DTSTART;TZID=America/Halifax:20230808T140000
DTEND;TZID=America/Halifax:20230808T150000
DTSTAMP:20260419T204157
CREATED:20230630T144239Z
LAST-MODIFIED:20230630T144239Z
UID:10004698-1691503200-1691506800@www.lovemylibrary.ca
SUMMARY:Board Game Club
DESCRIPTION:Let’s mix it up and have some fun with awesome board games. For ages 8-14 \nRegistration by phone 902-657-3064 or email: tatamago@cehpubliclibrary.ca
URL:https://www.lovemylibrary.ca/event/board-game-club/2023-08-08/
LOCATION:Tatamagouche Library\, 170 Main Street\, Tatamagouche\, Nova Scotia\, Canada
CATEGORIES:Events For Kids,Events For Teens,Location: Tatamagouche
ATTACH;FMTTYPE=image/png:https://www.lovemylibrary.ca/wp-content/uploads/2023/06/Untitled-design-2023-06-30T114818.275.png
END:VEVENT
BEGIN:VEVENT
DTSTART;TZID=America/Halifax:20230808T140000
DTEND;TZID=America/Halifax:20230808T160000
DTSTAMP:20260419T204157
CREATED:20230613T203815Z
LAST-MODIFIED:20230613T203815Z
UID:10004526-1691503200-1691510400@www.lovemylibrary.ca
SUMMARY:Teen Room Drop In
DESCRIPTION:Get out of the sun this summer in the newly reopened Teen Room!  Grab a snack\, play some games\, make art\, or just hang out with old friends or new ones! For ages 13-18 \nThis is a drop in program. No registration is required.
URL:https://www.lovemylibrary.ca/event/teen-room-drop-in-2/2023-08-08/
LOCATION:Truro Library\, 754 Prince St\, Truro\, Nova Scotia\, Canada
CATEGORIES:Events For Teens,Location: Truro
ATTACH;FMTTYPE=image/png:https://www.lovemylibrary.ca/wp-content/uploads/2023/06/Untitled-design-78.png
END:VEVENT
BEGIN:VEVENT
DTSTART;TZID=America/Halifax:20230808T150000
DTEND;TZID=America/Halifax:20230808T160000
DTSTAMP:20260419T204157
CREATED:20230612T190552Z
LAST-MODIFIED:20230612T190552Z
UID:10004491-1691506800-1691510400@www.lovemylibrary.ca
SUMMARY:Outside Adventures
DESCRIPTION:Choose a fun game to play outside with our Outside Adventures. Try your hand at the 3 legged race or maybe you’d like to try a potato sack race. For ages 3-12. \nTo register\, email mtuniacke@cehpubliclibrary.ca or call 902-866-0124.
URL:https://www.lovemylibrary.ca/event/outside-adventures/
LOCATION:Mount Uniacke Library\, 555\, Highway 1\, Mount Uniacke\, Nova Scotia\, Canada
CATEGORIES:Events For Kids,Location: Mount Uniacke
ATTACH;FMTTYPE=image/png:https://www.lovemylibrary.ca/wp-content/uploads/2023/06/Your-paragraph-text-5.png
END:VEVENT
BEGIN:VEVENT
DTSTART;TZID=America/Halifax:20230808T173000
DTEND;TZID=America/Halifax:20230808T193000
DTSTAMP:20260419T204157
CREATED:20230614T193807Z
LAST-MODIFIED:20230704T185547Z
UID:10004644-1691515800-1691523000@www.lovemylibrary.ca
SUMMARY:Dungeons & Dragons (Youth)
DESCRIPTION:Ready to embark on a fantasy adventure? Join us at the Elmsdale library for action\, drama\, and dice! No experience required; all materials provided! For ages 10-13 \nRegistration required.  Please call at 902-883-9838 or email us at elmsdale@cehpubliclibrary.ca to register 
URL:https://www.lovemylibrary.ca/event/dungeons-dragons-youth/2023-08-08/
LOCATION:Elmsdale Library\, 15 Commerce Ct\, Elmsdale\, Nova Scotia\, Canada
CATEGORIES:Events For Kids,Events For Teens,Location: Elmsdale
ATTACH;FMTTYPE=image/png:https://www.lovemylibrary.ca/wp-content/uploads/2022/06/D-and-D.png
END:VEVENT
BEGIN:VEVENT
DTSTART;TZID=America/Halifax:20230808T173000
DTEND;TZID=America/Halifax:20230808T200000
DTSTAMP:20260419T204157
CREATED:20221116T204822Z
LAST-MODIFIED:20230919T183845Z
UID:10004719-1691515800-1691524800@www.lovemylibrary.ca
SUMMARY:Heroes & Adventurers
DESCRIPTION:Role-playing game nights with extraordinary people! We provide the supplies\, you provide the imagination. No experience needed. All ages welcome! \nRegister to play by emailing: HAATruro@gmail.com Sorry\, no drop-in players at this time.
URL:https://www.lovemylibrary.ca/event/heroes-adventurers-3/2023-08-08/
LOCATION:Truro Library\, 754 Prince St\, Truro\, Nova Scotia\, Canada
CATEGORIES:Location: Truro
ATTACH;FMTTYPE=image/png:https://www.lovemylibrary.ca/wp-content/uploads/2022/06/D-and-D.png
END:VEVENT
BEGIN:VEVENT
DTSTART;TZID=America/Halifax:20230808T183000
DTEND;TZID=America/Halifax:20230808T193000
DTSTAMP:20260419T204157
CREATED:20230627T224005Z
LAST-MODIFIED:20230627T224005Z
UID:10004619-1691519400-1691523000@www.lovemylibrary.ca
SUMMARY:Teen Pizza Party
DESCRIPTION:It’s going to be a cheesy good time with fun\, games and music! For ages 13-18 \nTo register: email Stewiacke@cehpubliclibrary.ca
URL:https://www.lovemylibrary.ca/event/teen-pizza-party/
LOCATION:Stewiacke Library\, 295 George Street\, Stewiacke\, Nova Scotia\, Canada
CATEGORIES:Events For Teens,Location: Stewiacke
ATTACH;FMTTYPE=image/png:https://www.lovemylibrary.ca/wp-content/uploads/2023/06/Untitled-design-98-1.png
END:VEVENT
BEGIN:VEVENT
DTSTART;TZID=America/Halifax:20230808T183000
DTEND;TZID=America/Halifax:20230808T193000
DTSTAMP:20260419T204157
CREATED:20230717T184959Z
LAST-MODIFIED:20230717T184959Z
UID:10004705-1691519400-1691523000@www.lovemylibrary.ca
SUMMARY:The Life-Changing Experience of Being a Big Brother or Big Sister
DESCRIPTION:Big Brothers Big Sisters of Colchester plays a vital role in our communities. Join us to hear about what it’s like to be a Big Brother or Big Sister\, and how we all can help them continue to support children in our communities. This is an adult program. \nThis is a drop in program. No registration is required.
URL:https://www.lovemylibrary.ca/event/the-life-changing-experience-of-being-a-big-brother-or-big-sister/
LOCATION:Truro Library\, 754 Prince St\, Truro\, Nova Scotia\, Canada
CATEGORIES:Events For Adults
ATTACH;FMTTYPE=image/png:https://www.lovemylibrary.ca/wp-content/uploads/2023/07/Untitled-design-2023-07-17T155548.949.png
END:VEVENT
BEGIN:VEVENT
DTSTART;TZID=America/Halifax:20230808T183000
DTEND;TZID=America/Halifax:20230808T200000
DTSTAMP:20260419T204157
CREATED:20221020T193052Z
LAST-MODIFIED:20230926T211554Z
UID:10004475-1691519400-1691524800@www.lovemylibrary.ca
SUMMARY:Ewe-niacke Yarn Club
DESCRIPTION:Fiber art for all ages and abilities. Learn to knit or crochet\, bring a project you are working on\, or just come hang out with the club for some social time. All ages welcome. \nDrop in\, no registration required.
URL:https://www.lovemylibrary.ca/event/ewe-niacke-yarn-club-3/2023-08-08/
LOCATION:Mount Uniacke Library\, 555\, Highway 1\, Mount Uniacke\, Nova Scotia\, Canada
CATEGORIES:Crafting,Events For Adults,Events For Kids,Events For Seniors,Location: Mount Uniacke
ATTACH;FMTTYPE=image/png:https://www.lovemylibrary.ca/wp-content/uploads/2022/03/Untitled-design-89.png
END:VEVENT
BEGIN:VEVENT
DTSTART;TZID=America/Halifax:20230809T100000
DTEND;TZID=America/Halifax:20230809T130000
DTSTAMP:20260419T204157
CREATED:20230612T191045Z
LAST-MODIFIED:20230612T191045Z
UID:10004494-1691575200-1691586000@www.lovemylibrary.ca
SUMMARY:5-minute Craft
DESCRIPTION:Drop into the branch and try a quick craft. All crafts should only take about 5 minutes. We provide all the supplies and an example you can follow – or use your imagination and make something one of a kind! All ages. \nNo registration required.
URL:https://www.lovemylibrary.ca/event/5-minute-craft/2023-08-09/
LOCATION:Mount Uniacke Library\, 555\, Highway 1\, Mount Uniacke\, Nova Scotia\, Canada
CATEGORIES:Events For Kids,Location: Mount Uniacke
ATTACH;FMTTYPE=image/png:https://www.lovemylibrary.ca/wp-content/uploads/2023/06/Your-paragraph-text-7.png
END:VEVENT
BEGIN:VEVENT
DTSTART;TZID=America/Halifax:20230809T103000
DTEND;TZID=America/Halifax:20230809T113000
DTSTAMP:20260419T204157
CREATED:20230629T195242Z
LAST-MODIFIED:20230630T144535Z
UID:10004425-1691577000-1691580600@www.lovemylibrary.ca
SUMMARY:Summer Stories
DESCRIPTION:Join us for story time\, songs and social time. For ages 0-6 \nThis is a drop in program. No registration is required.
URL:https://www.lovemylibrary.ca/event/story-time-and-craft-2/2023-08-09/
LOCATION:Tatamagouche Library\, 170 Main Street\, Tatamagouche\, Nova Scotia\, Canada
CATEGORIES:Events For Kids,Location: Tatamagouche
ATTACH;FMTTYPE=image/png:https://www.lovemylibrary.ca/wp-content/uploads/2022/04/Untitled-design-98.png
END:VEVENT
BEGIN:VEVENT
DTSTART;TZID=America/Halifax:20230809T110000
DTEND;TZID=America/Halifax:20230809T120000
DTSTAMP:20260419T204157
CREATED:20221025T221701Z
LAST-MODIFIED:20250705T143002Z
UID:10002283-1691578800-1691582400@www.lovemylibrary.ca
SUMMARY:Meet the Puppets
DESCRIPTION:Are you a fan of furry friends? Have you been longing to meet your favourite puppets? Come in to the Big Brothers Big Sisters Program Room for your chance to hang with the gang! All ages are welcome\n\nThis is a drop-in program. No registration is required.
URL:https://www.lovemylibrary.ca/event/puppet-open-house/
LOCATION:Truro Library\, 754 Prince St\, Truro\, Nova Scotia\, Canada
CATEGORIES:Events For Kids,Location: Truro
ATTACH;FMTTYPE=image/png:https://www.lovemylibrary.ca/wp-content/uploads/2022/10/Untitled-design-20.png
END:VEVENT
BEGIN:VEVENT
DTSTART;TZID=America/Halifax:20230809T110000
DTEND;TZID=America/Halifax:20230809T120000
DTSTAMP:20260419T204157
CREATED:20230614T194611Z
LAST-MODIFIED:20230628T192918Z
UID:10004649-1691578800-1691582400@www.lovemylibrary.ca
SUMMARY:Youth Writing Circle
DESCRIPTION:Do you enjoy writing?  Meet us at the library to share your stories and hone your craft. For ages 9-14 \nThis is a drop in program. No registration is required. For details\, please call 902-883-9838 or email us at elmsdale@cehpubliclibrary.ca
URL:https://www.lovemylibrary.ca/event/youth-writing-circle/2023-08-09/
LOCATION:Nova Scotia
CATEGORIES:Events For Kids,Events For Teens,Location: Elmsdale
ATTACH;FMTTYPE=image/png:https://www.lovemylibrary.ca/wp-content/uploads/2023/06/Untitled-design-93-1.png
END:VEVENT
BEGIN:VEVENT
DTSTART;TZID=America/Halifax:20230809T130000
DTEND;TZID=America/Halifax:20230809T150000
DTSTAMP:20260419T204158
CREATED:20230218T202830Z
LAST-MODIFIED:20230919T161657Z
UID:10004709-1691586000-1691593200@www.lovemylibrary.ca
SUMMARY:Makers in the Maker Lab
DESCRIPTION:Calling all Makers! Drop by for a relaxing afternoon to hang out with fellow crafters. Bring along your ongoing projects like knitting\, crochet\, needlework\, painting or other hands on crafts. For adults \nThis is a drop in program. No registration is required.\n 
URL:https://www.lovemylibrary.ca/event/makers-in-the-maker-lab-2/2023-08-09/
LOCATION:Truro Library\, 754 Prince St\, Truro\, Nova Scotia\, Canada
CATEGORIES:Crafting,Events For Adults,Location: Truro
ATTACH;FMTTYPE=image/png:https://www.lovemylibrary.ca/wp-content/uploads/2023/01/Untitled-design-2023-01-24T155257.327.png
END:VEVENT
BEGIN:VEVENT
DTSTART;TZID=America/Halifax:20230809T143000
DTEND;TZID=America/Halifax:20230809T153000
DTSTAMP:20260419T204158
CREATED:20230629T174921Z
LAST-MODIFIED:20230629T174921Z
UID:10004668-1691591400-1691595000@www.lovemylibrary.ca
SUMMARY:Get Messy: Puffy Paint
DESCRIPTION:Join us and make puffy paint art! What will you create? For ages 5-12. \nNo registration required.
URL:https://www.lovemylibrary.ca/event/get-messy-puffy-paint/
LOCATION:Truro Library\, 754 Prince St\, Truro\, Nova Scotia\, Canada
CATEGORIES:Events For Kids,Location: Truro
ATTACH;FMTTYPE=image/png:https://www.lovemylibrary.ca/wp-content/uploads/2023/06/Untitled-design-2023-06-29T145458.820.png
END:VEVENT
BEGIN:VEVENT
DTSTART;TZID=America/Halifax:20230809T143000
DTEND;TZID=America/Halifax:20230809T190000
DTSTAMP:20260419T204158
CREATED:20210830T161210Z
LAST-MODIFIED:20231213T141030Z
UID:10006157-1691591400-1691607600@www.lovemylibrary.ca
SUMMARY:Satellite Library Visit: Middle Stewiacke Recreation Centre
DESCRIPTION:Meet us at the Middle Stewiacke Recreation Centre where you can browse and borrow materials\, sign up for a Library card\, and use the public WiFi!
URL:https://www.lovemylibrary.ca/event/satellite-library-visit-middle-stewiacke-recreation-centre/2023-08-09/
LOCATION:Middle Stewiacke Recreation Centre\, 2395 Highway 289\, Middle Stewiacke\, Nova Scotia\, Canada
CATEGORIES:Events For Adults,Events For Kids,Events For Seniors,Events For Teens,Location: Middle Stewiacke
ATTACH;FMTTYPE=image/jpeg:https://www.lovemylibrary.ca/wp-content/uploads/2021/08/16.jpg
END:VEVENT
BEGIN:VEVENT
DTSTART;TZID=America/Halifax:20230809T183000
DTEND;TZID=America/Halifax:20230809T193000
DTSTAMP:20260419T204158
CREATED:20230629T175104Z
LAST-MODIFIED:20230629T175104Z
UID:10004669-1691605800-1691609400@www.lovemylibrary.ca
SUMMARY:Escape Room
DESCRIPTION:Discover clues\, decipher codes\, and solve puzzles. Can you beat the time and break out? For ages 8-14. \nNo registration required.
URL:https://www.lovemylibrary.ca/event/escape-room/
LOCATION:Truro Library\, 754 Prince St\, Truro\, Nova Scotia\, Canada
CATEGORIES:Events For Kids,Location: Truro
ATTACH;FMTTYPE=image/png:https://www.lovemylibrary.ca/wp-content/uploads/2023/06/Untitled-design-2023-06-29T145654.751.png
END:VEVENT
BEGIN:VEVENT
DTSTART;TZID=America/Halifax:20230809T183000
DTEND;TZID=America/Halifax:20230809T193000
DTSTAMP:20260419T204158
CREATED:20230726T141911Z
LAST-MODIFIED:20230726T141911Z
UID:10004725-1691605800-1691609400@www.lovemylibrary.ca
SUMMARY:Voices for Change: The calamitous cost of housing – and the many factors undermining affordability with Dr. Jill Grant
DESCRIPTION:Everyone is aware of the current housing crisis in Canada – and in many other nations. Not only is housing hard to find\, but it has grown increasingly unaffordable. Political leaders call for ‘cutting red tape’ and reducing local development fees while housing advocates call on governments to provide more resources to help individuals and households in need. In this talk\, Dr. Grant will discuss the array of factors contributing to the calamitous cost and inadequate supply of housing and consider what it may take to begin to improve the situation. \nAbout the Speaker: Dr. JIll Grant is a Professor Emeritus at Dalhousie University. Dr. Grant’s research examines planning theory and practice to understand how cities work and how planning can improve places that are important to us. \nThis talk is part of our Voices for Change speaker series. No registration is required.
URL:https://www.lovemylibrary.ca/event/voices-for-change-the-calamitous-cost-of-housing-and-the-many-factors-undermining-affordability-with-dr-jill-grant/
LOCATION:Truro Library\, 754 Prince St\, Truro\, Nova Scotia\, Canada
CATEGORIES:Events For Adults,Location: Truro
ATTACH;FMTTYPE=image/png:https://www.lovemylibrary.ca/wp-content/uploads/2023/07/Untitled-design-2023-07-26T112515.848.png
END:VEVENT
BEGIN:VEVENT
DTSTART;TZID=America/Halifax:20230810T103000
DTEND;TZID=America/Halifax:20230810T113000
DTSTAMP:20260419T204158
CREATED:20230613T210632Z
LAST-MODIFIED:20230629T174311Z
UID:10004664-1691663400-1691667000@www.lovemylibrary.ca
SUMMARY:Summer Storytime Series
DESCRIPTION:Join us for stories\, songs\, and activities perfect for little ones and their families! All ages are welcome. \nThis is a drop in program. No registration is required.
URL:https://www.lovemylibrary.ca/event/summer-storytime-series/2023-08-10/
LOCATION:Truro Library\, 754 Prince St\, Truro\, Nova Scotia\, Canada
CATEGORIES:Events For Kids,Location: Truro
ATTACH;FMTTYPE=image/png:https://www.lovemylibrary.ca/wp-content/uploads/2022/09/Untitled-design-38.png
END:VEVENT
BEGIN:VEVENT
DTSTART;TZID=America/Halifax:20230810T110000
DTEND;TZID=America/Halifax:20230810T123000
DTSTAMP:20260419T204158
CREATED:20230710T121813Z
LAST-MODIFIED:20230710T121813Z
UID:10004703-1691665200-1691670600@www.lovemylibrary.ca
SUMMARY:Drive into Summer with STEM!
DESCRIPTION:Come on down to the Elmsdale Library where we are going to be building giant motion machines using Sci-STEM Busy Builder pieces. You can build vehicles either from a variety of different instructions – or you can have a go at it using your own imagination! Explore the science of motion this summer and enjoy this fun STEM activity. \nFor ages 5-12. Drop-in\, no registration required.
URL:https://www.lovemylibrary.ca/event/drive-into-summer-with-stem/
LOCATION:Elmsdale Library\, 15 Commerce Ct\, Elmsdale\, Nova Scotia\, Canada
CATEGORIES:Events For Kids,Location: Elmsdale
ATTACH;FMTTYPE=image/png:https://www.lovemylibrary.ca/wp-content/uploads/2023/07/Untitled-design-2023-07-10T092419.451.png
END:VEVENT
BEGIN:VEVENT
DTSTART;TZID=America/Halifax:20230810T140000
DTEND;TZID=America/Halifax:20230810T160000
DTSTAMP:20260419T204158
CREATED:20230613T203815Z
LAST-MODIFIED:20230613T203815Z
UID:10004527-1691676000-1691683200@www.lovemylibrary.ca
SUMMARY:Teen Room Drop In
DESCRIPTION:Get out of the sun this summer in the newly reopened Teen Room!  Grab a snack\, play some games\, make art\, or just hang out with old friends or new ones! For ages 13-18 \nThis is a drop in program. No registration is required.
URL:https://www.lovemylibrary.ca/event/teen-room-drop-in-2/2023-08-10/
LOCATION:Truro Library\, 754 Prince St\, Truro\, Nova Scotia\, Canada
CATEGORIES:Events For Teens,Location: Truro
ATTACH;FMTTYPE=image/png:https://www.lovemylibrary.ca/wp-content/uploads/2023/06/Untitled-design-78.png
END:VEVENT
BEGIN:VEVENT
DTSTART;TZID=America/Halifax:20230810T140000
DTEND;TZID=America/Halifax:20230810T160000
DTSTAMP:20260419T204158
CREATED:20230627T224436Z
LAST-MODIFIED:20230627T224436Z
UID:10004620-1691676000-1691683200@www.lovemylibrary.ca
SUMMARY:Yes! You Can Be an Author/Illustrator
DESCRIPTION:Calling all budding wordsmiths and artisans….. Share your stories and drawings. We will laminate them and have them available here at the branch for others to enjoy/borrow. For ages 6-16 \nThis is a drop in program. No registration is required.
URL:https://www.lovemylibrary.ca/event/yes-you-can-be-an-author-illustrator/
LOCATION:Stewiacke Library\, 295 George Street\, Stewiacke\, Nova Scotia\, Canada
CATEGORIES:Events For Kids,Events For Teens,Location: Stewiacke
ATTACH;FMTTYPE=image/png:https://www.lovemylibrary.ca/wp-content/uploads/2023/06/Untitled-design-99-1.png
END:VEVENT
BEGIN:VEVENT
DTSTART;TZID=America/Halifax:20230810T143000
DTEND;TZID=America/Halifax:20230810T160000
DTSTAMP:20260419T204158
CREATED:20230629T175240Z
LAST-MODIFIED:20230629T175240Z
UID:10004670-1691677800-1691683200@www.lovemylibrary.ca
SUMMARY:Get Messy!: Slime
DESCRIPTION:Slime Time! Choose your slime\, choose your add ins\, and get your own personalized slime to take home! For ages 5-12. \nNo registration required.
URL:https://www.lovemylibrary.ca/event/get-messy-slime/
LOCATION:Truro Library\, 754 Prince St\, Truro\, Nova Scotia\, Canada
CATEGORIES:Events For Kids,Location: Truro
ATTACH;FMTTYPE=image/png:https://www.lovemylibrary.ca/wp-content/uploads/2023/06/Untitled-design-2023-06-29T145828.745.png
END:VEVENT
BEGIN:VEVENT
DTSTART;TZID=America/Halifax:20230810T173000
DTEND;TZID=America/Halifax:20230810T193000
DTSTAMP:20260419T204158
CREATED:20230215T203141Z
LAST-MODIFIED:20230919T213828Z
UID:10004641-1691688600-1691695800@www.lovemylibrary.ca
SUMMARY:Adult Board Games Night
DESCRIPTION:Get your game on! Come on out for an evening of board games. This is your chance to play some old favourites or learn a new one. For teens and adults. \nThis is a drop-in program. No registration is required. Please call 902-883-9838 or email at elmsdale@cehpubliclibrary.ca for more details
URL:https://www.lovemylibrary.ca/event/adult-board-games-night-6-2/2023-08-10/
LOCATION:Elmsdale Library\, 15 Commerce Ct\, Elmsdale\, Nova Scotia\, Canada
CATEGORIES:Events For Adults,Events For Seniors,Events For Teens,Location: Elmsdale
ATTACH;FMTTYPE=image/png:https://www.lovemylibrary.ca/wp-content/uploads/2023/02/Untitled-design-2023-05-16T103613.895.png
END:VEVENT
BEGIN:VEVENT
DTSTART;TZID=America/Halifax:20230811T100000
DTEND;TZID=America/Halifax:20230811T110000
DTSTAMP:20260419T204158
CREATED:20230609T171053Z
LAST-MODIFIED:20230630T124627Z
UID:10004692-1691748000-1691751600@www.lovemylibrary.ca
SUMMARY:English for Beginners
DESCRIPTION:Is English your second language? If you are wanting to learn English\, then we can help. Learn English with Eve. All are welcome. \nRegistration by phone 902-657-3064 or email: tatamago@cehpubliclibrary.ca
URL:https://www.lovemylibrary.ca/event/english-for-beginners-2-2/2023-08-11/
LOCATION:Tatamagouche Library\, 170 Main Street\, Tatamagouche\, Nova Scotia\, Canada
CATEGORIES:Location: Tatamagouche
ATTACH;FMTTYPE=image/jpeg:https://www.lovemylibrary.ca/wp-content/uploads/2023/03/pexels-tima-miroshnichenko-5428012-scaled.jpg
END:VEVENT
BEGIN:VEVENT
DTSTART;TZID=America/Halifax:20230811T100000
DTEND;TZID=America/Halifax:20230811T120000
DTSTAMP:20260419T204158
CREATED:20230215T201212Z
LAST-MODIFIED:20231214T201545Z
UID:10004636-1691748000-1691755200@www.lovemylibrary.ca
SUMMARY:One on One Tech Help
DESCRIPTION:Issues with your phone? Laptop? Social Media? Meet in-person with our digital literacy trainer to get your tech questions answered. \nPlease call 902-883-9838 or email at elmsdale@cehpubliclibrary.ca to book an appointment
URL:https://www.lovemylibrary.ca/event/one-on-one-tech-help-7-2/2023-08-11/
LOCATION:Elmsdale Library\, 15 Commerce Ct\, Elmsdale\, Nova Scotia\, Canada
CATEGORIES:Events For Adults,Location: Elmsdale
ATTACH;FMTTYPE=image/png:https://www.lovemylibrary.ca/wp-content/uploads/2022/03/Untitled-design-80.png
END:VEVENT
END:VCALENDAR