BEGIN:VCALENDAR
VERSION:2.0
PRODID:-//Colchester East Hants Public Library - ECPv6.15.20//NONSGML v1.0//EN
CALSCALE:GREGORIAN
METHOD:PUBLISH
X-WR-CALNAME:Colchester East Hants Public Library
X-ORIGINAL-URL:https://www.lovemylibrary.ca
X-WR-CALDESC:Events for Colchester East Hants Public Library
REFRESH-INTERVAL;VALUE=DURATION:PT1H
X-Robots-Tag:noindex
X-PUBLISHED-TTL:PT1H
BEGIN:VTIMEZONE
TZID:America/Halifax
BEGIN:DAYLIGHT
TZOFFSETFROM:-0400
TZOFFSETTO:-0300
TZNAME:ADT
DTSTART:20220313T060000
END:DAYLIGHT
BEGIN:STANDARD
TZOFFSETFROM:-0300
TZOFFSETTO:-0400
TZNAME:AST
DTSTART:20221106T050000
END:STANDARD
BEGIN:DAYLIGHT
TZOFFSETFROM:-0400
TZOFFSETTO:-0300
TZNAME:ADT
DTSTART:20230312T060000
END:DAYLIGHT
BEGIN:STANDARD
TZOFFSETFROM:-0300
TZOFFSETTO:-0400
TZNAME:AST
DTSTART:20231105T050000
END:STANDARD
BEGIN:DAYLIGHT
TZOFFSETFROM:-0400
TZOFFSETTO:-0300
TZNAME:ADT
DTSTART:20240310T060000
END:DAYLIGHT
BEGIN:STANDARD
TZOFFSETFROM:-0300
TZOFFSETTO:-0400
TZNAME:AST
DTSTART:20241103T050000
END:STANDARD
END:VTIMEZONE
BEGIN:VEVENT
DTSTART;VALUE=DATE:20230901
DTEND;VALUE=DATE:20240101
DTSTAMP:20260420T013210
CREATED:20230825T180640Z
LAST-MODIFIED:20230825T180640Z
UID:10004816-1693526400-1704067199@www.lovemylibrary.ca
SUMMARY:Mount Uniacke Book Challenge 2023.
DESCRIPTION:Read or listen to something new each month and earn a ballot for a monthly\, quarterly\, and yearly prize. Each month is a new genre to try. All ages are welcome to participate. \nThis is a drop in program. No registration is required.
URL:https://www.lovemylibrary.ca/event/mount-uniacke-book-challenge-2023/
LOCATION:Mount Uniacke Library\, 555\, Highway 1\, Mount Uniacke\, Nova Scotia\, Canada
CATEGORIES:Location: Mount Uniacke
ATTACH;FMTTYPE=image/jpeg:https://www.lovemylibrary.ca/wp-content/uploads/2023/08/pexels-pixabay-159711-scaled.jpg
END:VEVENT
BEGIN:VEVENT
DTSTART;TZID=America/Halifax:20230911T133000
DTEND;TZID=America/Halifax:20230911T163000
DTSTAMP:20260420T013210
CREATED:20221026T175545Z
LAST-MODIFIED:20230919T182903Z
UID:10004770-1694439000-1694449800@www.lovemylibrary.ca
SUMMARY:Scrabble Group
DESCRIPTION:What spells F-U-N? Playing Scrabble with friends! \nThis is a drop-in program.  No registration is required.
URL:https://www.lovemylibrary.ca/event/scrabble-group-3-2/2023-09-11/
LOCATION:Truro Library\, 754 Prince St\, Truro\, Nova Scotia\, Canada
CATEGORIES:Events For Adults,Events For Seniors,Location: Truro
ATTACH;FMTTYPE=image/png:https://www.lovemylibrary.ca/wp-content/uploads/2022/05/Add-a-subheading-700-×-500-px-3.png
END:VEVENT
BEGIN:VEVENT
DTSTART;TZID=America/Halifax:20230912T110000
DTEND;TZID=America/Halifax:20230912T120000
DTSTAMP:20260420T013210
CREATED:20230823T161102Z
LAST-MODIFIED:20231211T181524Z
UID:10004138-1694516400-1694520000@www.lovemylibrary.ca
SUMMARY:Conversational English
DESCRIPTION:Is English your 2nd language? Or maybe your 4th? Our Conversational English program is for those who would like to practice their English in a fun and friendly environment. In partnership with YREACH. \nThis is a drop-in program.  No registration is required.
URL:https://www.lovemylibrary.ca/event/conversational-english-2-2-2-2-2/2023-09-12/
LOCATION:Truro Library\, 754 Prince St\, Truro\, Nova Scotia\, Canada
CATEGORIES:Events For Adults,Events For Seniors,Location: Truro
ATTACH;FMTTYPE=image/jpeg:https://www.lovemylibrary.ca/wp-content/uploads/2021/08/13.jpg
END:VEVENT
BEGIN:VEVENT
DTSTART;TZID=America/Halifax:20230912T140000
DTEND;TZID=America/Halifax:20230912T170000
DTSTAMP:20260420T013210
CREATED:20230825T174138Z
LAST-MODIFIED:20230926T210755Z
UID:10004801-1694527200-1694538000@www.lovemylibrary.ca
SUMMARY:Afterschool Survival
DESCRIPTION:Time to unwind\, get your homework done\, play on the computer\, or just hang out with your friends. For ages 8-15 \nThis is a drop in program. No registration is required.
URL:https://www.lovemylibrary.ca/event/afterschool-survival/2023-09-12/
LOCATION:Mount Uniacke Library\, 555\, Highway 1\, Mount Uniacke\, Nova Scotia\, Canada
CATEGORIES:Events For Kids,Events For Teens,Location: Mount Uniacke
ATTACH;FMTTYPE=image/png:https://www.lovemylibrary.ca/wp-content/uploads/2023/08/Untitled-design-99.png
END:VEVENT
BEGIN:VEVENT
DTSTART;TZID=America/Halifax:20230912T150000
DTEND;TZID=America/Halifax:20230912T163000
DTSTAMP:20260420T013210
CREATED:20221025T215043Z
LAST-MODIFIED:20230905T220447Z
UID:10004822-1694530800-1694536200@www.lovemylibrary.ca
SUMMARY:Teen Room Drop In
DESCRIPTION:Come hang out\, grab a snack\, play some Mario Kart on our new Nintendo Switch\, or make art. \nAges 13-18 \nThis is a drop-in program. No registration is required.
URL:https://www.lovemylibrary.ca/event/teen-room-drop-in/2023-09-12/
LOCATION:Truro Library\, 754 Prince St\, Truro\, Nova Scotia\, Canada
CATEGORIES:Events For Teens,Location: Truro
ATTACH;FMTTYPE=image/png:https://www.lovemylibrary.ca/wp-content/uploads/2022/10/Untitled-design-53.png
END:VEVENT
BEGIN:VEVENT
DTSTART;TZID=America/Halifax:20230912T173000
DTEND;TZID=America/Halifax:20230912T200000
DTSTAMP:20260420T013210
CREATED:20221116T204822Z
LAST-MODIFIED:20230919T183845Z
UID:10004774-1694539800-1694548800@www.lovemylibrary.ca
SUMMARY:Heroes & Adventurers
DESCRIPTION:Role-playing game nights with extraordinary people! We provide the supplies\, you provide the imagination. No experience needed. All ages welcome! \nRegister to play by emailing: HAATruro@gmail.com Sorry\, no drop-in players at this time.
URL:https://www.lovemylibrary.ca/event/heroes-adventurers-3/2023-09-12/
LOCATION:Truro Library\, 754 Prince St\, Truro\, Nova Scotia\, Canada
CATEGORIES:Location: Truro
ATTACH;FMTTYPE=image/png:https://www.lovemylibrary.ca/wp-content/uploads/2022/06/D-and-D.png
END:VEVENT
BEGIN:VEVENT
DTSTART;TZID=America/Halifax:20230912T183000
DTEND;TZID=America/Halifax:20230912T193000
DTSTAMP:20260420T013210
CREATED:20230823T161548Z
LAST-MODIFIED:20230823T161548Z
UID:10004762-1694543400-1694547000@www.lovemylibrary.ca
SUMMARY:Welcome Week Social
DESCRIPTION:Are you ready to embark on a journey of new friendships and learning? Do you want to celebrate cultures and traditions in their many forms? Join us as we celebrate Welcome Week and provide an opportunity to meet and connect with newcomers to our community. Refreshments will be available. In partnership with YREACH. \nNo registration is required.
URL:https://www.lovemylibrary.ca/event/welcome-week-social/
LOCATION:Truro Library\, 754 Prince St\, Truro\, Nova Scotia\, Canada
CATEGORIES:Events For Adults,Location: Truro
ATTACH;FMTTYPE=image/png:https://www.lovemylibrary.ca/wp-content/uploads/2023/08/Untitled-design-100.png
END:VEVENT
BEGIN:VEVENT
DTSTART;TZID=America/Halifax:20230912T183000
DTEND;TZID=America/Halifax:20230912T200000
DTSTAMP:20260420T013210
CREATED:20221020T193052Z
LAST-MODIFIED:20230926T211554Z
UID:10004813-1694543400-1694548800@www.lovemylibrary.ca
SUMMARY:Ewe-niacke Yarn Club
DESCRIPTION:Fiber art for all ages and abilities. Learn to knit or crochet\, bring a project you are working on\, or just come hang out with the club for some social time. All ages welcome. \nDrop in\, no registration required.
URL:https://www.lovemylibrary.ca/event/ewe-niacke-yarn-club-3/2023-09-12/
LOCATION:Mount Uniacke Library\, 555\, Highway 1\, Mount Uniacke\, Nova Scotia\, Canada
CATEGORIES:Crafting,Events For Adults,Events For Kids,Events For Seniors,Location: Mount Uniacke
ATTACH;FMTTYPE=image/png:https://www.lovemylibrary.ca/wp-content/uploads/2022/03/Untitled-design-89.png
END:VEVENT
BEGIN:VEVENT
DTSTART;TZID=America/Halifax:20230913T103000
DTEND;TZID=America/Halifax:20230913T110000
DTSTAMP:20260420T013210
CREATED:20230825T170353Z
LAST-MODIFIED:20230926T210634Z
UID:10004792-1694601000-1694602800@www.lovemylibrary.ca
SUMMARY:Storytime
DESCRIPTION:Enjoy a picture book read by Karri or Bernie and then participate in an activity. For pre schoolers and home schoolers. \nThis is a drop-in program. No registration is required.
URL:https://www.lovemylibrary.ca/event/storytime-4-2-2/2023-09-13/
LOCATION:Mount Uniacke Library\, 555\, Highway 1\, Mount Uniacke\, Nova Scotia\, Canada
CATEGORIES:Events For Kids,Location: Mount Uniacke
ATTACH;FMTTYPE=image/png:https://www.lovemylibrary.ca/wp-content/uploads/2022/05/Untitled-design-2.png
END:VEVENT
BEGIN:VEVENT
DTSTART;TZID=America/Halifax:20230913T103000
DTEND;TZID=America/Halifax:20230913T113000
DTSTAMP:20260420T013210
CREATED:20230823T170208Z
LAST-MODIFIED:20231222T175502Z
UID:10004399-1694601000-1694604600@www.lovemylibrary.ca
SUMMARY:Parents and Tots Story Time and Crafts
DESCRIPTION:Come along and enjoy an hour of fun filled story time and craft.  For ages 0+ \nDrop-in\, no registration required.
URL:https://www.lovemylibrary.ca/event/tots-and-moms-social-time-3-2-2/2023-09-13/
LOCATION:Tatamagouche Library\, 170 Main Street\, Tatamagouche\, Nova Scotia\, Canada
CATEGORIES:Events For Kids,Location: Tatamagouche
ATTACH;FMTTYPE=image/png:https://www.lovemylibrary.ca/wp-content/uploads/2022/03/Untitled-design-75.png
END:VEVENT
BEGIN:VEVENT
DTSTART;TZID=America/Halifax:20230913T130000
DTEND;TZID=America/Halifax:20230913T150000
DTSTAMP:20260420T013210
CREATED:20230218T202830Z
LAST-MODIFIED:20230919T161657Z
UID:10004766-1694610000-1694617200@www.lovemylibrary.ca
SUMMARY:Makers in the Maker Lab
DESCRIPTION:Calling all Makers! Drop by for a relaxing afternoon to hang out with fellow crafters. Bring along your ongoing projects like knitting\, crochet\, needlework\, painting or other hands on crafts. For adults \nThis is a drop in program. No registration is required.\n 
URL:https://www.lovemylibrary.ca/event/makers-in-the-maker-lab-2/2023-09-13/
LOCATION:Truro Library\, 754 Prince St\, Truro\, Nova Scotia\, Canada
CATEGORIES:Crafting,Events For Adults,Location: Truro
ATTACH;FMTTYPE=image/png:https://www.lovemylibrary.ca/wp-content/uploads/2023/01/Untitled-design-2023-01-24T155257.327.png
END:VEVENT
BEGIN:VEVENT
DTSTART;TZID=America/Halifax:20230913T180000
DTEND;TZID=America/Halifax:20230913T190000
DTSTAMP:20260420T013210
CREATED:20221025T214754Z
LAST-MODIFIED:20230905T220106Z
UID:10002272-1694628000-1694631600@www.lovemylibrary.ca
SUMMARY:Art Attack: Back to School Swag
DESCRIPTION:Start the school year in style! Use shrink plastic and melty beads to craft and create awesome accessories for your backpack\, binders\, and more! Ages 8-14 \nThis is a drop-in program. No registration is required.
URL:https://www.lovemylibrary.ca/event/art-attack-fall-scratch-art/
LOCATION:Truro Library\, 754 Prince St\, Truro\, Nova Scotia\, Canada
CATEGORIES:Crafting,Events For Kids,Events For Teens,Location: Truro
ATTACH;FMTTYPE=image/png:https://www.lovemylibrary.ca/wp-content/uploads/2022/10/Untitled-design-2023-09-05T190029.304.png
END:VEVENT
BEGIN:VEVENT
DTSTART;TZID=America/Halifax:20230914T080000
DTEND;TZID=America/Halifax:20230914T170000
DTSTAMP:20260420T013210
CREATED:20230816T145033Z
LAST-MODIFIED:20231025T190529Z
UID:10005644-1694678400-1694710800@www.lovemylibrary.ca
SUMMARY:Creative Storytime
DESCRIPTION:Come along and enjoy an hour of fun filled story time and craft. For children ages 2-5 \nRegistration required – Please call at 902-883-9838 or email us at elmsdale@cehpubliclibrary.ca for more details
URL:https://www.lovemylibrary.ca/event/creative-storytime/2023-09-14/1/
LOCATION:Elmsdale Library\, 15 Commerce Ct\, Elmsdale\, Nova Scotia\, Canada
CATEGORIES:Events For Kids
ATTACH;FMTTYPE=image/png:https://www.lovemylibrary.ca/wp-content/uploads/2023/08/Untitled-design-2023-08-16T115649.114.png
END:VEVENT
BEGIN:VEVENT
DTSTART;TZID=America/Halifax:20230914T103000
DTEND;TZID=America/Halifax:20230914T110000
DTSTAMP:20260420T013210
CREATED:20230821T191235Z
LAST-MODIFIED:20230920T182107Z
UID:10004742-1694687400-1694689200@www.lovemylibrary.ca
SUMMARY:Baby Rhyme Time
DESCRIPTION:Discover the joy of songs\, finger plays \, bouncing rhymes and simple books. Suitable for Infant-2 years old with a caregiver \nThis is an in-person program. No registration is required.
URL:https://www.lovemylibrary.ca/event/baby-rhyme-time-6-2/2023-09-14/
LOCATION:Stewiacke Library\, 295 George Street\, Stewiacke\, Nova Scotia\, Canada
CATEGORIES:Events For Kids,Location: Stewiacke
ATTACH;FMTTYPE=image/png:https://www.lovemylibrary.ca/wp-content/uploads/2022/03/Untitled-design-75.png
END:VEVENT
BEGIN:VEVENT
DTSTART;TZID=America/Halifax:20230914T110000
DTEND;TZID=America/Halifax:20230914T112000
DTSTAMP:20260420T013210
CREATED:20230905T220254Z
LAST-MODIFIED:20231117T203537Z
UID:10004255-1694689200-1694690400@www.lovemylibrary.ca
SUMMARY:Tales for Tots
DESCRIPTION:Join us Thursday mornings for stories\, songs\, and activities that are just right for terrific toddlers! \n18 months-4 years with a parent/caregiver. \nDrop-in\, no registration required.
URL:https://www.lovemylibrary.ca/event/tales-for-tots-2/2023-09-14/
LOCATION:Truro Library\, 754 Prince St\, Truro\, Nova Scotia\, Canada
CATEGORIES:Events For Kids,Location: Truro
ATTACH;FMTTYPE=image/png:https://www.lovemylibrary.ca/wp-content/uploads/2022/03/Untitled-design-81.png
END:VEVENT
BEGIN:VEVENT
DTSTART;TZID=America/Halifax:20230914T130000
DTEND;TZID=America/Halifax:20230914T140000
DTSTAMP:20260420T013210
CREATED:20230816T145033Z
LAST-MODIFIED:20231025T190529Z
UID:10004734-1694696400-1694700000@www.lovemylibrary.ca
SUMMARY:Creative Storytime
DESCRIPTION:Come along and enjoy an hour of fun filled story time and craft. For children ages 2-5 \nRegistration required – Please call at 902-883-9838 or email us at elmsdale@cehpubliclibrary.ca for more details
URL:https://www.lovemylibrary.ca/event/creative-storytime/2023-09-14/2/
LOCATION:Elmsdale Library\, 15 Commerce Ct\, Elmsdale\, Nova Scotia\, Canada
CATEGORIES:Events For Kids
ATTACH;FMTTYPE=image/png:https://www.lovemylibrary.ca/wp-content/uploads/2023/08/Untitled-design-2023-08-16T115649.114.png
END:VEVENT
BEGIN:VEVENT
DTSTART;TZID=America/Halifax:20230914T140000
DTEND;TZID=America/Halifax:20230914T170000
DTSTAMP:20260420T013210
CREATED:20230825T174138Z
LAST-MODIFIED:20230926T210755Z
UID:10004802-1694700000-1694710800@www.lovemylibrary.ca
SUMMARY:Afterschool Survival
DESCRIPTION:Time to unwind\, get your homework done\, play on the computer\, or just hang out with your friends. For ages 8-15 \nThis is a drop in program. No registration is required.
URL:https://www.lovemylibrary.ca/event/afterschool-survival/2023-09-14/
LOCATION:Mount Uniacke Library\, 555\, Highway 1\, Mount Uniacke\, Nova Scotia\, Canada
CATEGORIES:Events For Kids,Events For Teens,Location: Mount Uniacke
ATTACH;FMTTYPE=image/png:https://www.lovemylibrary.ca/wp-content/uploads/2023/08/Untitled-design-99.png
END:VEVENT
BEGIN:VEVENT
DTSTART;TZID=America/Halifax:20230914T150000
DTEND;TZID=America/Halifax:20230914T163000
DTSTAMP:20260420T013211
CREATED:20221025T215043Z
LAST-MODIFIED:20230905T220447Z
UID:10004823-1694703600-1694709000@www.lovemylibrary.ca
SUMMARY:Teen Room Drop In
DESCRIPTION:Come hang out\, grab a snack\, play some Mario Kart on our new Nintendo Switch\, or make art. \nAges 13-18 \nThis is a drop-in program. No registration is required.
URL:https://www.lovemylibrary.ca/event/teen-room-drop-in/2023-09-14/
LOCATION:Truro Library\, 754 Prince St\, Truro\, Nova Scotia\, Canada
CATEGORIES:Events For Teens,Location: Truro
ATTACH;FMTTYPE=image/png:https://www.lovemylibrary.ca/wp-content/uploads/2022/10/Untitled-design-53.png
END:VEVENT
BEGIN:VEVENT
DTSTART;TZID=America/Halifax:20230914T180000
DTEND;TZID=America/Halifax:20230914T193000
DTSTAMP:20260420T013211
CREATED:20230531T163638Z
LAST-MODIFIED:20231121T231959Z
UID:10004738-1694714400-1694719800@www.lovemylibrary.ca
SUMMARY:Mindfulness Meditation
DESCRIPTION:We invite you to explore the practice of mindfulness and enjoy a time of meditation. Learn about how mindfulness can enhance your everyday living. Ages 14+ \nPlease call us at 902-883-9838 or email us at elmsdale@cehpubliclibrary.ca to register
URL:https://www.lovemylibrary.ca/event/mindfulness-meditation-2/2023-09-14/
LOCATION:Elmsdale Library\, 15 Commerce Ct\, Elmsdale\, Nova Scotia\, Canada
CATEGORIES:Events For Adults,Events For Teens,Location: Elmsdale
ATTACH;FMTTYPE=image/png:https://www.lovemylibrary.ca/wp-content/uploads/2023/03/Untitled-design-51.png
END:VEVENT
BEGIN:VEVENT
DTSTART;TZID=America/Halifax:20230914T183000
DTEND;TZID=America/Halifax:20230914T193000
DTSTAMP:20260420T013211
CREATED:20230823T171150Z
LAST-MODIFIED:20231026T183008Z
UID:10005544-1694716200-1694719800@www.lovemylibrary.ca
SUMMARY:Music Night
DESCRIPTION:Bring your own musical instrument and singing voice. This is an adult program. \nDrop in no registration required.
URL:https://www.lovemylibrary.ca/event/music-night/2023-09-14/
LOCATION:Tatamagouche Library\, 170 Main Street\, Tatamagouche\, Nova Scotia\, Canada
CATEGORIES:Events For Adults,Location: Tatamagouche
ATTACH;FMTTYPE=image/png:https://www.lovemylibrary.ca/wp-content/uploads/2023/08/Untitled-design-2023-08-23T141817.891.png
END:VEVENT
BEGIN:VEVENT
DTSTART;TZID=America/Halifax:20230915T100000
DTEND;TZID=America/Halifax:20230915T120000
DTSTAMP:20260420T013211
CREATED:20230215T201212Z
LAST-MODIFIED:20231214T201545Z
UID:10004728-1694772000-1694779200@www.lovemylibrary.ca
SUMMARY:One on One Tech Help
DESCRIPTION:Issues with your phone? Laptop? Social Media? Meet in-person with our digital literacy trainer to get your tech questions answered. \nPlease call 902-883-9838 or email at elmsdale@cehpubliclibrary.ca to book an appointment
URL:https://www.lovemylibrary.ca/event/one-on-one-tech-help-7-2/2023-09-15/
LOCATION:Elmsdale Library\, 15 Commerce Ct\, Elmsdale\, Nova Scotia\, Canada
CATEGORIES:Events For Adults,Location: Elmsdale
ATTACH;FMTTYPE=image/png:https://www.lovemylibrary.ca/wp-content/uploads/2022/03/Untitled-design-80.png
END:VEVENT
BEGIN:VEVENT
DTSTART;TZID=America/Halifax:20230915T103000
DTEND;TZID=America/Halifax:20230915T110000
DTSTAMP:20260420T013211
CREATED:20230821T191521Z
LAST-MODIFIED:20230920T182312Z
UID:10004745-1694773800-1694775600@www.lovemylibrary.ca
SUMMARY:Picture Book Junction
DESCRIPTION:Fun and Interactive! Share the magic of stories\, songs and crafts. Suitable For 3-5 years old with a caregiver. \nThis is a drop in program. No registration is necessary.\n 
URL:https://www.lovemylibrary.ca/event/picture-book-junction-6-2/2023-09-15/
LOCATION:Stewiacke Library\, 295 George Street\, Stewiacke\, Nova Scotia\, Canada
CATEGORIES:Events For Kids,Location: Stewiacke
ATTACH;FMTTYPE=image/png:https://www.lovemylibrary.ca/wp-content/uploads/2022/03/Untitled-design-81.png
END:VEVENT
BEGIN:VEVENT
DTSTART;TZID=America/Halifax:20230915T130000
DTEND;TZID=America/Halifax:20230915T143000
DTSTAMP:20260420T013211
CREATED:20230821T191958Z
LAST-MODIFIED:20231025T162725Z
UID:10004751-1694782800-1694788200@www.lovemylibrary.ca
SUMMARY:Scrabble Squad
DESCRIPTION:What spells F-U-N? Playing Scrabble with friends. All adults welcome. \nThis is a drop-in program. No registration is required.
URL:https://www.lovemylibrary.ca/event/scrabble-squad-2/2023-09-15/
LOCATION:Stewiacke Library\, 295 George Street\, Stewiacke\, Nova Scotia\, Canada
CATEGORIES:Events For Adults,Events For Seniors,Location: Stewiacke
ATTACH;FMTTYPE=image/png:https://www.lovemylibrary.ca/wp-content/uploads/2022/05/Add-a-subheading-700-×-500-px-3.png
END:VEVENT
BEGIN:VEVENT
DTSTART;TZID=America/Halifax:20230915T130000
DTEND;TZID=America/Halifax:20230915T150000
DTSTAMP:20260420T013211
CREATED:20230816T145210Z
LAST-MODIFIED:20231214T202633Z
UID:10004293-1694782800-1694790000@www.lovemylibrary.ca
SUMMARY:Homeschoolers Hangout
DESCRIPTION:Learn and explore at the library! We want to be part of your education experience. For ages 5-18 \nThis is a drop in – call 902-883-9838 or email elmsdale@cehpubliclibrary.ca for more details
URL:https://www.lovemylibrary.ca/event/homeschoolers-hangout-2/2023-09-15/
LOCATION:Elmsdale Library\, 15 Commerce Ct\, Elmsdale\, Nova Scotia\, Canada
CATEGORIES:Events For Kids,Events For Teens,Location: Elmsdale
ATTACH;FMTTYPE=image/png:https://www.lovemylibrary.ca/wp-content/uploads/2022/07/Untitled-design-9.png
END:VEVENT
BEGIN:VEVENT
DTSTART;TZID=America/Halifax:20230915T140000
DTEND;TZID=America/Halifax:20230915T150000
DTSTAMP:20260420T013211
CREATED:20230821T191752Z
LAST-MODIFIED:20231025T162625Z
UID:10005612-1694786400-1694790000@www.lovemylibrary.ca
SUMMARY:Walking Club
DESCRIPTION:Mind your distance! Strava will map our walk\, record distance and provide a satellite image.Meet at the library at 2 and enjoy a walk around town. All adults welcome. \nThis is a drop-in program. No registration is required.
URL:https://www.lovemylibrary.ca/event/walking-club-5-2/2023-09-15/
LOCATION:Stewiacke Library\, 295 George Street\, Stewiacke\, Nova Scotia\, Canada
CATEGORIES:Events For Adults,Events For Seniors,Location: Stewiacke
ATTACH;FMTTYPE=image/png:https://www.lovemylibrary.ca/wp-content/uploads/2022/05/Untitled-design-2022-05-02T165147.740.png
END:VEVENT
BEGIN:VEVENT
DTSTART;TZID=America/Halifax:20230915T140000
DTEND;TZID=America/Halifax:20230915T170000
DTSTAMP:20260420T013211
CREATED:20230825T174138Z
LAST-MODIFIED:20230926T210755Z
UID:10004803-1694786400-1694797200@www.lovemylibrary.ca
SUMMARY:Afterschool Survival
DESCRIPTION:Time to unwind\, get your homework done\, play on the computer\, or just hang out with your friends. For ages 8-15 \nThis is a drop in program. No registration is required.
URL:https://www.lovemylibrary.ca/event/afterschool-survival/2023-09-15/
LOCATION:Mount Uniacke Library\, 555\, Highway 1\, Mount Uniacke\, Nova Scotia\, Canada
CATEGORIES:Events For Kids,Events For Teens,Location: Mount Uniacke
ATTACH;FMTTYPE=image/png:https://www.lovemylibrary.ca/wp-content/uploads/2023/08/Untitled-design-99.png
END:VEVENT
BEGIN:VEVENT
DTSTART;TZID=America/Halifax:20230916T103000
DTEND;TZID=America/Halifax:20230916T110000
DTSTAMP:20260420T013211
CREATED:20230825T170353Z
LAST-MODIFIED:20230926T210634Z
UID:10004793-1694860200-1694862000@www.lovemylibrary.ca
SUMMARY:Storytime
DESCRIPTION:Enjoy a picture book read by Karri or Bernie and then participate in an activity. For pre schoolers and home schoolers. \nThis is a drop-in program. No registration is required.
URL:https://www.lovemylibrary.ca/event/storytime-4-2-2/2023-09-16/
LOCATION:Mount Uniacke Library\, 555\, Highway 1\, Mount Uniacke\, Nova Scotia\, Canada
CATEGORIES:Events For Kids,Location: Mount Uniacke
ATTACH;FMTTYPE=image/png:https://www.lovemylibrary.ca/wp-content/uploads/2022/05/Untitled-design-2.png
END:VEVENT
BEGIN:VEVENT
DTSTART;TZID=America/Halifax:20230916T110000
DTEND;TZID=America/Halifax:20230916T120000
DTSTAMP:20260420T013211
CREATED:20230823T172855Z
LAST-MODIFIED:20230823T172855Z
UID:10004783-1694862000-1694865600@www.lovemylibrary.ca
SUMMARY:Design your vase
DESCRIPTION:Make a beautiful vase for Fall flowers. All seniors are welcome. \nRegistration by phone 902-657-3064 or email: tatamago@cehpubliclibrary.ca
URL:https://www.lovemylibrary.ca/event/design-your-vase/
LOCATION:Tatamagouche Library\, 170 Main Street\, Tatamagouche\, Nova Scotia\, Canada
CATEGORIES:Crafting,Events For Seniors
ATTACH;FMTTYPE=image/png:https://www.lovemylibrary.ca/wp-content/uploads/2023/08/Untitled-design-2023-08-23T143522.432.png
END:VEVENT
BEGIN:VEVENT
DTSTART;TZID=America/Halifax:20230916T140000
DTEND;TZID=America/Halifax:20230916T150000
DTSTAMP:20260420T013211
CREATED:20221018T153340Z
LAST-MODIFIED:20231222T154016Z
UID:10005471-1694872800-1694876400@www.lovemylibrary.ca
SUMMARY:Lego Club
DESCRIPTION:Activate your creativity and imagination! We will proudly display what you build in our children’s area. For ages 5-100 \nThis is a drop-in program. No registration is required.
URL:https://www.lovemylibrary.ca/event/lego-club-5/2023-09-16/
LOCATION:Stewiacke Library\, 295 George Street\, Stewiacke\, Nova Scotia\, Canada
CATEGORIES:Events For Kids,Location: Stewiacke
ATTACH;FMTTYPE=image/png:https://www.lovemylibrary.ca/wp-content/uploads/2022/06/Untitled-design-20.png
END:VEVENT
BEGIN:VEVENT
DTSTART;TZID=America/Halifax:20230916T140000
DTEND;TZID=America/Halifax:20230916T160000
DTSTAMP:20260420T013211
CREATED:20230822T154953Z
LAST-MODIFIED:20230908T130025Z
UID:10004758-1694872800-1694880000@www.lovemylibrary.ca
SUMMARY:Indigenous blanket exercise learning circle workshop
DESCRIPTION:This in-person workshop brings people together to explore truths that are integral to the reconciliation process. Guided by experienced facilitators from Santele’s Healing Circles\, participants are actively involved on a journey through the historic and contemporary relationship between Indigenous and non-Indigenous peoples. The journey spans centuries\, from pre-European contact to treaty-making\, colonization\, resistance\, and perseverance. This event is for everyone ages 18+. \nTo register\, email info@cehpubliclibrary.ca
URL:https://www.lovemylibrary.ca/event/indigenous-blanket-exercise-learning-circle-workshop/
LOCATION:Truro Library\, 754 Prince St\, Truro\, Nova Scotia\, Canada
CATEGORIES:Events For Adults,Location: Truro
ATTACH;FMTTYPE=image/png:https://www.lovemylibrary.ca/wp-content/uploads/2023/08/Untitled-design-2023-08-22T125431.080.png
END:VEVENT
END:VCALENDAR