BEGIN:VCALENDAR
VERSION:2.0
PRODID:-//Colchester East Hants Public Library - ECPv6.15.20//NONSGML v1.0//EN
CALSCALE:GREGORIAN
METHOD:PUBLISH
X-ORIGINAL-URL:https://www.lovemylibrary.ca
X-WR-CALDESC:Events for Colchester East Hants Public Library
REFRESH-INTERVAL;VALUE=DURATION:PT1H
X-Robots-Tag:noindex
X-PUBLISHED-TTL:PT1H
BEGIN:VTIMEZONE
TZID:America/Halifax
BEGIN:DAYLIGHT
TZOFFSETFROM:-0400
TZOFFSETTO:-0300
TZNAME:ADT
DTSTART:20230312T060000
END:DAYLIGHT
BEGIN:STANDARD
TZOFFSETFROM:-0300
TZOFFSETTO:-0400
TZNAME:AST
DTSTART:20231105T050000
END:STANDARD
BEGIN:DAYLIGHT
TZOFFSETFROM:-0400
TZOFFSETTO:-0300
TZNAME:ADT
DTSTART:20240310T060000
END:DAYLIGHT
BEGIN:STANDARD
TZOFFSETFROM:-0300
TZOFFSETTO:-0400
TZNAME:AST
DTSTART:20241103T050000
END:STANDARD
BEGIN:DAYLIGHT
TZOFFSETFROM:-0400
TZOFFSETTO:-0300
TZNAME:ADT
DTSTART:20250309T060000
END:DAYLIGHT
BEGIN:STANDARD
TZOFFSETFROM:-0300
TZOFFSETTO:-0400
TZNAME:AST
DTSTART:20251102T050000
END:STANDARD
END:VTIMEZONE
BEGIN:VEVENT
DTSTART;TZID=America/Halifax:20240227T170000
DTEND;TZID=America/Halifax:20240326T180000
DTSTAMP:20260421T012521
CREATED:20230911T181215Z
LAST-MODIFIED:20241213T193251Z
UID:10010637-1709053200-1711476000@www.lovemylibrary.ca
SUMMARY:Paws to Read ®
DESCRIPTION:The Paws to Read program offers kids a safe environment to practice reading aloud to an attentive and adorable audience. Children build confidence and reading skills in one-on-one sessions with therapy dogs. Participants attend 5 weekly half-hour sessions with a trained therapy dog volunteer and a certified handler. For children in grades 1-5 \nIn-Person. Registration is required. For details\, please call us at (902) 883-9838 or email us at elmsdale@cehpubliclibrary.ca
URL:https://www.lovemylibrary.ca/event/paws-to-read/2024-02-27/
LOCATION:Elmsdale Library\, 15 Commerce Ct\, Elmsdale\, Nova Scotia\, Canada
CATEGORIES:Events For Kids,Location: Elmsdale
ATTACH;FMTTYPE=image/png:https://www.lovemylibrary.ca/wp-content/uploads/2023/09/Untitled-design-2023-09-11T151119.554.png
END:VEVENT
BEGIN:VEVENT
DTSTART;TZID=America/Halifax:20240305T170000
DTEND;TZID=America/Halifax:20240402T180000
DTSTAMP:20260421T012521
CREATED:20230911T181215Z
LAST-MODIFIED:20241213T193251Z
UID:10010638-1709658000-1712080800@www.lovemylibrary.ca
SUMMARY:Paws to Read ®
DESCRIPTION:The Paws to Read program offers kids a safe environment to practice reading aloud to an attentive and adorable audience. Children build confidence and reading skills in one-on-one sessions with therapy dogs. Participants attend 5 weekly half-hour sessions with a trained therapy dog volunteer and a certified handler. For children in grades 1-5 \nIn-Person. Registration is required. For details\, please call us at (902) 883-9838 or email us at elmsdale@cehpubliclibrary.ca
URL:https://www.lovemylibrary.ca/event/paws-to-read/2024-03-05/
LOCATION:Elmsdale Library\, 15 Commerce Ct\, Elmsdale\, Nova Scotia\, Canada
CATEGORIES:Events For Kids,Location: Elmsdale
ATTACH;FMTTYPE=image/png:https://www.lovemylibrary.ca/wp-content/uploads/2023/09/Untitled-design-2023-09-11T151119.554.png
END:VEVENT
BEGIN:VEVENT
DTSTART;TZID=America/Halifax:20240312T170000
DTEND;TZID=America/Halifax:20240409T180000
DTSTAMP:20260421T012521
CREATED:20230911T181215Z
LAST-MODIFIED:20241213T193251Z
UID:10010639-1710262800-1712685600@www.lovemylibrary.ca
SUMMARY:Paws to Read ®
DESCRIPTION:The Paws to Read program offers kids a safe environment to practice reading aloud to an attentive and adorable audience. Children build confidence and reading skills in one-on-one sessions with therapy dogs. Participants attend 5 weekly half-hour sessions with a trained therapy dog volunteer and a certified handler. For children in grades 1-5 \nIn-Person. Registration is required. For details\, please call us at (902) 883-9838 or email us at elmsdale@cehpubliclibrary.ca
URL:https://www.lovemylibrary.ca/event/paws-to-read/2024-03-12/
LOCATION:Elmsdale Library\, 15 Commerce Ct\, Elmsdale\, Nova Scotia\, Canada
CATEGORIES:Events For Kids,Location: Elmsdale
ATTACH;FMTTYPE=image/png:https://www.lovemylibrary.ca/wp-content/uploads/2023/09/Untitled-design-2023-09-11T151119.554.png
END:VEVENT
BEGIN:VEVENT
DTSTART;TZID=America/Halifax:20240319T170000
DTEND;TZID=America/Halifax:20240416T180000
DTSTAMP:20260421T012521
CREATED:20230911T181215Z
LAST-MODIFIED:20241213T193251Z
UID:10010640-1710867600-1713290400@www.lovemylibrary.ca
SUMMARY:Paws to Read ®
DESCRIPTION:The Paws to Read program offers kids a safe environment to practice reading aloud to an attentive and adorable audience. Children build confidence and reading skills in one-on-one sessions with therapy dogs. Participants attend 5 weekly half-hour sessions with a trained therapy dog volunteer and a certified handler. For children in grades 1-5 \nIn-Person. Registration is required. For details\, please call us at (902) 883-9838 or email us at elmsdale@cehpubliclibrary.ca
URL:https://www.lovemylibrary.ca/event/paws-to-read/2024-03-19/
LOCATION:Elmsdale Library\, 15 Commerce Ct\, Elmsdale\, Nova Scotia\, Canada
CATEGORIES:Events For Kids,Location: Elmsdale
ATTACH;FMTTYPE=image/png:https://www.lovemylibrary.ca/wp-content/uploads/2023/09/Untitled-design-2023-09-11T151119.554.png
END:VEVENT
BEGIN:VEVENT
DTSTART;TZID=America/Halifax:20240325T133000
DTEND;TZID=America/Halifax:20240325T163000
DTSTAMP:20260421T012521
CREATED:20240221T223919Z
LAST-MODIFIED:20240221T223919Z
UID:10007377-1711373400-1711384200@www.lovemylibrary.ca
SUMMARY:Scrabble Group
DESCRIPTION:What spells F-U-N? Playing Scrabble with friends! \nThis is a drop-in event. No registration is required.
URL:https://www.lovemylibrary.ca/event/scrabble-group-5/2024-03-25/
LOCATION:Truro Library\, 754 Prince St\, Truro\, Nova Scotia\, Canada
CATEGORIES:Events For Adults,Events For Seniors,Location: Truro
ATTACH;FMTTYPE=image/png:https://www.lovemylibrary.ca/wp-content/uploads/2022/05/Add-a-subheading-700-×-500-px-3.png
END:VEVENT
BEGIN:VEVENT
DTSTART;TZID=America/Halifax:20240326T110000
DTEND;TZID=America/Halifax:20240326T120000
DTSTAMP:20260421T012521
CREATED:20240221T221535Z
LAST-MODIFIED:20240221T221535Z
UID:10007361-1711450800-1711454400@www.lovemylibrary.ca
SUMMARY:Conversational English
DESCRIPTION:Is English your 2nd language? Or maybe your 4th? Our Conversational English program is for those who would like to practice their English in a fun and friendly environment. In partnership with YREACH. \nThis is a drop-in event. No registration is required.
URL:https://www.lovemylibrary.ca/event/conversational-english-5/2024-03-26/
LOCATION:Truro Library\, 754 Prince St\, Truro\, Nova Scotia\, Canada
CATEGORIES:Events For Adults,Location: Truro
ATTACH;FMTTYPE=image/jpeg:https://www.lovemylibrary.ca/wp-content/uploads/2021/08/13.jpg
END:VEVENT
BEGIN:VEVENT
DTSTART;TZID=America/Halifax:20240326T130000
DTEND;TZID=America/Halifax:20240326T160000
DTSTAMP:20260421T012521
CREATED:20240215T205546Z
LAST-MODIFIED:20240305T232808Z
UID:10007241-1711458000-1711468800@www.lovemylibrary.ca
SUMMARY:Crochet Creations- (Cancelled March 12th)
DESCRIPTION:Crocheting is the perfect hobby for all ages. · Have an afternoon snack and enjoy camaraderie and friendship. · Learn a new skill or perfect your technique. · All skill levels welcome. For ages 8 and up. \nThis is a drop in program. No registration is required.
URL:https://www.lovemylibrary.ca/event/crochet-creations/2024-03-26/
LOCATION:Stewiacke Library\, 295 George Street\, Stewiacke\, Nova Scotia\, Canada
CATEGORIES:Crafting,Events For Adults,Events For Kids,Location: Stewiacke
ATTACH;FMTTYPE=image/png:https://www.lovemylibrary.ca/wp-content/uploads/2023/12/Untitled-design-2023-12-01T141205.610.png
END:VEVENT
BEGIN:VEVENT
DTSTART;TZID=America/Halifax:20240326T133000
DTEND;TZID=America/Halifax:20240326T150000
DTSTAMP:20260421T012521
CREATED:20231120T203025Z
LAST-MODIFIED:20240326T211358Z
UID:10007250-1711459800-1711465200@www.lovemylibrary.ca
SUMMARY:Homeschoolers Haven
DESCRIPTION:Homeschoolers Haven is a place for Homeschool families to meet and share resources. There will be  activities for the children.   For ages 5+ \nThis is a drop-in program. No registration is required.
URL:https://www.lovemylibrary.ca/event/homeschoolers-haven-2-2-2/2024-03-26/
LOCATION:Truro Library\, 754 Prince St\, Truro\, Nova Scotia\, Canada
CATEGORIES:Events For Kids,Events For Teens,Location: Truro
ATTACH;FMTTYPE=image/png:https://www.lovemylibrary.ca/wp-content/uploads/2022/07/Untitled-design-9.png
END:VEVENT
BEGIN:VEVENT
DTSTART;TZID=America/Halifax:20240326T143000
DTEND;TZID=America/Halifax:20240326T170000
DTSTAMP:20260421T012521
CREATED:20240221T182238Z
LAST-MODIFIED:20240521T210710Z
UID:10007316-1711463400-1711472400@www.lovemylibrary.ca
SUMMARY:Afterschool Chill Zone
DESCRIPTION:Relax and have fun after school with computers\, books\, and games in the chill zone. For ages 8-14 \nThis is a drop-in program. No registration is required.
URL:https://www.lovemylibrary.ca/event/after-school-chill-zone-with-games-and-craft-2/2024-03-26/
LOCATION:Tatamagouche Library\, 170 Main Street\, Tatamagouche\, Nova Scotia\, Canada
CATEGORIES:Events For Kids,Location: Tatamagouche
ATTACH;FMTTYPE=image/jpeg:https://www.lovemylibrary.ca/wp-content/uploads/2023/02/pexels-artem-podrez-8087869-scaled.jpg
END:VEVENT
BEGIN:VEVENT
DTSTART;TZID=America/Halifax:20240326T150000
DTEND;TZID=America/Halifax:20240326T163000
DTSTAMP:20260421T012521
CREATED:20230918T182106Z
LAST-MODIFIED:20240326T211453Z
UID:10007255-1711465200-1711470600@www.lovemylibrary.ca
SUMMARY:Teen Room Drop In
DESCRIPTION:Come hang out\, grab a snack\, play some Mario Kart on our new Nintendo Switch\, or make art. \nAges 13-18 \nThis is a drop-in program. No registration is required.
URL:https://www.lovemylibrary.ca/event/teen-room-drop-in-3/2024-03-26/
LOCATION:Truro Library\, 754 Prince St\, Truro\, Nova Scotia\, Canada
ATTACH;FMTTYPE=image/png:https://www.lovemylibrary.ca/wp-content/uploads/2022/10/Untitled-design-53.png
END:VEVENT
BEGIN:VEVENT
DTSTART;TZID=America/Halifax:20240326T150000
DTEND;TZID=America/Halifax:20240326T170000
DTSTAMP:20260421T012521
CREATED:20231117T191601Z
LAST-MODIFIED:20240326T211917Z
UID:10007271-1711465200-1711472400@www.lovemylibrary.ca
SUMMARY:Maker Lab Fun Time
DESCRIPTION:Curious about the Maker Lab? Come on in and explore. Program robots\, create circuits\, build with magnetic tiles\, and more! All ages are welcome. \nThis is a drop in program. No registration is required.
URL:https://www.lovemylibrary.ca/event/maker-lab-fun-time-3/2024-03-26/
LOCATION:Truro Library\, 754 Prince St\, Truro\, Nova Scotia\, Canada
CATEGORIES:Events For Kids,Location: Truro,STEAM Programs
ATTACH;FMTTYPE=image/png:https://www.lovemylibrary.ca/wp-content/uploads/2023/09/Untitled-design-2023-09-29T143321.527.png
END:VEVENT
BEGIN:VEVENT
DTSTART;TZID=America/Halifax:20240326T170000
DTEND;TZID=America/Halifax:20240423T180000
DTSTAMP:20260421T012521
CREATED:20230911T181215Z
LAST-MODIFIED:20241213T193251Z
UID:10010641-1711472400-1713895200@www.lovemylibrary.ca
SUMMARY:Paws to Read ®
DESCRIPTION:The Paws to Read program offers kids a safe environment to practice reading aloud to an attentive and adorable audience. Children build confidence and reading skills in one-on-one sessions with therapy dogs. Participants attend 5 weekly half-hour sessions with a trained therapy dog volunteer and a certified handler. For children in grades 1-5 \nIn-Person. Registration is required. For details\, please call us at (902) 883-9838 or email us at elmsdale@cehpubliclibrary.ca
URL:https://www.lovemylibrary.ca/event/paws-to-read/2024-03-26/
LOCATION:Elmsdale Library\, 15 Commerce Ct\, Elmsdale\, Nova Scotia\, Canada
CATEGORIES:Events For Kids,Location: Elmsdale
ATTACH;FMTTYPE=image/png:https://www.lovemylibrary.ca/wp-content/uploads/2023/09/Untitled-design-2023-09-11T151119.554.png
END:VEVENT
BEGIN:VEVENT
DTSTART;TZID=America/Halifax:20240326T173000
DTEND;TZID=America/Halifax:20240326T200000
DTSTAMP:20260421T012521
CREATED:20240221T224058Z
LAST-MODIFIED:20240221T224058Z
UID:10007385-1711474200-1711483200@www.lovemylibrary.ca
SUMMARY:Heroes & Adventurers
DESCRIPTION:Role-playing game nights with extraordinary people! We provide the supplies\, you provide the imagination. No experience needed. All welcome! \nRegister to play by emailing: HAATruro@gmail.com Sorry\, no drop-in players at this time.
URL:https://www.lovemylibrary.ca/event/heroes-adventurers-7/2024-03-26/
LOCATION:Truro Library\, 754 Prince St\, Truro\, Nova Scotia\, Canada
CATEGORIES:Events For Adults,Events For Kids,Events For Seniors,Events For Teens,Location: Truro
ATTACH;FMTTYPE=image/png:https://www.lovemylibrary.ca/wp-content/uploads/2022/06/D-and-D.png
END:VEVENT
BEGIN:VEVENT
DTSTART;TZID=America/Halifax:20240326T180000
DTEND;TZID=America/Halifax:20240326T190000
DTSTAMP:20260421T012521
CREATED:20240220T234346Z
LAST-MODIFIED:20240220T234346Z
UID:10007305-1711476000-1711479600@www.lovemylibrary.ca
SUMMARY:Knitters Social
DESCRIPTION:Join a friendly group of knitters and share your passion for yarn\, needles\, and patterns. All ages are welcome. \nThis is a drop in program. No registration is required.
URL:https://www.lovemylibrary.ca/event/knitters-social-2/
LOCATION:Tatamagouche Library\, 170 Main Street\, Tatamagouche\, Nova Scotia\, Canada
CATEGORIES:Crafting,Events For Adults,Events For Kids,Events For Seniors,Location: Tatamagouche
ATTACH;FMTTYPE=image/png:https://www.lovemylibrary.ca/wp-content/uploads/2022/03/Untitled-design-89.png
END:VEVENT
BEGIN:VEVENT
DTSTART;TZID=America/Halifax:20240326T183000
DTEND;TZID=America/Halifax:20240326T200000
DTSTAMP:20260421T012521
CREATED:20231229T142155Z
LAST-MODIFIED:20240320T180444Z
UID:10007345-1711477800-1711483200@www.lovemylibrary.ca
SUMMARY:Ewe-niacke Yarn Club
DESCRIPTION:Fiber art for all ages and abilities. Learn to knit or crochet\, bring a project you are working on\, or just come hang out with the club for some social time. All ages welcome. \nDrop in\, no registration required.
URL:https://www.lovemylibrary.ca/event/ewe-niacke-yarn-club-3-2/2024-03-26/
LOCATION:Mount Uniacke Library\, 555\, Highway 1\, Mount Uniacke\, Nova Scotia\, Canada
CATEGORIES:Crafting,Events For Adults,Events For Kids,Events For Seniors,Location: Mount Uniacke
ATTACH;FMTTYPE=image/png:https://www.lovemylibrary.ca/wp-content/uploads/2022/03/Untitled-design-89.png
END:VEVENT
BEGIN:VEVENT
DTSTART;TZID=America/Halifax:20240327T103000
DTEND;TZID=America/Halifax:20240327T110000
DTSTAMP:20260421T012521
CREATED:20231229T135634Z
LAST-MODIFIED:20240416T203006Z
UID:10007329-1711535400-1711537200@www.lovemylibrary.ca
SUMMARY:Storytime
DESCRIPTION:Enjoy a picture book read by Karri or Bernie and then participate in an activity. For pre schoolers and home schoolers. \nThis is a drop-in program. No registration is required.
URL:https://www.lovemylibrary.ca/event/storytime-4-2-2-2/2024-03-27/
LOCATION:Mount Uniacke Library\, 555\, Highway 1\, Mount Uniacke\, Nova Scotia\, Canada
CATEGORIES:Events For Kids,Location: Mount Uniacke
ATTACH;FMTTYPE=image/png:https://www.lovemylibrary.ca/wp-content/uploads/2022/05/Untitled-design-2.png
END:VEVENT
BEGIN:VEVENT
DTSTART;TZID=America/Halifax:20240327T103000
DTEND;TZID=America/Halifax:20240327T113000
DTSTAMP:20260421T012521
CREATED:20240220T225846Z
LAST-MODIFIED:20241121T202410Z
UID:10007297-1711535400-1711539000@www.lovemylibrary.ca
SUMMARY:Parents and Tots Story Time and Crafts
DESCRIPTION:Come along and enjoy an hour of fun filled story time and craft.  For ages 0+ \nDrop-in\, no registration required.
URL:https://www.lovemylibrary.ca/event/tots-and-moms-social-time-3-2-2-2/2024-03-27/
LOCATION:Tatamagouche Library\, 170 Main Street\, Tatamagouche\, Nova Scotia\, Canada
CATEGORIES:Events For Kids,Location: Tatamagouche
ATTACH;FMTTYPE=image/png:https://www.lovemylibrary.ca/wp-content/uploads/2022/03/Untitled-design-75.png
END:VEVENT
BEGIN:VEVENT
DTSTART;TZID=America/Halifax:20240327T110000
DTEND;TZID=America/Halifax:20240327T120000
DTSTAMP:20260421T012521
CREATED:20240221T223117Z
LAST-MODIFIED:20240221T223117Z
UID:10007362-1711537200-1711540800@www.lovemylibrary.ca
SUMMARY:Seniors Activity Hour
DESCRIPTION:Don’t let winter weather keep you at home! Our monthly seniors craft and social time will warm you inside and out. \nThis is a drop-in program. No registration required.
URL:https://www.lovemylibrary.ca/event/seniors-activity-hour-3/
LOCATION:Truro Library\, 754 Prince St\, Truro\, Nova Scotia\, Canada
CATEGORIES:Events For Adults,Events For Seniors,Location: Truro
ATTACH;FMTTYPE=image/png:https://www.lovemylibrary.ca/wp-content/uploads/2022/08/Untitled-design-6.png
END:VEVENT
BEGIN:VEVENT
DTSTART;TZID=America/Halifax:20240327T113000
DTEND;TZID=America/Halifax:20240327T123000
DTSTAMP:20260421T012521
CREATED:20230825T174721Z
LAST-MODIFIED:20240221T195050Z
UID:10004378-1711539000-1711542600@www.lovemylibrary.ca
SUMMARY:The Mind Readers
DESCRIPTION:We are discussing “The Old Man Who Climbed Out The Window and Disappeared”. Pick up a copy anytime in the month of March. This is an adult program. \nThis is a drop-in program. No registration is required.
URL:https://www.lovemylibrary.ca/event/the-mind-readers-2-2/
LOCATION:Mount Uniacke Library\, 555\, Highway 1\, Mount Uniacke\, Nova Scotia\, Canada
CATEGORIES:Events For Adults,Events For Seniors,Location: Mount Uniacke
ATTACH;FMTTYPE=image/png:https://www.lovemylibrary.ca/wp-content/uploads/2022/08/Untitled-700-×-500-px-9.png
END:VEVENT
BEGIN:VEVENT
DTSTART;TZID=America/Halifax:20240327T130000
DTEND;TZID=America/Halifax:20240327T150000
DTSTAMP:20260421T012521
CREATED:20240221T223715Z
LAST-MODIFIED:20240221T223715Z
UID:10007369-1711544400-1711551600@www.lovemylibrary.ca
SUMMARY:Makers in the Maker Lab
DESCRIPTION:Calling all Makers! Drop by for a relaxing afternoon to hang out with fellow crafters. Bring along your ongoing projects like knitting\, crochet\, needlework\, painting or other hands on crafts. \nNo registration\, drop in.
URL:https://www.lovemylibrary.ca/event/makers-in-the-maker-lab-7/2024-03-27/
LOCATION:Truro Library\, 754 Prince St\, Truro\, Nova Scotia\, Canada
CATEGORIES:Crafting,Events For Adults,Events For Seniors,Location: Truro
ATTACH;FMTTYPE=image/png:https://www.lovemylibrary.ca/wp-content/uploads/2023/01/Untitled-design-2023-01-24T155257.327.png
END:VEVENT
BEGIN:VEVENT
DTSTART;TZID=America/Halifax:20240327T143000
DTEND;TZID=America/Halifax:20240327T190000
DTSTAMP:20260421T012521
CREATED:20210830T161210Z
LAST-MODIFIED:20231213T141030Z
UID:10006168-1711549800-1711566000@www.lovemylibrary.ca
SUMMARY:Satellite Library Visit: Middle Stewiacke Recreation Centre
DESCRIPTION:Meet us at the Middle Stewiacke Recreation Centre where you can browse and borrow materials\, sign up for a Library card\, and use the public WiFi!
URL:https://www.lovemylibrary.ca/event/satellite-library-visit-middle-stewiacke-recreation-centre/2024-03-27/
LOCATION:Middle Stewiacke Recreation Centre\, 2395 Highway 289\, Middle Stewiacke\, Nova Scotia\, Canada
CATEGORIES:Events For Adults,Events For Kids,Events For Seniors,Events For Teens,Location: Middle Stewiacke
ATTACH;FMTTYPE=image/jpeg:https://www.lovemylibrary.ca/wp-content/uploads/2021/08/16.jpg
END:VEVENT
BEGIN:VEVENT
DTSTART;TZID=America/Halifax:20240328T100000
DTEND;TZID=America/Halifax:20240328T200000
DTSTAMP:20260421T012521
CREATED:20240215T191920Z
LAST-MODIFIED:20240215T191920Z
UID:10007201-1711620000-1711656000@www.lovemylibrary.ca
SUMMARY:Paper Mosaic Easter Egg
DESCRIPTION:Hop your way into the library!  We have all the materials you need to create your paper mosaic Easter egg. All ages. \nDrop in. Please call us at 902-883-9838 or email us at elmsdale@cehpubliclibrary.ca for more details
URL:https://www.lovemylibrary.ca/event/paper-mosaic-easter-egg/
LOCATION:Elmsdale Library\, 15 Commerce Ct\, Elmsdale\, Nova Scotia\, Canada
CATEGORIES:Crafting,Events For Adults,Events For Kids,Events For Teens,Location: Elmsdale
ATTACH;FMTTYPE=image/png:https://www.lovemylibrary.ca/wp-content/uploads/2024/02/Untitled-design-5.png
END:VEVENT
BEGIN:VEVENT
DTSTART;TZID=America/Halifax:20240328T110000
DTEND;TZID=America/Halifax:20240328T112000
DTSTAMP:20260421T012521
CREATED:20231221T204932Z
LAST-MODIFIED:20240326T212313Z
UID:10007276-1711623600-1711624800@www.lovemylibrary.ca
SUMMARY:Tales for Tots
DESCRIPTION:Join us Thursday mornings in the Big Brothers Big Sisters Room for stories\, songs\, and activities that are just right for terrific toddlers! \n18 months-4 years with a parent/caregiver. \nDrop-in\, no registration required.
URL:https://www.lovemylibrary.ca/event/tales-for-tots-2-2/2024-03-28/
LOCATION:Truro Library\, 754 Prince St\, Truro\, Nova Scotia\, Canada
CATEGORIES:Events For Kids,Location: Truro
ATTACH;FMTTYPE=image/png:https://www.lovemylibrary.ca/wp-content/uploads/2022/03/Untitled-design-81.png
END:VEVENT
BEGIN:VEVENT
DTSTART;TZID=America/Halifax:20240328T143000
DTEND;TZID=America/Halifax:20240328T150000
DTSTAMP:20260421T012521
CREATED:20240221T201845Z
LAST-MODIFIED:20240221T201845Z
UID:10007350-1711636200-1711638000@www.lovemylibrary.ca
SUMMARY:Easter Fun
DESCRIPTION:We are diamond painting eggs just in time for Easter.  For ages 5-15 \nRegister in branch or by email mtuniack@cehpubliclibrary.ca 
URL:https://www.lovemylibrary.ca/event/easter-fun/
LOCATION:Mount Uniacke Library\, 555\, Highway 1\, Mount Uniacke\, Nova Scotia\, Canada
CATEGORIES:Crafting,Events For Kids,Events For Teens,Location: Mount Uniacke
ATTACH;FMTTYPE=image/png:https://www.lovemylibrary.ca/wp-content/uploads/2024/02/Untitled-design-2024-02-20T194755.366.png
END:VEVENT
BEGIN:VEVENT
DTSTART;TZID=America/Halifax:20240328T143000
DTEND;TZID=America/Halifax:20240328T170000
DTSTAMP:20260421T012521
CREATED:20240221T182238Z
LAST-MODIFIED:20240521T210710Z
UID:10007317-1711636200-1711645200@www.lovemylibrary.ca
SUMMARY:Afterschool Chill Zone
DESCRIPTION:Relax and have fun after school with computers\, books\, and games in the chill zone. For ages 8-14 \nThis is a drop-in program. No registration is required.
URL:https://www.lovemylibrary.ca/event/after-school-chill-zone-with-games-and-craft-2/2024-03-28/
LOCATION:Tatamagouche Library\, 170 Main Street\, Tatamagouche\, Nova Scotia\, Canada
CATEGORIES:Events For Kids,Location: Tatamagouche
ATTACH;FMTTYPE=image/jpeg:https://www.lovemylibrary.ca/wp-content/uploads/2023/02/pexels-artem-podrez-8087869-scaled.jpg
END:VEVENT
BEGIN:VEVENT
DTSTART;TZID=America/Halifax:20240328T150000
DTEND;TZID=America/Halifax:20240328T163000
DTSTAMP:20260421T012521
CREATED:20230918T182106Z
LAST-MODIFIED:20240326T211453Z
UID:10007256-1711638000-1711643400@www.lovemylibrary.ca
SUMMARY:Teen Room Drop In
DESCRIPTION:Come hang out\, grab a snack\, play some Mario Kart on our new Nintendo Switch\, or make art. \nAges 13-18 \nThis is a drop-in program. No registration is required.
URL:https://www.lovemylibrary.ca/event/teen-room-drop-in-3/2024-03-28/
LOCATION:Truro Library\, 754 Prince St\, Truro\, Nova Scotia\, Canada
ATTACH;FMTTYPE=image/png:https://www.lovemylibrary.ca/wp-content/uploads/2022/10/Untitled-design-53.png
END:VEVENT
BEGIN:VEVENT
DTSTART;TZID=America/Halifax:20240328T150000
DTEND;TZID=America/Halifax:20240328T170000
DTSTAMP:20260421T012521
CREATED:20231117T191601Z
LAST-MODIFIED:20240326T211917Z
UID:10007272-1711638000-1711645200@www.lovemylibrary.ca
SUMMARY:Maker Lab Fun Time
DESCRIPTION:Curious about the Maker Lab? Come on in and explore. Program robots\, create circuits\, build with magnetic tiles\, and more! All ages are welcome. \nThis is a drop in program. No registration is required.
URL:https://www.lovemylibrary.ca/event/maker-lab-fun-time-3/2024-03-28/
LOCATION:Truro Library\, 754 Prince St\, Truro\, Nova Scotia\, Canada
CATEGORIES:Events For Kids,Location: Truro,STEAM Programs
ATTACH;FMTTYPE=image/png:https://www.lovemylibrary.ca/wp-content/uploads/2023/09/Untitled-design-2023-09-29T143321.527.png
END:VEVENT
BEGIN:VEVENT
DTSTART;TZID=America/Halifax:20240328T180000
DTEND;TZID=America/Halifax:20240328T190000
DTSTAMP:20260421T012521
CREATED:20240313T130113Z
LAST-MODIFIED:20240521T215413Z
UID:10007395-1711648800-1711652400@www.lovemylibrary.ca
SUMMARY:Knitters Social
DESCRIPTION:Bring your current project and share your passion for yarns\, needles\, hooks\, and patterns in a relaxed and environment. All ages are welcome. \nThis is a drop in program. No registration is required.
URL:https://www.lovemylibrary.ca/event/knitters-social-3/2024-03-28/
LOCATION:Tatamagouche Library\, 170 Main Street\, Tatamagouche\, Nova Scotia\, Canada
CATEGORIES:Crafting,Events For Adults,Events For Kids,Location: Tatamagouche
ATTACH;FMTTYPE=image/png:https://www.lovemylibrary.ca/wp-content/uploads/2024/03/Untitled-design-2024-03-13T100214.323.png
END:VEVENT
BEGIN:VEVENT
DTSTART;TZID=America/Halifax:20240328T180000
DTEND;TZID=America/Halifax:20240328T193000
DTSTAMP:20260421T012521
CREATED:20240215T175723Z
LAST-MODIFIED:20240215T175723Z
UID:10007196-1711648800-1711654200@www.lovemylibrary.ca
SUMMARY:Mindfulness Meditation
DESCRIPTION:We invite you to explore the practice of mindfulness and enjoy a time of meditation.   Learn about how mindfulness can enhance your everyday living. Ages 14+ \nRegistration is required.  Please call us at 902-883-9838 or email us at elmsdale@cehpubliclibrary.ca for more details
URL:https://www.lovemylibrary.ca/event/mindfulness-meditation-4/2024-03-28/
LOCATION:Elmsdale Library\, 15 Commerce Ct\, Elmsdale\, Nova Scotia\, Canada
CATEGORIES:Events For Adults,Events For Seniors,Events For Teens,Location: Elmsdale
ATTACH;FMTTYPE=image/png:https://www.lovemylibrary.ca/wp-content/uploads/2023/03/Untitled-design-51.png
END:VEVENT
BEGIN:VEVENT
DTSTART;TZID=America/Halifax:20240328T183000
DTEND;TZID=America/Halifax:20240328T193000
DTSTAMP:20260421T012521
CREATED:20240306T172834Z
LAST-MODIFIED:20240306T172834Z
UID:10007392-1711650600-1711654200@www.lovemylibrary.ca
SUMMARY:Voices for Change:  Dr. Rob Jamieson - Water Supplies in a Changing Climate
DESCRIPTION:Join Dr. Rob Jamieson for an engaging and timely presentation about the vulnerability of rural Nova Scotia drinking water supplies in a changing climate.  Dr. Jamieson is a Professor of Civil and Resource Engineering at Dalhousie University and holds a Canada Research Chair in Cold Regions Ecological Engineering. \nThis is a drop in program. No registration is required.
URL:https://www.lovemylibrary.ca/event/voices-for-change-dr-rob-jamieson-water-supplies-in-a-changing-climate/
LOCATION:Tatamagouche Library\, 170 Main Street\, Tatamagouche\, Nova Scotia\, Canada
CATEGORIES:Events For Adults,Location: Tatamagouche
ATTACH;FMTTYPE=image/png:https://www.lovemylibrary.ca/wp-content/uploads/2024/03/Untitled-design-2024-03-06T132936.724.png
END:VEVENT
END:VCALENDAR