BEGIN:VCALENDAR
VERSION:2.0
PRODID:-//Colchester East Hants Public Library - ECPv6.15.20//NONSGML v1.0//EN
CALSCALE:GREGORIAN
METHOD:PUBLISH
X-WR-CALNAME:Colchester East Hants Public Library
X-ORIGINAL-URL:https://www.lovemylibrary.ca
X-WR-CALDESC:Events for Colchester East Hants Public Library
REFRESH-INTERVAL;VALUE=DURATION:PT1H
X-Robots-Tag:noindex
X-PUBLISHED-TTL:PT1H
BEGIN:VTIMEZONE
TZID:America/Halifax
BEGIN:DAYLIGHT
TZOFFSETFROM:-0400
TZOFFSETTO:-0300
TZNAME:ADT
DTSTART:20230312T060000
END:DAYLIGHT
BEGIN:STANDARD
TZOFFSETFROM:-0300
TZOFFSETTO:-0400
TZNAME:AST
DTSTART:20231105T050000
END:STANDARD
BEGIN:DAYLIGHT
TZOFFSETFROM:-0400
TZOFFSETTO:-0300
TZNAME:ADT
DTSTART:20240310T060000
END:DAYLIGHT
BEGIN:STANDARD
TZOFFSETFROM:-0300
TZOFFSETTO:-0400
TZNAME:AST
DTSTART:20241103T050000
END:STANDARD
BEGIN:DAYLIGHT
TZOFFSETFROM:-0400
TZOFFSETTO:-0300
TZNAME:ADT
DTSTART:20250309T060000
END:DAYLIGHT
BEGIN:STANDARD
TZOFFSETFROM:-0300
TZOFFSETTO:-0400
TZNAME:AST
DTSTART:20251102T050000
END:STANDARD
END:VTIMEZONE
BEGIN:VEVENT
DTSTART;TZID=America/Halifax:20240326T170000
DTEND;TZID=America/Halifax:20240423T180000
DTSTAMP:20260421T161622
CREATED:20230911T181215Z
LAST-MODIFIED:20241213T193251Z
UID:10010641-1711472400-1713895200@www.lovemylibrary.ca
SUMMARY:Paws to Read ®
DESCRIPTION:The Paws to Read program offers kids a safe environment to practice reading aloud to an attentive and adorable audience. Children build confidence and reading skills in one-on-one sessions with therapy dogs. Participants attend 5 weekly half-hour sessions with a trained therapy dog volunteer and a certified handler. For children in grades 1-5 \nIn-Person. Registration is required. For details\, please call us at (902) 883-9838 or email us at elmsdale@cehpubliclibrary.ca
URL:https://www.lovemylibrary.ca/event/paws-to-read/2024-03-26/
LOCATION:Elmsdale Library\, 15 Commerce Ct\, Elmsdale\, Nova Scotia\, Canada
CATEGORIES:Events For Kids,Location: Elmsdale
ATTACH;FMTTYPE=image/png:https://www.lovemylibrary.ca/wp-content/uploads/2023/09/Untitled-design-2023-09-11T151119.554.png
END:VEVENT
BEGIN:VEVENT
DTSTART;VALUE=DATE:20240401
DTEND;VALUE=DATE:20240501
DTSTAMP:20260421T161622
CREATED:20240320T162145Z
LAST-MODIFIED:20240320T162145Z
UID:10007419-1711929600-1714521599@www.lovemylibrary.ca
SUMMARY:Haiku Contest!
DESCRIPTION:Some folks say that poetry is the art of saying a lot with a few words. So\, what better way to celebrate National Poetry Month than with a haiku writing contest! A haiku is a Japanese style poem that has three lines\, with five syllables in the first line\, seven in the second\, and five in the third. Every haiku you write is one entry into the contest to win a book of Haiku published by Everyman’s Library Pocket Poets! Afterwards the haikus will be put into a mini-zine for patrons of the library.  All ages are welcome to participate. \nSubmit poems in person or by email at elmsdale@cehpubliclibrary.ca. Please call us at 902-883-9838 or email us at elmsdale@cehpubliclibrary.ca for more details
URL:https://www.lovemylibrary.ca/event/haiku-contest/
LOCATION:Elmsdale Library\, 15 Commerce Ct\, Elmsdale\, Nova Scotia\, Canada
CATEGORIES:Events For Adults,Events For Kids,Location: Elmsdale
ATTACH;FMTTYPE=image/png:https://www.lovemylibrary.ca/wp-content/uploads/2024/03/Untitled-design-2024-03-20T132323.312.png
END:VEVENT
BEGIN:VEVENT
DTSTART;TZID=America/Halifax:20240402T170000
DTEND;TZID=America/Halifax:20240430T180000
DTSTAMP:20260421T161622
CREATED:20230911T181215Z
LAST-MODIFIED:20241213T193251Z
UID:10010642-1712077200-1714500000@www.lovemylibrary.ca
SUMMARY:Paws to Read ®
DESCRIPTION:The Paws to Read program offers kids a safe environment to practice reading aloud to an attentive and adorable audience. Children build confidence and reading skills in one-on-one sessions with therapy dogs. Participants attend 5 weekly half-hour sessions with a trained therapy dog volunteer and a certified handler. For children in grades 1-5 \nIn-Person. Registration is required. For details\, please call us at (902) 883-9838 or email us at elmsdale@cehpubliclibrary.ca
URL:https://www.lovemylibrary.ca/event/paws-to-read/2024-04-02/
LOCATION:Elmsdale Library\, 15 Commerce Ct\, Elmsdale\, Nova Scotia\, Canada
CATEGORIES:Events For Kids,Location: Elmsdale
ATTACH;FMTTYPE=image/png:https://www.lovemylibrary.ca/wp-content/uploads/2023/09/Untitled-design-2023-09-11T151119.554.png
END:VEVENT
BEGIN:VEVENT
DTSTART;TZID=America/Halifax:20240409T170000
DTEND;TZID=America/Halifax:20240507T180000
DTSTAMP:20260421T161622
CREATED:20230911T181215Z
LAST-MODIFIED:20241213T193251Z
UID:10010643-1712682000-1715104800@www.lovemylibrary.ca
SUMMARY:Paws to Read ®
DESCRIPTION:The Paws to Read program offers kids a safe environment to practice reading aloud to an attentive and adorable audience. Children build confidence and reading skills in one-on-one sessions with therapy dogs. Participants attend 5 weekly half-hour sessions with a trained therapy dog volunteer and a certified handler. For children in grades 1-5 \nIn-Person. Registration is required. For details\, please call us at (902) 883-9838 or email us at elmsdale@cehpubliclibrary.ca
URL:https://www.lovemylibrary.ca/event/paws-to-read/2024-04-09/
LOCATION:Elmsdale Library\, 15 Commerce Ct\, Elmsdale\, Nova Scotia\, Canada
CATEGORIES:Events For Kids,Location: Elmsdale
ATTACH;FMTTYPE=image/png:https://www.lovemylibrary.ca/wp-content/uploads/2023/09/Untitled-design-2023-09-11T151119.554.png
END:VEVENT
BEGIN:VEVENT
DTSTART;TZID=America/Halifax:20240416T170000
DTEND;TZID=America/Halifax:20240514T180000
DTSTAMP:20260421T161622
CREATED:20230911T181215Z
LAST-MODIFIED:20241213T193251Z
UID:10010644-1713286800-1715709600@www.lovemylibrary.ca
SUMMARY:Paws to Read ®
DESCRIPTION:The Paws to Read program offers kids a safe environment to practice reading aloud to an attentive and adorable audience. Children build confidence and reading skills in one-on-one sessions with therapy dogs. Participants attend 5 weekly half-hour sessions with a trained therapy dog volunteer and a certified handler. For children in grades 1-5 \nIn-Person. Registration is required. For details\, please call us at (902) 883-9838 or email us at elmsdale@cehpubliclibrary.ca
URL:https://www.lovemylibrary.ca/event/paws-to-read/2024-04-16/
LOCATION:Elmsdale Library\, 15 Commerce Ct\, Elmsdale\, Nova Scotia\, Canada
CATEGORIES:Events For Kids,Location: Elmsdale
ATTACH;FMTTYPE=image/png:https://www.lovemylibrary.ca/wp-content/uploads/2023/09/Untitled-design-2023-09-11T151119.554.png
END:VEVENT
BEGIN:VEVENT
DTSTART;TZID=America/Halifax:20240423T100000
DTEND;TZID=America/Halifax:20240423T110000
DTSTAMP:20260421T161622
CREATED:20240326T211030Z
LAST-MODIFIED:20240403T163310Z
UID:10007561-1713866400-1713870000@www.lovemylibrary.ca
SUMMARY:Baby\, Me\, & Mother Goose
DESCRIPTION:All babies 3-18 months are welcome to come for rhymes\, songs\, and stories! In partnership with Maggie’s Place.  The session will take place at  Edinburgh Hall: Parkland \nCall Maggie’s Place at 902-895-0200 to register.
URL:https://www.lovemylibrary.ca/event/baby-me-mother-goose-2-2-2-2/2024-04-23/
LOCATION:Truro Library\, 754 Prince St\, Truro\, Nova Scotia\, Canada
CATEGORIES:Events For Kids,Location: Truro
ATTACH;FMTTYPE=image/png:https://www.lovemylibrary.ca/wp-content/uploads/2022/03/Untitled-design-75.png
END:VEVENT
BEGIN:VEVENT
DTSTART;TZID=America/Halifax:20240423T110000
DTEND;TZID=America/Halifax:20240423T120000
DTSTAMP:20260421T161622
CREATED:20240319T205851Z
LAST-MODIFIED:20240319T210021Z
UID:10007417-1713870000-1713873600@www.lovemylibrary.ca
SUMMARY:Conversational English
DESCRIPTION:Is English your 2nd language? Or maybe your 4th? Our Conversational English program is for those who would like to practice their English in a fun and friendly environment. In partnership with YREACH. \nThis is a drop-in event. No registration is required.
URL:https://www.lovemylibrary.ca/event/conversational-english-7-2/2024-04-23/
LOCATION:Truro Library\, 754 Prince St\, Truro\, Nova Scotia\, Canada
CATEGORIES:Events For Adults,Events For Seniors,Location: Truro
ATTACH;FMTTYPE=image/jpeg:https://www.lovemylibrary.ca/wp-content/uploads/2021/08/13.jpg
END:VEVENT
BEGIN:VEVENT
DTSTART;TZID=America/Halifax:20240423T133000
DTEND;TZID=America/Halifax:20240423T150000
DTSTAMP:20260421T161622
CREATED:20231120T203025Z
LAST-MODIFIED:20240326T211358Z
UID:10007570-1713879000-1713884400@www.lovemylibrary.ca
SUMMARY:Homeschoolers Haven
DESCRIPTION:Homeschoolers Haven is a place for Homeschool families to meet and share resources. There will be  activities for the children.   For ages 5+ \nThis is a drop-in program. No registration is required.
URL:https://www.lovemylibrary.ca/event/homeschoolers-haven-2-2-2/2024-04-23/
LOCATION:Truro Library\, 754 Prince St\, Truro\, Nova Scotia\, Canada
CATEGORIES:Events For Kids,Events For Teens,Location: Truro
ATTACH;FMTTYPE=image/png:https://www.lovemylibrary.ca/wp-content/uploads/2022/07/Untitled-design-9.png
END:VEVENT
BEGIN:VEVENT
DTSTART;TZID=America/Halifax:20240423T140000
DTEND;TZID=America/Halifax:20240423T160000
DTSTAMP:20260421T161622
CREATED:20240321T142615Z
LAST-MODIFIED:20240515T210419Z
UID:10007511-1713880800-1713888000@www.lovemylibrary.ca
SUMMARY:Crochet Creations Club
DESCRIPTION:Crocheting is the perfect hobby for all ages. \n\nHave an afternoon snack and enjoy camaraderie and friendship\nLearn a new skill or perfect your technique.\nAll skill levels welcome\n\n  Drop In: No registration necessary\n 
URL:https://www.lovemylibrary.ca/event/crochet-creations-club-2/2024-04-23/
LOCATION:Stewiacke Library\, 295 George Street\, Stewiacke\, Nova Scotia\, Canada
CATEGORIES:Crafting,Events For Adults,Events For Kids,Events For Seniors,Events For Teens,Location: Stewiacke
ATTACH;FMTTYPE=image/png:https://www.lovemylibrary.ca/wp-content/uploads/2022/12/Untitled-design-33.png
END:VEVENT
BEGIN:VEVENT
DTSTART;TZID=America/Halifax:20240423T143000
DTEND;TZID=America/Halifax:20240423T153000
DTSTAMP:20260421T161622
CREATED:20240320T191630Z
LAST-MODIFIED:20240419T194406Z
UID:10007484-1713882600-1713886200@www.lovemylibrary.ca
SUMMARY:Earth Day
DESCRIPTION:Come help us tidy the library yard\, picking up the winter garbage. Afterwards enjoy a snack and we will do a little planting to take home. For ages 5-12 \nThis is a drop in program. No registration is required.
URL:https://www.lovemylibrary.ca/event/earth-day/
LOCATION:Mount Uniacke Library\, 555\, Highway 1\, Mount Uniacke\, Nova Scotia\, Canada
CATEGORIES:Events For Kids,Location: Mount Uniacke
ATTACH;FMTTYPE=image/png:https://www.lovemylibrary.ca/wp-content/uploads/2024/03/Untitled-design-2024-03-20T140810.277.png
END:VEVENT
BEGIN:VEVENT
DTSTART;TZID=America/Halifax:20240423T143000
DTEND;TZID=America/Halifax:20240423T170000
DTSTAMP:20260421T161622
CREATED:20240221T182238Z
LAST-MODIFIED:20240521T210710Z
UID:10007654-1713882600-1713891600@www.lovemylibrary.ca
SUMMARY:Afterschool Chill Zone
DESCRIPTION:Relax and have fun after school with computers\, books\, and games in the chill zone. For ages 8-14 \nThis is a drop-in program. No registration is required.
URL:https://www.lovemylibrary.ca/event/after-school-chill-zone-with-games-and-craft-2/2024-04-23/
LOCATION:Tatamagouche Library\, 170 Main Street\, Tatamagouche\, Nova Scotia\, Canada
CATEGORIES:Events For Kids,Location: Tatamagouche
ATTACH;FMTTYPE=image/jpeg:https://www.lovemylibrary.ca/wp-content/uploads/2023/02/pexels-artem-podrez-8087869-scaled.jpg
END:VEVENT
BEGIN:VEVENT
DTSTART;TZID=America/Halifax:20240423T150000
DTEND;TZID=America/Halifax:20240423T163000
DTSTAMP:20260421T161622
CREATED:20230918T182106Z
LAST-MODIFIED:20240326T211453Z
UID:10007582-1713884400-1713889800@www.lovemylibrary.ca
SUMMARY:Teen Room Drop In
DESCRIPTION:Come hang out\, grab a snack\, play some Mario Kart on our new Nintendo Switch\, or make art. \nAges 13-18 \nThis is a drop-in program. No registration is required.
URL:https://www.lovemylibrary.ca/event/teen-room-drop-in-3/2024-04-23/
LOCATION:Truro Library\, 754 Prince St\, Truro\, Nova Scotia\, Canada
ATTACH;FMTTYPE=image/png:https://www.lovemylibrary.ca/wp-content/uploads/2022/10/Untitled-design-53.png
END:VEVENT
BEGIN:VEVENT
DTSTART;TZID=America/Halifax:20240423T150000
DTEND;TZID=America/Halifax:20240423T170000
DTSTAMP:20260421T161622
CREATED:20231117T191601Z
LAST-MODIFIED:20240326T211917Z
UID:10007604-1713884400-1713891600@www.lovemylibrary.ca
SUMMARY:Maker Lab Fun Time
DESCRIPTION:Curious about the Maker Lab? Come on in and explore. Program robots\, create circuits\, build with magnetic tiles\, and more! All ages are welcome. \nThis is a drop in program. No registration is required.
URL:https://www.lovemylibrary.ca/event/maker-lab-fun-time-3/2024-04-23/
LOCATION:Truro Library\, 754 Prince St\, Truro\, Nova Scotia\, Canada
CATEGORIES:Events For Kids,Location: Truro,STEAM Programs
ATTACH;FMTTYPE=image/png:https://www.lovemylibrary.ca/wp-content/uploads/2023/09/Untitled-design-2023-09-29T143321.527.png
END:VEVENT
BEGIN:VEVENT
DTSTART;TZID=America/Halifax:20240423T170000
DTEND;TZID=America/Halifax:20240521T180000
DTSTAMP:20260421T161622
CREATED:20230911T181215Z
LAST-MODIFIED:20241213T193251Z
UID:10010645-1713891600-1716314400@www.lovemylibrary.ca
SUMMARY:Paws to Read ®
DESCRIPTION:The Paws to Read program offers kids a safe environment to practice reading aloud to an attentive and adorable audience. Children build confidence and reading skills in one-on-one sessions with therapy dogs. Participants attend 5 weekly half-hour sessions with a trained therapy dog volunteer and a certified handler. For children in grades 1-5 \nIn-Person. Registration is required. For details\, please call us at (902) 883-9838 or email us at elmsdale@cehpubliclibrary.ca
URL:https://www.lovemylibrary.ca/event/paws-to-read/2024-04-23/
LOCATION:Elmsdale Library\, 15 Commerce Ct\, Elmsdale\, Nova Scotia\, Canada
CATEGORIES:Events For Kids,Location: Elmsdale
ATTACH;FMTTYPE=image/png:https://www.lovemylibrary.ca/wp-content/uploads/2023/09/Untitled-design-2023-09-11T151119.554.png
END:VEVENT
BEGIN:VEVENT
DTSTART;TZID=America/Halifax:20240423T173000
DTEND;TZID=America/Halifax:20240423T200000
DTSTAMP:20260421T161622
CREATED:20240315T181324Z
LAST-MODIFIED:20240315T181447Z
UID:10007408-1713893400-1713902400@www.lovemylibrary.ca
SUMMARY:Heroes & Adventurers
DESCRIPTION:Role-playing game nights with extraordinary people! We provide the supplies\, you provide the imagination. No experience needed. All welcome! \nRegister to play by emailing: HAATruro@gmail.com Sorry\, no drop-in players at this time.
URL:https://www.lovemylibrary.ca/event/heroes-adventurers-6-2/2024-04-23/
LOCATION:Truro Library\, 754 Prince St\, Truro\, Nova Scotia\, Canada
CATEGORIES:Events For Adults,Events For Kids,Events For Seniors,Events For Teens,Location: Truro
ATTACH;FMTTYPE=image/png:https://www.lovemylibrary.ca/wp-content/uploads/2022/06/D-and-D.png
END:VEVENT
BEGIN:VEVENT
DTSTART;TZID=America/Halifax:20240423T183000
DTEND;TZID=America/Halifax:20240423T200000
DTSTAMP:20260421T161622
CREATED:20231229T142155Z
LAST-MODIFIED:20240320T180444Z
UID:10007475-1713897000-1713902400@www.lovemylibrary.ca
SUMMARY:Ewe-niacke Yarn Club
DESCRIPTION:Fiber art for all ages and abilities. Learn to knit or crochet\, bring a project you are working on\, or just come hang out with the club for some social time. All ages welcome. \nDrop in\, no registration required.
URL:https://www.lovemylibrary.ca/event/ewe-niacke-yarn-club-3-2/2024-04-23/
LOCATION:Mount Uniacke Library\, 555\, Highway 1\, Mount Uniacke\, Nova Scotia\, Canada
CATEGORIES:Crafting,Events For Adults,Events For Kids,Events For Seniors,Location: Mount Uniacke
ATTACH;FMTTYPE=image/png:https://www.lovemylibrary.ca/wp-content/uploads/2022/03/Untitled-design-89.png
END:VEVENT
BEGIN:VEVENT
DTSTART;TZID=America/Halifax:20240424T103000
DTEND;TZID=America/Halifax:20240424T110000
DTSTAMP:20260421T161622
CREATED:20231229T135634Z
LAST-MODIFIED:20240416T203006Z
UID:10007443-1713954600-1713956400@www.lovemylibrary.ca
SUMMARY:Storytime
DESCRIPTION:Enjoy a picture book read by Karri or Bernie and then participate in an activity. For pre schoolers and home schoolers. \nThis is a drop-in program. No registration is required.
URL:https://www.lovemylibrary.ca/event/storytime-4-2-2-2/2024-04-24/
LOCATION:Mount Uniacke Library\, 555\, Highway 1\, Mount Uniacke\, Nova Scotia\, Canada
CATEGORIES:Events For Kids,Location: Mount Uniacke
ATTACH;FMTTYPE=image/png:https://www.lovemylibrary.ca/wp-content/uploads/2022/05/Untitled-design-2.png
END:VEVENT
BEGIN:VEVENT
DTSTART;TZID=America/Halifax:20240424T103000
DTEND;TZID=America/Halifax:20240424T113000
DTSTAMP:20260421T161622
CREATED:20240220T225846Z
LAST-MODIFIED:20241121T202410Z
UID:10007658-1713954600-1713958200@www.lovemylibrary.ca
SUMMARY:Parents and Tots Story Time and Crafts
DESCRIPTION:Come along and enjoy an hour of fun filled story time and craft.  For ages 0+ \nDrop-in\, no registration required.
URL:https://www.lovemylibrary.ca/event/tots-and-moms-social-time-3-2-2-2/2024-04-24/
LOCATION:Tatamagouche Library\, 170 Main Street\, Tatamagouche\, Nova Scotia\, Canada
CATEGORIES:Events For Kids,Location: Tatamagouche
ATTACH;FMTTYPE=image/png:https://www.lovemylibrary.ca/wp-content/uploads/2022/03/Untitled-design-75.png
END:VEVENT
BEGIN:VEVENT
DTSTART;TZID=America/Halifax:20240424T113000
DTEND;TZID=America/Halifax:20240424T123000
DTSTAMP:20260421T161622
CREATED:20221020T184827Z
LAST-MODIFIED:20240320T191859Z
UID:10002184-1713958200-1713961800@www.lovemylibrary.ca
SUMMARY:The Mind Readers
DESCRIPTION:Pick up the book we are reading anytime before the 24th and come in to discuss “When the Stars Go Dark”. \nThis is a drop-in program. No registration is required.
URL:https://www.lovemylibrary.ca/event/the-mind-readers-2/
LOCATION:Mount Uniacke Library\, 555\, Highway 1\, Mount Uniacke\, Nova Scotia\, Canada
CATEGORIES:Events For Adults,Events For Seniors,Location: Mount Uniacke
ATTACH;FMTTYPE=image/png:https://www.lovemylibrary.ca/wp-content/uploads/2022/08/Untitled-700-×-500-px-9.png
END:VEVENT
BEGIN:VEVENT
DTSTART;TZID=America/Halifax:20240424T130000
DTEND;TZID=America/Halifax:20240424T150000
DTSTAMP:20260421T161622
CREATED:20240315T180549Z
LAST-MODIFIED:20240315T180741Z
UID:10007402-1713963600-1713970800@www.lovemylibrary.ca
SUMMARY:Makers in the Maker Lab
DESCRIPTION:Calling all Makers! Drop by for a relaxing afternoon to hang out with fellow crafters. Bring along your ongoing projects like knitting\, crochet\, needlework\, painting or other hands on crafts. \nNo registration\, drop in.
URL:https://www.lovemylibrary.ca/event/makers-in-the-maker-lab-6-2/2024-04-24/
LOCATION:Truro Library\, 754 Prince St\, Truro\, Nova Scotia\, Canada
CATEGORIES:Crafting,Events For Adults,Events For Seniors,Location: Truro
ATTACH;FMTTYPE=image/png:https://www.lovemylibrary.ca/wp-content/uploads/2023/01/Untitled-design-2023-01-24T155257.327.png
END:VEVENT
BEGIN:VEVENT
DTSTART;TZID=America/Halifax:20240424T143000
DTEND;TZID=America/Halifax:20240424T190000
DTSTAMP:20260421T161622
CREATED:20210830T143625Z
LAST-MODIFIED:20231213T140902Z
UID:10006153-1713969000-1713985200@www.lovemylibrary.ca
SUMMARY:Satellite Library Visit: Kennetcook Fire Hall
DESCRIPTION:Meet us at the Kennetcook Fire Hall where you can browse and borrow materials\, sign up for a Library card\, and hear about our upcoming programs! \n 
URL:https://www.lovemylibrary.ca/event/satellite-library-visit-kennetcook-fire-hall/2024-04-24/
LOCATION:Kennetcook Fire Hall\, 32 Martin Walsh Road\, Kennetcook\, Nova Scotia\, Canada
CATEGORIES:Events For Adults,Events For Kids,Events For Seniors,Events For Teens,Location: Kennetcook
ATTACH;FMTTYPE=image/jpeg:https://www.lovemylibrary.ca/wp-content/uploads/2021/08/16.jpg
END:VEVENT
BEGIN:VEVENT
DTSTART;TZID=America/Halifax:20240425T100000
DTEND;TZID=America/Halifax:20240425T110000
DTSTAMP:20260421T161622
CREATED:20240327T180436Z
LAST-MODIFIED:20240327T180436Z
UID:10007644-1714039200-1714042800@www.lovemylibrary.ca
SUMMARY:Virtual Author Reading - Julie Pellissier - Lush
DESCRIPTION:Julie Pellissier-Lush is the former Poet Laureate of PEI and co-author of Amazing L’nu’k: A Celebration of the People of Mi’kma’ki. Julie will join us on Zoom for a book reading and perhaps a ghost story. Ideal for ages 8-14 \nEmail info@cehpubliclibrary.ca to register.
URL:https://www.lovemylibrary.ca/event/virtual-author-reading-julie-pellissier-lush/
LOCATION:Virtual
CATEGORIES:Events For Kids,Location: Virtual
ATTACH;FMTTYPE=image/png:https://www.lovemylibrary.ca/wp-content/uploads/2024/03/Untitled-design-2024-03-27T150601.623.png
END:VEVENT
BEGIN:VEVENT
DTSTART;TZID=America/Halifax:20240425T103000
DTEND;TZID=America/Halifax:20240425T110000
DTSTAMP:20260421T161622
CREATED:20240321T133631Z
LAST-MODIFIED:20240321T173903Z
UID:10007488-1714041000-1714042800@www.lovemylibrary.ca
SUMMARY:Baby Rhyme Time
DESCRIPTION:Discover the joy of songs\, finger plays\, bouncing rhymes and simple books. Infant-2 years old with a caregiver. \nThis is a drop in program. No registration is required.
URL:https://www.lovemylibrary.ca/event/baby-rhyme-time-8-2-2/2024-04-25/
LOCATION:Stewiacke Library\, 295 George Street\, Stewiacke\, Nova Scotia\, Canada
CATEGORIES:Events For Kids,Location: Stewiacke
ATTACH;FMTTYPE=image/png:https://www.lovemylibrary.ca/wp-content/uploads/2022/03/Untitled-design-75.png
END:VEVENT
BEGIN:VEVENT
DTSTART;TZID=America/Halifax:20240425T110000
DTEND;TZID=America/Halifax:20240425T112000
DTSTAMP:20260421T161622
CREATED:20231221T204932Z
LAST-MODIFIED:20240326T212313Z
UID:10007633-1714042800-1714044000@www.lovemylibrary.ca
SUMMARY:Tales for Tots
DESCRIPTION:Join us Thursday mornings in the Big Brothers Big Sisters Room for stories\, songs\, and activities that are just right for terrific toddlers! \n18 months-4 years with a parent/caregiver. \nDrop-in\, no registration required.
URL:https://www.lovemylibrary.ca/event/tales-for-tots-2-2/2024-04-25/
LOCATION:Truro Library\, 754 Prince St\, Truro\, Nova Scotia\, Canada
CATEGORIES:Events For Kids,Location: Truro
ATTACH;FMTTYPE=image/png:https://www.lovemylibrary.ca/wp-content/uploads/2022/03/Untitled-design-81.png
END:VEVENT
BEGIN:VEVENT
DTSTART;TZID=America/Halifax:20240425T143000
DTEND;TZID=America/Halifax:20240425T170000
DTSTAMP:20260421T161622
CREATED:20240221T182238Z
LAST-MODIFIED:20240521T210710Z
UID:10007655-1714055400-1714064400@www.lovemylibrary.ca
SUMMARY:Afterschool Chill Zone
DESCRIPTION:Relax and have fun after school with computers\, books\, and games in the chill zone. For ages 8-14 \nThis is a drop-in program. No registration is required.
URL:https://www.lovemylibrary.ca/event/after-school-chill-zone-with-games-and-craft-2/2024-04-25/
LOCATION:Tatamagouche Library\, 170 Main Street\, Tatamagouche\, Nova Scotia\, Canada
CATEGORIES:Events For Kids,Location: Tatamagouche
ATTACH;FMTTYPE=image/jpeg:https://www.lovemylibrary.ca/wp-content/uploads/2023/02/pexels-artem-podrez-8087869-scaled.jpg
END:VEVENT
BEGIN:VEVENT
DTSTART;TZID=America/Halifax:20240425T150000
DTEND;TZID=America/Halifax:20240425T163000
DTSTAMP:20260421T161622
CREATED:20230918T182106Z
LAST-MODIFIED:20240326T211453Z
UID:10007583-1714057200-1714062600@www.lovemylibrary.ca
SUMMARY:Teen Room Drop In
DESCRIPTION:Come hang out\, grab a snack\, play some Mario Kart on our new Nintendo Switch\, or make art. \nAges 13-18 \nThis is a drop-in program. No registration is required.
URL:https://www.lovemylibrary.ca/event/teen-room-drop-in-3/2024-04-25/
LOCATION:Truro Library\, 754 Prince St\, Truro\, Nova Scotia\, Canada
ATTACH;FMTTYPE=image/png:https://www.lovemylibrary.ca/wp-content/uploads/2022/10/Untitled-design-53.png
END:VEVENT
BEGIN:VEVENT
DTSTART;TZID=America/Halifax:20240425T150000
DTEND;TZID=America/Halifax:20240425T170000
DTSTAMP:20260421T161622
CREATED:20231117T191601Z
LAST-MODIFIED:20240326T211917Z
UID:10007605-1714057200-1714064400@www.lovemylibrary.ca
SUMMARY:Maker Lab Fun Time
DESCRIPTION:Curious about the Maker Lab? Come on in and explore. Program robots\, create circuits\, build with magnetic tiles\, and more! All ages are welcome. \nThis is a drop in program. No registration is required.
URL:https://www.lovemylibrary.ca/event/maker-lab-fun-time-3/2024-04-25/
LOCATION:Truro Library\, 754 Prince St\, Truro\, Nova Scotia\, Canada
CATEGORIES:Events For Kids,Location: Truro,STEAM Programs
ATTACH;FMTTYPE=image/png:https://www.lovemylibrary.ca/wp-content/uploads/2023/09/Untitled-design-2023-09-29T143321.527.png
END:VEVENT
BEGIN:VEVENT
DTSTART;TZID=America/Halifax:20240425T180000
DTEND;TZID=America/Halifax:20240425T190000
DTSTAMP:20260421T161622
CREATED:20240313T130113Z
LAST-MODIFIED:20240521T215413Z
UID:10007399-1714068000-1714071600@www.lovemylibrary.ca
SUMMARY:Knitters Social
DESCRIPTION:Bring your current project and share your passion for yarns\, needles\, hooks\, and patterns in a relaxed and environment. All ages are welcome. \nThis is a drop in program. No registration is required.
URL:https://www.lovemylibrary.ca/event/knitters-social-3/2024-04-25/
LOCATION:Tatamagouche Library\, 170 Main Street\, Tatamagouche\, Nova Scotia\, Canada
CATEGORIES:Crafting,Events For Adults,Events For Kids,Location: Tatamagouche
ATTACH;FMTTYPE=image/png:https://www.lovemylibrary.ca/wp-content/uploads/2024/03/Untitled-design-2024-03-13T100214.323.png
END:VEVENT
BEGIN:VEVENT
DTSTART;TZID=America/Halifax:20240425T183000
DTEND;TZID=America/Halifax:20240425T193000
DTSTAMP:20260421T161622
CREATED:20240321T163152Z
LAST-MODIFIED:20240321T163152Z
UID:10007518-1714069800-1714073400@www.lovemylibrary.ca
SUMMARY:Drop In Tech Help
DESCRIPTION:Bring your own device or use one of our computers.This program covers: eReaders/ebooks\, basic computer navigation\, basic app use\, basic cellphone use\, basic tablet use\, general internet instruction\, research and using library electronic resources. Open to all ages. \nDrop In: No registration necessary\n 
URL:https://www.lovemylibrary.ca/event/drop-in-tech-help-3/
LOCATION:Stewiacke Library\, 295 George Street\, Stewiacke\, Nova Scotia\, Canada
CATEGORIES:Events For Adults,Events For Kids,Events For Seniors,Events For Teens,Location: Stewiacke
ATTACH;FMTTYPE=image/png:https://www.lovemylibrary.ca/wp-content/uploads/2022/11/Untitled-design-2022-11-29T112019.106.png
END:VEVENT
BEGIN:VEVENT
DTSTART;TZID=America/Halifax:20240425T183000
DTEND;TZID=America/Halifax:20240425T193000
DTSTAMP:20260421T161622
CREATED:20240321T165130Z
LAST-MODIFIED:20240321T165130Z
UID:10007519-1714069800-1714073400@www.lovemylibrary.ca
SUMMARY:Arcade Night
DESCRIPTION:A fun and unique evening at the library. For ages 8-12 \nDrop In: No registration Necessary
URL:https://www.lovemylibrary.ca/event/arcade-night/
LOCATION:Stewiacke Library\, 295 George Street\, Stewiacke\, Nova Scotia\, Canada
CATEGORIES:Events For Kids,Location: Stewiacke
ATTACH;FMTTYPE=image/png:https://www.lovemylibrary.ca/wp-content/uploads/2023/08/Untitled-design-97.png
END:VEVENT
END:VCALENDAR