BEGIN:VCALENDAR
VERSION:2.0
PRODID:-//Colchester East Hants Public Library - ECPv6.15.20//NONSGML v1.0//EN
CALSCALE:GREGORIAN
METHOD:PUBLISH
X-ORIGINAL-URL:https://www.lovemylibrary.ca
X-WR-CALDESC:Events for Colchester East Hants Public Library
REFRESH-INTERVAL;VALUE=DURATION:PT1H
X-Robots-Tag:noindex
X-PUBLISHED-TTL:PT1H
BEGIN:VTIMEZONE
TZID:America/Halifax
BEGIN:DAYLIGHT
TZOFFSETFROM:-0400
TZOFFSETTO:-0300
TZNAME:ADT
DTSTART:20230312T060000
END:DAYLIGHT
BEGIN:STANDARD
TZOFFSETFROM:-0300
TZOFFSETTO:-0400
TZNAME:AST
DTSTART:20231105T050000
END:STANDARD
BEGIN:DAYLIGHT
TZOFFSETFROM:-0400
TZOFFSETTO:-0300
TZNAME:ADT
DTSTART:20240310T060000
END:DAYLIGHT
BEGIN:STANDARD
TZOFFSETFROM:-0300
TZOFFSETTO:-0400
TZNAME:AST
DTSTART:20241103T050000
END:STANDARD
BEGIN:DAYLIGHT
TZOFFSETFROM:-0400
TZOFFSETTO:-0300
TZNAME:ADT
DTSTART:20250309T060000
END:DAYLIGHT
BEGIN:STANDARD
TZOFFSETFROM:-0300
TZOFFSETTO:-0400
TZNAME:AST
DTSTART:20251102T050000
END:STANDARD
END:VTIMEZONE
BEGIN:VEVENT
DTSTART;TZID=America/Halifax:20240423T170000
DTEND;TZID=America/Halifax:20240521T180000
DTSTAMP:20260422T202039
CREATED:20230911T181215Z
LAST-MODIFIED:20241213T193251Z
UID:10010645-1713891600-1716314400@www.lovemylibrary.ca
SUMMARY:Paws to Read ®
DESCRIPTION:The Paws to Read program offers kids a safe environment to practice reading aloud to an attentive and adorable audience. Children build confidence and reading skills in one-on-one sessions with therapy dogs. Participants attend 5 weekly half-hour sessions with a trained therapy dog volunteer and a certified handler. For children in grades 1-5 \nIn-Person. Registration is required. For details\, please call us at (902) 883-9838 or email us at elmsdale@cehpubliclibrary.ca
URL:https://www.lovemylibrary.ca/event/paws-to-read/2024-04-23/
LOCATION:Elmsdale Library\, 15 Commerce Ct\, Elmsdale\, Nova Scotia\, Canada
CATEGORIES:Events For Kids,Location: Elmsdale
ATTACH;FMTTYPE=image/png:https://www.lovemylibrary.ca/wp-content/uploads/2023/09/Untitled-design-2023-09-11T151119.554.png
END:VEVENT
BEGIN:VEVENT
DTSTART;TZID=America/Halifax:20240430T170000
DTEND;TZID=America/Halifax:20240528T180000
DTSTAMP:20260422T202039
CREATED:20230911T181215Z
LAST-MODIFIED:20241213T193251Z
UID:10010646-1714496400-1716919200@www.lovemylibrary.ca
SUMMARY:Paws to Read ®
DESCRIPTION:The Paws to Read program offers kids a safe environment to practice reading aloud to an attentive and adorable audience. Children build confidence and reading skills in one-on-one sessions with therapy dogs. Participants attend 5 weekly half-hour sessions with a trained therapy dog volunteer and a certified handler. For children in grades 1-5 \nIn-Person. Registration is required. For details\, please call us at (902) 883-9838 or email us at elmsdale@cehpubliclibrary.ca
URL:https://www.lovemylibrary.ca/event/paws-to-read/2024-04-30/
LOCATION:Elmsdale Library\, 15 Commerce Ct\, Elmsdale\, Nova Scotia\, Canada
CATEGORIES:Events For Kids,Location: Elmsdale
ATTACH;FMTTYPE=image/png:https://www.lovemylibrary.ca/wp-content/uploads/2023/09/Untitled-design-2023-09-11T151119.554.png
END:VEVENT
BEGIN:VEVENT
DTSTART;TZID=America/Halifax:20240507T170000
DTEND;TZID=America/Halifax:20240604T180000
DTSTAMP:20260422T202039
CREATED:20230911T181215Z
LAST-MODIFIED:20241213T193251Z
UID:10010647-1715101200-1717524000@www.lovemylibrary.ca
SUMMARY:Paws to Read ®
DESCRIPTION:The Paws to Read program offers kids a safe environment to practice reading aloud to an attentive and adorable audience. Children build confidence and reading skills in one-on-one sessions with therapy dogs. Participants attend 5 weekly half-hour sessions with a trained therapy dog volunteer and a certified handler. For children in grades 1-5 \nIn-Person. Registration is required. For details\, please call us at (902) 883-9838 or email us at elmsdale@cehpubliclibrary.ca
URL:https://www.lovemylibrary.ca/event/paws-to-read/2024-05-07/
LOCATION:Elmsdale Library\, 15 Commerce Ct\, Elmsdale\, Nova Scotia\, Canada
CATEGORIES:Events For Kids,Location: Elmsdale
ATTACH;FMTTYPE=image/png:https://www.lovemylibrary.ca/wp-content/uploads/2023/09/Untitled-design-2023-09-11T151119.554.png
END:VEVENT
BEGIN:VEVENT
DTSTART;TZID=America/Halifax:20240514T170000
DTEND;TZID=America/Halifax:20240611T180000
DTSTAMP:20260422T202039
CREATED:20230911T181215Z
LAST-MODIFIED:20241213T193251Z
UID:10010648-1715706000-1718128800@www.lovemylibrary.ca
SUMMARY:Paws to Read ®
DESCRIPTION:The Paws to Read program offers kids a safe environment to practice reading aloud to an attentive and adorable audience. Children build confidence and reading skills in one-on-one sessions with therapy dogs. Participants attend 5 weekly half-hour sessions with a trained therapy dog volunteer and a certified handler. For children in grades 1-5 \nIn-Person. Registration is required. For details\, please call us at (902) 883-9838 or email us at elmsdale@cehpubliclibrary.ca
URL:https://www.lovemylibrary.ca/event/paws-to-read/2024-05-14/
LOCATION:Elmsdale Library\, 15 Commerce Ct\, Elmsdale\, Nova Scotia\, Canada
CATEGORIES:Events For Kids,Location: Elmsdale
ATTACH;FMTTYPE=image/png:https://www.lovemylibrary.ca/wp-content/uploads/2023/09/Untitled-design-2023-09-11T151119.554.png
END:VEVENT
BEGIN:VEVENT
DTSTART;TZID=America/Halifax:20240520T180000
DTEND;TZID=America/Halifax:20240520T190000
DTSTAMP:20260422T202039
CREATED:20240416T180943Z
LAST-MODIFIED:20250419T165145Z
UID:10007805-1716228000-1716231600@www.lovemylibrary.ca
SUMMARY:General Trivia
DESCRIPTION:Test your brain with a mix of fun\, random facts! From history and science to pop culture and weird wonders—this trivia’s got a bit of everything. For ages 6-12 \nThis is a drop in program. No registration is required\n\n\n 
URL:https://www.lovemylibrary.ca/event/adult-trivia-general-edition/
LOCATION:Tatamagouche Library\, 170 Main Street\, Tatamagouche\, Nova Scotia\, Canada
CATEGORIES:Events For Kids,Location: Tatamagouche
ATTACH;FMTTYPE=image/png:https://www.lovemylibrary.ca/wp-content/uploads/2022/08/Untitled-design-29.png
END:VEVENT
BEGIN:VEVENT
DTSTART;VALUE=DATE:20240521
DTEND;VALUE=DATE:20240522
DTSTAMP:20260422T202039
CREATED:20240423T175925Z
LAST-MODIFIED:20240518T165102Z
UID:10007925-1716249600-1716335999@www.lovemylibrary.ca
SUMMARY:Shelf Care Bingo
DESCRIPTION:Give yourself some shelf care! Pick up your Shelf Care Bingo Sheet at a service desk and combine reading with self-care. All ages. \nComplete the challenge by getting five in a row and be entered into a draw for a $25 Indigo Card!
URL:https://www.lovemylibrary.ca/event/shelf-care-bingo-3/2024-05-21/
LOCATION:Truro Library\, 754 Prince St\, Truro\, Nova Scotia\, Canada
CATEGORIES:Events For Adults,Events For Kids,Events For Seniors,Events For Teens,Location: Truro
ATTACH;FMTTYPE=image/png:https://www.lovemylibrary.ca/wp-content/uploads/2023/04/Untitled-design-32.png
END:VEVENT
BEGIN:VEVENT
DTSTART;TZID=America/Halifax:20240521T100000
DTEND;TZID=America/Halifax:20240521T110000
DTSTAMP:20260422T202039
CREATED:20240326T211030Z
LAST-MODIFIED:20240403T163310Z
UID:10007565-1716285600-1716289200@www.lovemylibrary.ca
SUMMARY:Baby\, Me\, & Mother Goose
DESCRIPTION:All babies 3-18 months are welcome to come for rhymes\, songs\, and stories! In partnership with Maggie’s Place.  The session will take place at  Edinburgh Hall: Parkland \nCall Maggie’s Place at 902-895-0200 to register.
URL:https://www.lovemylibrary.ca/event/baby-me-mother-goose-2-2-2-2/2024-05-21/
LOCATION:Truro Library\, 754 Prince St\, Truro\, Nova Scotia\, Canada
CATEGORIES:Events For Kids,Location: Truro
ATTACH;FMTTYPE=image/png:https://www.lovemylibrary.ca/wp-content/uploads/2022/03/Untitled-design-75.png
END:VEVENT
BEGIN:VEVENT
DTSTART;TZID=America/Halifax:20240521T100000
DTEND;TZID=America/Halifax:20240521T200000
DTSTAMP:20260422T202039
CREATED:20240517T190645Z
LAST-MODIFIED:20240517T191453Z
UID:10008308-1716285600-1716321600@www.lovemylibrary.ca
SUMMARY:Archetypes: Art Exhibit by Catalina Dudka
DESCRIPTION:The art exhibit “Archetypes” is comprised of mixed media paintings. These pieces are full of whimsy and an inner symbolism that Dudka hopes speaks to the viewer. Drop in and take a moment to dwell on each work and the layers of detail and snippets of stories that Dudka has filled them with. \nDrop in. No registration is required.
URL:https://www.lovemylibrary.ca/event/archetypes-art-exhibit-by-catalina-dudka/2024-05-21/
LOCATION:Truro Library\, 754 Prince St\, Truro\, Nova Scotia\, Canada
CATEGORIES:Events For Adults,Events For Seniors,Location: Truro
ATTACH;FMTTYPE=image/png:https://www.lovemylibrary.ca/wp-content/uploads/2024/05/Untitled-design-2-1.png
END:VEVENT
BEGIN:VEVENT
DTSTART;TZID=America/Halifax:20240521T110000
DTEND;TZID=America/Halifax:20240521T120000
DTSTAMP:20260422T202039
CREATED:20240416T223147Z
LAST-MODIFIED:20240416T223147Z
UID:10007842-1716289200-1716292800@www.lovemylibrary.ca
SUMMARY:Conversational English
DESCRIPTION:Is English your 2nd language? Or maybe your 4th? Our Conversational English program is for those who would like to practice their English in a fun and friendly environment. In partnership with YREACH. \nThis is a drop-in event. No registration is required.
URL:https://www.lovemylibrary.ca/event/conversational-english-6/2024-05-21/
LOCATION:Truro Library\, 754 Prince St\, Truro\, Nova Scotia\, Canada
CATEGORIES:Events For Adults,Events For Seniors,Location: Truro
ATTACH;FMTTYPE=image/jpeg:https://www.lovemylibrary.ca/wp-content/uploads/2021/08/13.jpg
END:VEVENT
BEGIN:VEVENT
DTSTART;TZID=America/Halifax:20240521T133000
DTEND;TZID=America/Halifax:20240521T150000
DTSTAMP:20260422T202039
CREATED:20231120T203025Z
LAST-MODIFIED:20240326T211358Z
UID:10007574-1716298200-1716303600@www.lovemylibrary.ca
SUMMARY:Homeschoolers Haven
DESCRIPTION:Homeschoolers Haven is a place for Homeschool families to meet and share resources. There will be  activities for the children.   For ages 5+ \nThis is a drop-in program. No registration is required.
URL:https://www.lovemylibrary.ca/event/homeschoolers-haven-2-2-2/2024-05-21/
LOCATION:Truro Library\, 754 Prince St\, Truro\, Nova Scotia\, Canada
CATEGORIES:Events For Kids,Events For Teens,Location: Truro
ATTACH;FMTTYPE=image/png:https://www.lovemylibrary.ca/wp-content/uploads/2022/07/Untitled-design-9.png
END:VEVENT
BEGIN:VEVENT
DTSTART;TZID=America/Halifax:20240521T140000
DTEND;TZID=America/Halifax:20240521T160000
DTSTAMP:20260422T202039
CREATED:20240321T142615Z
LAST-MODIFIED:20240515T210419Z
UID:10007523-1716300000-1716307200@www.lovemylibrary.ca
SUMMARY:Crochet Creations Club
DESCRIPTION:Crocheting is the perfect hobby for all ages. \n\nHave an afternoon snack and enjoy camaraderie and friendship\nLearn a new skill or perfect your technique.\nAll skill levels welcome\n\n  Drop In: No registration necessary\n 
URL:https://www.lovemylibrary.ca/event/crochet-creations-club-2/2024-05-21/
LOCATION:Stewiacke Library\, 295 George Street\, Stewiacke\, Nova Scotia\, Canada
CATEGORIES:Crafting,Events For Adults,Events For Kids,Events For Seniors,Events For Teens,Location: Stewiacke
ATTACH;FMTTYPE=image/png:https://www.lovemylibrary.ca/wp-content/uploads/2022/12/Untitled-design-33.png
END:VEVENT
BEGIN:VEVENT
DTSTART;TZID=America/Halifax:20240521T143000
DTEND;TZID=America/Halifax:20240521T153000
DTSTAMP:20260422T202039
CREATED:20230525T164950Z
LAST-MODIFIED:20240416T210002Z
UID:10007822-1716301800-1716305400@www.lovemylibrary.ca
SUMMARY:Tuesday Crafternoon
DESCRIPTION:It’s slime time. Join us for gooey\, messy fun! For ages 5-15 \nRegister in branch or by email mtuniack@cehpubliclibrary.ca
URL:https://www.lovemylibrary.ca/event/tuesday-crafternoon-4/2024-05-21/
LOCATION:Mount Uniacke Library\, 555\, Highway 1\, Mount Uniacke\, Nova Scotia\, Canada
CATEGORIES:Crafting,Events For Kids,Events For Teens,Location: Mount Uniacke
ATTACH;FMTTYPE=image/png:https://www.lovemylibrary.ca/wp-content/uploads/2022/06/Untitled-700-×-500-px-1.png
END:VEVENT
BEGIN:VEVENT
DTSTART;TZID=America/Halifax:20240521T143000
DTEND;TZID=America/Halifax:20240521T170000
DTSTAMP:20260422T202039
CREATED:20240221T182238Z
LAST-MODIFIED:20240521T210710Z
UID:10007874-1716301800-1716310800@www.lovemylibrary.ca
SUMMARY:Afterschool Chill Zone
DESCRIPTION:Relax and have fun after school with computers\, books\, and games in the chill zone. For ages 8-14 \nThis is a drop-in program. No registration is required.
URL:https://www.lovemylibrary.ca/event/after-school-chill-zone-with-games-and-craft-2/2024-05-21/
LOCATION:Tatamagouche Library\, 170 Main Street\, Tatamagouche\, Nova Scotia\, Canada
CATEGORIES:Events For Kids,Location: Tatamagouche
ATTACH;FMTTYPE=image/jpeg:https://www.lovemylibrary.ca/wp-content/uploads/2023/02/pexels-artem-podrez-8087869-scaled.jpg
END:VEVENT
BEGIN:VEVENT
DTSTART;TZID=America/Halifax:20240521T150000
DTEND;TZID=America/Halifax:20240521T163000
DTSTAMP:20260422T202039
CREATED:20230918T182106Z
LAST-MODIFIED:20240326T211453Z
UID:10007590-1716303600-1716309000@www.lovemylibrary.ca
SUMMARY:Teen Room Drop In
DESCRIPTION:Come hang out\, grab a snack\, play some Mario Kart on our new Nintendo Switch\, or make art. \nAges 13-18 \nThis is a drop-in program. No registration is required.
URL:https://www.lovemylibrary.ca/event/teen-room-drop-in-3/2024-05-21/
LOCATION:Truro Library\, 754 Prince St\, Truro\, Nova Scotia\, Canada
ATTACH;FMTTYPE=image/png:https://www.lovemylibrary.ca/wp-content/uploads/2022/10/Untitled-design-53.png
END:VEVENT
BEGIN:VEVENT
DTSTART;TZID=America/Halifax:20240521T150000
DTEND;TZID=America/Halifax:20240521T170000
DTSTAMP:20260422T202039
CREATED:20231117T191601Z
LAST-MODIFIED:20240326T211917Z
UID:10007616-1716303600-1716310800@www.lovemylibrary.ca
SUMMARY:Maker Lab Fun Time
DESCRIPTION:Curious about the Maker Lab? Come on in and explore. Program robots\, create circuits\, build with magnetic tiles\, and more! All ages are welcome. \nThis is a drop in program. No registration is required.
URL:https://www.lovemylibrary.ca/event/maker-lab-fun-time-3/2024-05-21/
LOCATION:Truro Library\, 754 Prince St\, Truro\, Nova Scotia\, Canada
CATEGORIES:Events For Kids,Location: Truro,STEAM Programs
ATTACH;FMTTYPE=image/png:https://www.lovemylibrary.ca/wp-content/uploads/2023/09/Untitled-design-2023-09-29T143321.527.png
END:VEVENT
BEGIN:VEVENT
DTSTART;TZID=America/Halifax:20240521T170000
DTEND;TZID=America/Halifax:20240618T180000
DTSTAMP:20260422T202039
CREATED:20230911T181215Z
LAST-MODIFIED:20241213T193251Z
UID:10010649-1716310800-1718733600@www.lovemylibrary.ca
SUMMARY:Paws to Read ®
DESCRIPTION:The Paws to Read program offers kids a safe environment to practice reading aloud to an attentive and adorable audience. Children build confidence and reading skills in one-on-one sessions with therapy dogs. Participants attend 5 weekly half-hour sessions with a trained therapy dog volunteer and a certified handler. For children in grades 1-5 \nIn-Person. Registration is required. For details\, please call us at (902) 883-9838 or email us at elmsdale@cehpubliclibrary.ca
URL:https://www.lovemylibrary.ca/event/paws-to-read/2024-05-21/
LOCATION:Elmsdale Library\, 15 Commerce Ct\, Elmsdale\, Nova Scotia\, Canada
CATEGORIES:Events For Kids,Location: Elmsdale
ATTACH;FMTTYPE=image/png:https://www.lovemylibrary.ca/wp-content/uploads/2023/09/Untitled-design-2023-09-11T151119.554.png
END:VEVENT
BEGIN:VEVENT
DTSTART;TZID=America/Halifax:20240521T173000
DTEND;TZID=America/Halifax:20240521T200000
DTSTAMP:20260422T202039
CREATED:20240416T223426Z
LAST-MODIFIED:20240416T223426Z
UID:10007851-1716312600-1716321600@www.lovemylibrary.ca
SUMMARY:Heroes & Adventurers
DESCRIPTION:Role-playing game nights with extraordinary people! We provide the supplies\, you provide the imagination. No experience needed. All welcome! \nRegister to play by emailing: HAATruro@gmail.com Sorry\, no drop-in players at this time.
URL:https://www.lovemylibrary.ca/event/heroes-adventurers-8/2024-05-21/
LOCATION:Truro Library\, 754 Prince St\, Truro\, Nova Scotia\, Canada
CATEGORIES:Events For Adults,Events For Kids,Events For Seniors,Events For Teens,Location: Truro
ATTACH;FMTTYPE=image/png:https://www.lovemylibrary.ca/wp-content/uploads/2022/06/D-and-D.png
END:VEVENT
BEGIN:VEVENT
DTSTART;TZID=America/Halifax:20240521T180000
DTEND;TZID=America/Halifax:20240521T190000
DTSTAMP:20260422T202039
CREATED:20240416T210218Z
LAST-MODIFIED:20240416T210218Z
UID:10007823-1716314400-1716318000@www.lovemylibrary.ca
SUMMARY:Yoga Under the Stars
DESCRIPTION:Tammy from the Yoga Lounge will be doing some gentle restorative yoga poses and stretching and then laying down under the stars for the yoga nidra part. This will be a guided meditation/story for rest and relaxation geared towards children. Ages 6 and up. \nYou can bring a yoga mat or your blanket and pillow. \nDrop In: No registration necessary
URL:https://www.lovemylibrary.ca/event/yoga-under-the-stars/
LOCATION:Stewiacke Library\, 295 George Street\, Stewiacke\, Nova Scotia\, Canada
CATEGORIES:Events For Kids,Location: Stewiacke
ATTACH;FMTTYPE=image/png:https://www.lovemylibrary.ca/wp-content/uploads/2024/03/Untitled-design-2024-03-05T193616.663.png
END:VEVENT
BEGIN:VEVENT
DTSTART;TZID=America/Halifax:20240521T180000
DTEND;TZID=America/Halifax:20240521T200000
DTSTAMP:20260422T202039
CREATED:20240220T233656Z
LAST-MODIFIED:20240809T192348Z
UID:10008486-1716314400-1716321600@www.lovemylibrary.ca
SUMMARY:Game Night
DESCRIPTION:Enjoy a night of fun and laughter with your friends as you play a variety of board games. All ages are welcome. \nThis is a drop in program. No registration is required.
URL:https://www.lovemylibrary.ca/event/game-night-2/2024-05-21/
LOCATION:Tatamagouche Library\, 170 Main Street\, Tatamagouche\, Nova Scotia\, Canada
CATEGORIES:Events For Adults,Location: Tatamagouche
ATTACH;FMTTYPE=image/png:https://www.lovemylibrary.ca/wp-content/uploads/2024/02/Untitled-design-2024-02-20T193747.380.png
END:VEVENT
BEGIN:VEVENT
DTSTART;TZID=America/Halifax:20240521T183000
DTEND;TZID=America/Halifax:20240521T193000
DTSTAMP:20260422T202039
CREATED:20240417T200845Z
LAST-MODIFIED:20240417T200845Z
UID:10007865-1716316200-1716319800@www.lovemylibrary.ca
SUMMARY:Author Reading:  The Dead Die Twice: Abandoned Cemeteries of Nova Scotia by Steve Skafte
DESCRIPTION:Join Steve Skafte as he discusses a year spent exploring Nova Scotia’s abandoned cemeteries – unearthing buried stones and half-forgotten stories – and the book that came out of his exploration. \nDrop in. No registration required.
URL:https://www.lovemylibrary.ca/event/author-reading-the-dead-die-twice-abandoned-cemeteries-of-nova-scotia-by-steve-skafte/
LOCATION:Truro Library\, 754 Prince St\, Truro\, Nova Scotia\, Canada
CATEGORIES:Events For Adults,Events For Seniors,Location: Truro
ATTACH;FMTTYPE=image/png:https://www.lovemylibrary.ca/wp-content/uploads/2024/04/Untitled-design-6.png
END:VEVENT
BEGIN:VEVENT
DTSTART;TZID=America/Halifax:20240521T183000
DTEND;TZID=America/Halifax:20240521T200000
DTSTAMP:20260422T202039
CREATED:20231229T142155Z
LAST-MODIFIED:20240320T180444Z
UID:10007479-1716316200-1716321600@www.lovemylibrary.ca
SUMMARY:Ewe-niacke Yarn Club
DESCRIPTION:Fiber art for all ages and abilities. Learn to knit or crochet\, bring a project you are working on\, or just come hang out with the club for some social time. All ages welcome. \nDrop in\, no registration required.
URL:https://www.lovemylibrary.ca/event/ewe-niacke-yarn-club-3-2/2024-05-21/
LOCATION:Mount Uniacke Library\, 555\, Highway 1\, Mount Uniacke\, Nova Scotia\, Canada
CATEGORIES:Crafting,Events For Adults,Events For Kids,Events For Seniors,Location: Mount Uniacke
ATTACH;FMTTYPE=image/png:https://www.lovemylibrary.ca/wp-content/uploads/2022/03/Untitled-design-89.png
END:VEVENT
BEGIN:VEVENT
DTSTART;VALUE=DATE:20240522
DTEND;VALUE=DATE:20240523
DTSTAMP:20260422T202039
CREATED:20240423T175925Z
LAST-MODIFIED:20240518T165102Z
UID:10007926-1716336000-1716422399@www.lovemylibrary.ca
SUMMARY:Shelf Care Bingo
DESCRIPTION:Give yourself some shelf care! Pick up your Shelf Care Bingo Sheet at a service desk and combine reading with self-care. All ages. \nComplete the challenge by getting five in a row and be entered into a draw for a $25 Indigo Card!
URL:https://www.lovemylibrary.ca/event/shelf-care-bingo-3/2024-05-22/
LOCATION:Truro Library\, 754 Prince St\, Truro\, Nova Scotia\, Canada
CATEGORIES:Events For Adults,Events For Kids,Events For Seniors,Events For Teens,Location: Truro
ATTACH;FMTTYPE=image/png:https://www.lovemylibrary.ca/wp-content/uploads/2023/04/Untitled-design-32.png
END:VEVENT
BEGIN:VEVENT
DTSTART;TZID=America/Halifax:20240522T100000
DTEND;TZID=America/Halifax:20240522T200000
DTSTAMP:20260422T202039
CREATED:20240517T190645Z
LAST-MODIFIED:20240517T191453Z
UID:10008309-1716372000-1716408000@www.lovemylibrary.ca
SUMMARY:Archetypes: Art Exhibit by Catalina Dudka
DESCRIPTION:The art exhibit “Archetypes” is comprised of mixed media paintings. These pieces are full of whimsy and an inner symbolism that Dudka hopes speaks to the viewer. Drop in and take a moment to dwell on each work and the layers of detail and snippets of stories that Dudka has filled them with. \nDrop in. No registration is required.
URL:https://www.lovemylibrary.ca/event/archetypes-art-exhibit-by-catalina-dudka/2024-05-22/
LOCATION:Truro Library\, 754 Prince St\, Truro\, Nova Scotia\, Canada
CATEGORIES:Events For Adults,Events For Seniors,Location: Truro
ATTACH;FMTTYPE=image/png:https://www.lovemylibrary.ca/wp-content/uploads/2024/05/Untitled-design-2-1.png
END:VEVENT
BEGIN:VEVENT
DTSTART;TZID=America/Halifax:20240522T103000
DTEND;TZID=America/Halifax:20240522T110000
DTSTAMP:20260422T202039
CREATED:20231229T135634Z
LAST-MODIFIED:20240416T203006Z
UID:10007813-1716373800-1716375600@www.lovemylibrary.ca
SUMMARY:Storytime
DESCRIPTION:Enjoy a picture book read by Karri or Bernie and then participate in an activity. For pre schoolers and home schoolers. \nThis is a drop-in program. No registration is required.
URL:https://www.lovemylibrary.ca/event/storytime-4-2-2-2/2024-05-22/
LOCATION:Mount Uniacke Library\, 555\, Highway 1\, Mount Uniacke\, Nova Scotia\, Canada
CATEGORIES:Events For Kids,Location: Mount Uniacke
ATTACH;FMTTYPE=image/png:https://www.lovemylibrary.ca/wp-content/uploads/2022/05/Untitled-design-2.png
END:VEVENT
BEGIN:VEVENT
DTSTART;TZID=America/Halifax:20240522T103000
DTEND;TZID=America/Halifax:20240522T113000
DTSTAMP:20260422T202039
CREATED:20240220T225846Z
LAST-MODIFIED:20241121T202410Z
UID:10007879-1716373800-1716377400@www.lovemylibrary.ca
SUMMARY:Parents and Tots Story Time and Crafts
DESCRIPTION:Come along and enjoy an hour of fun filled story time and craft.  For ages 0+ \nDrop-in\, no registration required.
URL:https://www.lovemylibrary.ca/event/tots-and-moms-social-time-3-2-2-2/2024-05-22/
LOCATION:Tatamagouche Library\, 170 Main Street\, Tatamagouche\, Nova Scotia\, Canada
CATEGORIES:Events For Kids,Location: Tatamagouche
ATTACH;FMTTYPE=image/png:https://www.lovemylibrary.ca/wp-content/uploads/2022/03/Untitled-design-75.png
END:VEVENT
BEGIN:VEVENT
DTSTART;TZID=America/Halifax:20240522T130000
DTEND;TZID=America/Halifax:20240522T150000
DTSTAMP:20260422T202039
CREATED:20240416T223735Z
LAST-MODIFIED:20240416T223735Z
UID:10007860-1716382800-1716390000@www.lovemylibrary.ca
SUMMARY:Makers in the Maker Lab
DESCRIPTION:Calling all Makers! Drop by for a relaxing afternoon to hang out with fellow crafters. Bring along your ongoing projects like knitting\, crochet\, needlework\, painting or other hands on crafts. \nNo registration\, drop in.
URL:https://www.lovemylibrary.ca/event/makers-in-the-maker-lab-8/2024-05-22/
LOCATION:Truro Library\, 754 Prince St\, Truro\, Nova Scotia\, Canada
CATEGORIES:Crafting,Events For Adults,Events For Seniors,Location: Truro
ATTACH;FMTTYPE=image/png:https://www.lovemylibrary.ca/wp-content/uploads/2023/01/Untitled-design-2023-01-24T155257.327.png
END:VEVENT
BEGIN:VEVENT
DTSTART;TZID=America/Halifax:20240522T180000
DTEND;TZID=America/Halifax:20240522T190000
DTSTAMP:20260422T202039
CREATED:20240217T202114Z
LAST-MODIFIED:20240416T220417Z
UID:10007289-1716400800-1716404400@www.lovemylibrary.ca
SUMMARY:Mario Kart Tournament
DESCRIPTION:Get ready to rev your engines and drift into action because we’re hosting the most epic Mario Kart Tournament ever! Join the race\, have fun and make new friends along the way. Ages 8-14 \nThis is a drop in program. No registration is required.\n 
URL:https://www.lovemylibrary.ca/event/mario-kart-tournament-2/
LOCATION:Truro Library\, 754 Prince St\, Truro\, Nova Scotia\, Canada
CATEGORIES:Events For Kids,Location: Truro
ATTACH;FMTTYPE=image/png:https://www.lovemylibrary.ca/wp-content/uploads/2024/02/Untitled-design-2024-02-17T162153.917.png
END:VEVENT
BEGIN:VEVENT
DTSTART;TZID=America/Halifax:20240522T191500
DTEND;TZID=America/Halifax:20240522T200000
DTSTAMP:20260422T202039
CREATED:20240416T224604Z
LAST-MODIFIED:20240416T224604Z
UID:10007863-1716405300-1716408000@www.lovemylibrary.ca
SUMMARY:Chimney Swifts: coming to a chimney near you
DESCRIPTION:Join Birds Canada to learn interesting facts about Chimney Swifts\, why these provincially endangered birds are disappearing from our skies\, and what we can do to help. After the presentation\, we will have a chance to watch Chimney Swifts return to their roost chimney at the Truro Library for the night. All ages are welcome. \nThis is a drop-in program. No registration is required.
URL:https://www.lovemylibrary.ca/event/chimney-swifts-coming-to-a-chimney-near-you-2/
LOCATION:Truro Library\, 754 Prince St\, Truro\, Nova Scotia\, Canada
CATEGORIES:Events For Adults,Events For Kids,Events For Seniors,Location: Truro
ATTACH;FMTTYPE=image/png:https://www.lovemylibrary.ca/wp-content/uploads/2023/04/Untitled-design-35.png
END:VEVENT
BEGIN:VEVENT
DTSTART;VALUE=DATE:20240523
DTEND;VALUE=DATE:20240524
DTSTAMP:20260422T202039
CREATED:20240423T175925Z
LAST-MODIFIED:20240518T165102Z
UID:10007927-1716422400-1716508799@www.lovemylibrary.ca
SUMMARY:Shelf Care Bingo
DESCRIPTION:Give yourself some shelf care! Pick up your Shelf Care Bingo Sheet at a service desk and combine reading with self-care. All ages. \nComplete the challenge by getting five in a row and be entered into a draw for a $25 Indigo Card!
URL:https://www.lovemylibrary.ca/event/shelf-care-bingo-3/2024-05-23/
LOCATION:Truro Library\, 754 Prince St\, Truro\, Nova Scotia\, Canada
CATEGORIES:Events For Adults,Events For Kids,Events For Seniors,Events For Teens,Location: Truro
ATTACH;FMTTYPE=image/png:https://www.lovemylibrary.ca/wp-content/uploads/2023/04/Untitled-design-32.png
END:VEVENT
BEGIN:VEVENT
DTSTART;TZID=America/Halifax:20240523T100000
DTEND;TZID=America/Halifax:20240523T110000
DTSTAMP:20260422T202039
CREATED:20230627T185401Z
LAST-MODIFIED:20240416T222253Z
UID:10004616-1716458400-1716462000@www.lovemylibrary.ca
SUMMARY:Virtual Author Visit: Jack Wong
DESCRIPTION:Jack Wong is an author and illustrator who was born in Hong Kong\, raised in Vancouver\, and now lives in Halifax. He will join us on Zoom to read his most recent picture book\, All That Grows\, and chat about how he became a successful author. Suitable for ages 4 and up. \nTo register\, email info@cehpubliclibrary.ca
URL:https://www.lovemylibrary.ca/event/author-visit-with-jack-wong/
LOCATION:Virtual
CATEGORIES:Events For Kids,Location: Virtual
ATTACH;FMTTYPE=image/png:https://www.lovemylibrary.ca/wp-content/uploads/2023/06/Your-paragraph-text-20.png
END:VEVENT
END:VCALENDAR