BEGIN:VCALENDAR
VERSION:2.0
PRODID:-//Colchester East Hants Public Library - ECPv6.15.20//NONSGML v1.0//EN
CALSCALE:GREGORIAN
METHOD:PUBLISH
X-WR-CALNAME:Colchester East Hants Public Library
X-ORIGINAL-URL:https://www.lovemylibrary.ca
X-WR-CALDESC:Events for Colchester East Hants Public Library
REFRESH-INTERVAL;VALUE=DURATION:PT1H
X-Robots-Tag:noindex
X-PUBLISHED-TTL:PT1H
BEGIN:VTIMEZONE
TZID:America/Halifax
BEGIN:DAYLIGHT
TZOFFSETFROM:-0400
TZOFFSETTO:-0300
TZNAME:ADT
DTSTART:20230312T060000
END:DAYLIGHT
BEGIN:STANDARD
TZOFFSETFROM:-0300
TZOFFSETTO:-0400
TZNAME:AST
DTSTART:20231105T050000
END:STANDARD
BEGIN:DAYLIGHT
TZOFFSETFROM:-0400
TZOFFSETTO:-0300
TZNAME:ADT
DTSTART:20240310T060000
END:DAYLIGHT
BEGIN:STANDARD
TZOFFSETFROM:-0300
TZOFFSETTO:-0400
TZNAME:AST
DTSTART:20241103T050000
END:STANDARD
BEGIN:DAYLIGHT
TZOFFSETFROM:-0400
TZOFFSETTO:-0300
TZNAME:ADT
DTSTART:20250309T060000
END:DAYLIGHT
BEGIN:STANDARD
TZOFFSETFROM:-0300
TZOFFSETTO:-0400
TZNAME:AST
DTSTART:20251102T050000
END:STANDARD
END:VTIMEZONE
BEGIN:VEVENT
DTSTART;TZID=America/Halifax:20240521T170000
DTEND;TZID=America/Halifax:20240618T180000
DTSTAMP:20260422T184804
CREATED:20230911T181215Z
LAST-MODIFIED:20241213T193251Z
UID:10010649-1716310800-1718733600@www.lovemylibrary.ca
SUMMARY:Paws to Read ®
DESCRIPTION:The Paws to Read program offers kids a safe environment to practice reading aloud to an attentive and adorable audience. Children build confidence and reading skills in one-on-one sessions with therapy dogs. Participants attend 5 weekly half-hour sessions with a trained therapy dog volunteer and a certified handler. For children in grades 1-5 \nIn-Person. Registration is required. For details\, please call us at (902) 883-9838 or email us at elmsdale@cehpubliclibrary.ca
URL:https://www.lovemylibrary.ca/event/paws-to-read/2024-05-21/
LOCATION:Elmsdale Library\, 15 Commerce Ct\, Elmsdale\, Nova Scotia\, Canada
CATEGORIES:Events For Kids,Location: Elmsdale
ATTACH;FMTTYPE=image/png:https://www.lovemylibrary.ca/wp-content/uploads/2023/09/Untitled-design-2023-09-11T151119.554.png
END:VEVENT
BEGIN:VEVENT
DTSTART;TZID=America/Halifax:20240528T170000
DTEND;TZID=America/Halifax:20240625T180000
DTSTAMP:20260422T184804
CREATED:20230911T181215Z
LAST-MODIFIED:20241213T193251Z
UID:10010650-1716915600-1719338400@www.lovemylibrary.ca
SUMMARY:Paws to Read ®
DESCRIPTION:The Paws to Read program offers kids a safe environment to practice reading aloud to an attentive and adorable audience. Children build confidence and reading skills in one-on-one sessions with therapy dogs. Participants attend 5 weekly half-hour sessions with a trained therapy dog volunteer and a certified handler. For children in grades 1-5 \nIn-Person. Registration is required. For details\, please call us at (902) 883-9838 or email us at elmsdale@cehpubliclibrary.ca
URL:https://www.lovemylibrary.ca/event/paws-to-read/2024-05-28/
LOCATION:Elmsdale Library\, 15 Commerce Ct\, Elmsdale\, Nova Scotia\, Canada
CATEGORIES:Events For Kids,Location: Elmsdale
ATTACH;FMTTYPE=image/png:https://www.lovemylibrary.ca/wp-content/uploads/2023/09/Untitled-design-2023-09-11T151119.554.png
END:VEVENT
BEGIN:VEVENT
DTSTART;TZID=America/Halifax:20240604T170000
DTEND;TZID=America/Halifax:20240702T180000
DTSTAMP:20260422T184804
CREATED:20230911T181215Z
LAST-MODIFIED:20241213T193251Z
UID:10010651-1717520400-1719943200@www.lovemylibrary.ca
SUMMARY:Paws to Read ®
DESCRIPTION:The Paws to Read program offers kids a safe environment to practice reading aloud to an attentive and adorable audience. Children build confidence and reading skills in one-on-one sessions with therapy dogs. Participants attend 5 weekly half-hour sessions with a trained therapy dog volunteer and a certified handler. For children in grades 1-5 \nIn-Person. Registration is required. For details\, please call us at (902) 883-9838 or email us at elmsdale@cehpubliclibrary.ca
URL:https://www.lovemylibrary.ca/event/paws-to-read/2024-06-04/
LOCATION:Elmsdale Library\, 15 Commerce Ct\, Elmsdale\, Nova Scotia\, Canada
CATEGORIES:Events For Kids,Location: Elmsdale
ATTACH;FMTTYPE=image/png:https://www.lovemylibrary.ca/wp-content/uploads/2023/09/Untitled-design-2023-09-11T151119.554.png
END:VEVENT
BEGIN:VEVENT
DTSTART;TZID=America/Halifax:20240607T100000
DTEND;TZID=America/Halifax:20240712T120000
DTSTAMP:20260422T184804
CREATED:20240513T152733Z
LAST-MODIFIED:20250417T173941Z
UID:10007430-1717754400-1720785600@www.lovemylibrary.ca
SUMMARY:One on One Tech Help
DESCRIPTION:Issues with your phone? Laptop? Social Media? Meet in-person with our digital literacy trainer to get your tech questions answered. \nDrop in – please call (902) 883-9838 or email us at elmsdale@cehpubliclibrary.ca for more details.
URL:https://www.lovemylibrary.ca/event/one-on-one-tech-help-7-2-2-2/2024-06-07/
LOCATION:Elmsdale Library\, 15 Commerce Ct\, Elmsdale\, Nova Scotia\, Canada
CATEGORIES:Events For Adults,Location: Elmsdale
ATTACH;FMTTYPE=image/png:https://www.lovemylibrary.ca/wp-content/uploads/2022/03/Untitled-design-80.png
END:VEVENT
BEGIN:VEVENT
DTSTART;TZID=America/Halifax:20240611T170000
DTEND;TZID=America/Halifax:20240709T180000
DTSTAMP:20260422T184804
CREATED:20230911T181215Z
LAST-MODIFIED:20241213T193251Z
UID:10010652-1718125200-1720548000@www.lovemylibrary.ca
SUMMARY:Paws to Read ®
DESCRIPTION:The Paws to Read program offers kids a safe environment to practice reading aloud to an attentive and adorable audience. Children build confidence and reading skills in one-on-one sessions with therapy dogs. Participants attend 5 weekly half-hour sessions with a trained therapy dog volunteer and a certified handler. For children in grades 1-5 \nIn-Person. Registration is required. For details\, please call us at (902) 883-9838 or email us at elmsdale@cehpubliclibrary.ca
URL:https://www.lovemylibrary.ca/event/paws-to-read/2024-06-11/
LOCATION:Elmsdale Library\, 15 Commerce Ct\, Elmsdale\, Nova Scotia\, Canada
CATEGORIES:Events For Kids,Location: Elmsdale
ATTACH;FMTTYPE=image/png:https://www.lovemylibrary.ca/wp-content/uploads/2023/09/Untitled-design-2023-09-11T151119.554.png
END:VEVENT
BEGIN:VEVENT
DTSTART;TZID=America/Halifax:20240614T100000
DTEND;TZID=America/Halifax:20240719T120000
DTSTAMP:20260422T184804
CREATED:20240513T152733Z
LAST-MODIFIED:20250417T173941Z
UID:10007945-1718359200-1721390400@www.lovemylibrary.ca
SUMMARY:One on One Tech Help
DESCRIPTION:Issues with your phone? Laptop? Social Media? Meet in-person with our digital literacy trainer to get your tech questions answered. \nDrop in – please call (902) 883-9838 or email us at elmsdale@cehpubliclibrary.ca for more details.
URL:https://www.lovemylibrary.ca/event/one-on-one-tech-help-7-2-2-2/2024-06-14/
LOCATION:Elmsdale Library\, 15 Commerce Ct\, Elmsdale\, Nova Scotia\, Canada
CATEGORIES:Events For Adults,Location: Elmsdale
ATTACH;FMTTYPE=image/png:https://www.lovemylibrary.ca/wp-content/uploads/2022/03/Untitled-design-80.png
END:VEVENT
BEGIN:VEVENT
DTSTART;VALUE=DATE:20240617
DTEND;VALUE=DATE:20240722
DTSTAMP:20260422T184804
CREATED:20240618T162804Z
LAST-MODIFIED:20240618T162804Z
UID:10008494-1718582400-1721606399@www.lovemylibrary.ca
SUMMARY:Story Walk
DESCRIPTION:Take a stroll through Kiwanis Park and enjoy our Story Walk. The picture book\, “The Darkest Dark” by Chris Hadfield will be on display to read and enjoy with your family! All ages are encouraged to participate.
URL:https://www.lovemylibrary.ca/event/story-walk-7/
LOCATION:Kiwanis Park
CATEGORIES:Events For Kids,Location: Truro
ATTACH;FMTTYPE=image/png:https://www.lovemylibrary.ca/wp-content/uploads/2024/06/Untitled-design-2024-06-18T132802.393.png
END:VEVENT
BEGIN:VEVENT
DTSTART;TZID=America/Halifax:20240617T100000
DTEND;TZID=America/Halifax:20240617T170000
DTSTAMP:20260422T184804
CREATED:20240517T190645Z
LAST-MODIFIED:20240517T191453Z
UID:10008297-1718618400-1718643600@www.lovemylibrary.ca
SUMMARY:Archetypes: Art Exhibit by Catalina Dudka
DESCRIPTION:The art exhibit “Archetypes” is comprised of mixed media paintings. These pieces are full of whimsy and an inner symbolism that Dudka hopes speaks to the viewer. Drop in and take a moment to dwell on each work and the layers of detail and snippets of stories that Dudka has filled them with. \nDrop in. No registration is required.
URL:https://www.lovemylibrary.ca/event/archetypes-art-exhibit-by-catalina-dudka/2024-06-17/
LOCATION:Truro Library\, 754 Prince St\, Truro\, Nova Scotia\, Canada
CATEGORIES:Events For Adults,Events For Seniors,Location: Truro
ATTACH;FMTTYPE=image/png:https://www.lovemylibrary.ca/wp-content/uploads/2024/05/Untitled-design-2-1.png
END:VEVENT
BEGIN:VEVENT
DTSTART;TZID=America/Halifax:20240618T100000
DTEND;TZID=America/Halifax:20240618T200000
DTSTAMP:20260422T184804
CREATED:20240517T190645Z
LAST-MODIFIED:20240517T191453Z
UID:10008298-1718704800-1718740800@www.lovemylibrary.ca
SUMMARY:Archetypes: Art Exhibit by Catalina Dudka
DESCRIPTION:The art exhibit “Archetypes” is comprised of mixed media paintings. These pieces are full of whimsy and an inner symbolism that Dudka hopes speaks to the viewer. Drop in and take a moment to dwell on each work and the layers of detail and snippets of stories that Dudka has filled them with. \nDrop in. No registration is required.
URL:https://www.lovemylibrary.ca/event/archetypes-art-exhibit-by-catalina-dudka/2024-06-18/
LOCATION:Truro Library\, 754 Prince St\, Truro\, Nova Scotia\, Canada
CATEGORIES:Events For Adults,Events For Seniors,Location: Truro
ATTACH;FMTTYPE=image/png:https://www.lovemylibrary.ca/wp-content/uploads/2024/05/Untitled-design-2-1.png
END:VEVENT
BEGIN:VEVENT
DTSTART;TZID=America/Halifax:20240618T110000
DTEND;TZID=America/Halifax:20240618T120000
DTSTAMP:20260422T184804
CREATED:20240607T172213Z
LAST-MODIFIED:20240607T172213Z
UID:10008346-1718708400-1718712000@www.lovemylibrary.ca
SUMMARY:Conversational English
DESCRIPTION:Is English your 2nd language? Or maybe your 4th? Our Conversational English program is for those who would like to practice their English in a fun and friendly environment. In partnership with YREACH. \nThis is a drop-in event. No registration is required.
URL:https://www.lovemylibrary.ca/event/conversational-english-8/2024-06-18/
LOCATION:Truro Library\, 754 Prince St\, Truro\, Nova Scotia\, Canada
CATEGORIES:Events For Adults,Events For Seniors,Location: Truro
ATTACH;FMTTYPE=image/jpeg:https://www.lovemylibrary.ca/wp-content/uploads/2021/08/13.jpg
END:VEVENT
BEGIN:VEVENT
DTSTART;TZID=America/Halifax:20240618T140000
DTEND;TZID=America/Halifax:20240618T150000
DTSTAMP:20260422T184804
CREATED:20240510T165348Z
LAST-MODIFIED:20240510T165348Z
UID:10007939-1718719200-1718722800@www.lovemylibrary.ca
SUMMARY:Seniors’ Social – Elvis Party
DESCRIPTION:Throw on your Blue Suede Shoes\, dance a little Jailhouse Rock and get All Shook Up at Stewiacke Library’s Elvis Party! Games\, music and prizes. Extra chances to win if you come in costume. \nThis is a drop in program. Registration is not required.
URL:https://www.lovemylibrary.ca/event/seniors-social-elvis-party/
LOCATION:Stewiacke Library\, 295 George Street\, Stewiacke\, Nova Scotia\, Canada
CATEGORIES:Events For Seniors,Location: Stewiacke
ATTACH;FMTTYPE=image/png:https://www.lovemylibrary.ca/wp-content/uploads/2024/05/Untitled-design-2024-05-10T135529.764.png
END:VEVENT
BEGIN:VEVENT
DTSTART;TZID=America/Halifax:20240618T140000
DTEND;TZID=America/Halifax:20240618T160000
DTSTAMP:20260422T184804
CREATED:20240321T142615Z
LAST-MODIFIED:20240515T210419Z
UID:10007527-1718719200-1718726400@www.lovemylibrary.ca
SUMMARY:Crochet Creations Club
DESCRIPTION:Crocheting is the perfect hobby for all ages. \n\nHave an afternoon snack and enjoy camaraderie and friendship\nLearn a new skill or perfect your technique.\nAll skill levels welcome\n\n  Drop In: No registration necessary\n 
URL:https://www.lovemylibrary.ca/event/crochet-creations-club-2/2024-06-18/
LOCATION:Stewiacke Library\, 295 George Street\, Stewiacke\, Nova Scotia\, Canada
CATEGORIES:Crafting,Events For Adults,Events For Kids,Events For Seniors,Events For Teens,Location: Stewiacke
ATTACH;FMTTYPE=image/png:https://www.lovemylibrary.ca/wp-content/uploads/2022/12/Untitled-design-33.png
END:VEVENT
BEGIN:VEVENT
DTSTART;TZID=America/Halifax:20240618T143000
DTEND;TZID=America/Halifax:20240618T160000
DTSTAMP:20260422T184804
CREATED:20231027T191218Z
LAST-MODIFIED:20240517T175529Z
UID:10005722-1718721000-1718726400@www.lovemylibrary.ca
SUMMARY:Tuesday Crafternoon
DESCRIPTION:The Parade is coming\, the parade is coming. We are preparing our float for the parade and could use all the help we can get. Ages 5-15 \nRegister in branch or by email mtuniack@cehpubliclibrary.ca
URL:https://www.lovemylibrary.ca/event/tuesday-crafternoon-5/
LOCATION:Mount Uniacke Library\, 555\, Highway 1\, Mount Uniacke\, Nova Scotia\, Canada
CATEGORIES:Crafting,Events For Kids,Events For Teens,Location: Mount Uniacke
ATTACH;FMTTYPE=image/png:https://www.lovemylibrary.ca/wp-content/uploads/2022/06/Untitled-700-×-500-px-1.png
END:VEVENT
BEGIN:VEVENT
DTSTART;TZID=America/Halifax:20240618T143000
DTEND;TZID=America/Halifax:20240618T170000
DTSTAMP:20260422T184804
CREATED:20240221T182238Z
LAST-MODIFIED:20240521T210710Z
UID:10008320-1718721000-1718730000@www.lovemylibrary.ca
SUMMARY:Afterschool Chill Zone
DESCRIPTION:Relax and have fun after school with computers\, books\, and games in the chill zone. For ages 8-14 \nThis is a drop-in program. No registration is required.
URL:https://www.lovemylibrary.ca/event/after-school-chill-zone-with-games-and-craft-2/2024-06-18/
LOCATION:Tatamagouche Library\, 170 Main Street\, Tatamagouche\, Nova Scotia\, Canada
CATEGORIES:Events For Kids,Location: Tatamagouche
ATTACH;FMTTYPE=image/jpeg:https://www.lovemylibrary.ca/wp-content/uploads/2023/02/pexels-artem-podrez-8087869-scaled.jpg
END:VEVENT
BEGIN:VEVENT
DTSTART;TZID=America/Halifax:20240618T150000
DTEND;TZID=America/Halifax:20240618T163000
DTSTAMP:20260422T184804
CREATED:20240516T172149Z
LAST-MODIFIED:20240516T172149Z
UID:10008074-1718722800-1718728200@www.lovemylibrary.ca
SUMMARY:Teen Room Cram Cafe
DESCRIPTION:Drop by the Truro Library teen room for a peaceful place to study for your exams. Snacks\, fidgets\, and basic school supplies provided. Ages 13-18 \nDrop in. No registration is required.
URL:https://www.lovemylibrary.ca/event/teen-room-cram-cafe/2024-06-18/
LOCATION:Truro Library\, 754 Prince St\, Truro\, Nova Scotia\, Canada
CATEGORIES:Events For Teens,Location: Truro
ATTACH;FMTTYPE=image/png:https://www.lovemylibrary.ca/wp-content/uploads/2024/05/Untitled-design.png
END:VEVENT
BEGIN:VEVENT
DTSTART;TZID=America/Halifax:20240618T150000
DTEND;TZID=America/Halifax:20240618T170000
DTSTAMP:20260422T184804
CREATED:20240516T162824Z
LAST-MODIFIED:20240516T163013Z
UID:10008055-1718722800-1718730000@www.lovemylibrary.ca
SUMMARY:Maker Lab Fun Time
DESCRIPTION:Curious about the Maker Lab? Come on in and explore. Program robots\, create circuits\, build with magnetic tiles\, and more! All ages are welcome. \nThis is a drop-in and no registration is required.
URL:https://www.lovemylibrary.ca/event/maker-lab-fun-time-4/2024-06-18/
LOCATION:Truro Library\, 754 Prince St\, Truro\, Nova Scotia\, Canada
CATEGORIES:Events For Kids,Location: Truro,STEAM
ATTACH;FMTTYPE=image/png:https://www.lovemylibrary.ca/wp-content/uploads/2023/09/Untitled-design-2023-09-29T143321.527.png
END:VEVENT
BEGIN:VEVENT
DTSTART;TZID=America/Halifax:20240618T170000
DTEND;TZID=America/Halifax:20240716T180000
DTSTAMP:20260422T184804
CREATED:20230911T181215Z
LAST-MODIFIED:20241213T193251Z
UID:10010653-1718730000-1721152800@www.lovemylibrary.ca
SUMMARY:Paws to Read ®
DESCRIPTION:The Paws to Read program offers kids a safe environment to practice reading aloud to an attentive and adorable audience. Children build confidence and reading skills in one-on-one sessions with therapy dogs. Participants attend 5 weekly half-hour sessions with a trained therapy dog volunteer and a certified handler. For children in grades 1-5 \nIn-Person. Registration is required. For details\, please call us at (902) 883-9838 or email us at elmsdale@cehpubliclibrary.ca
URL:https://www.lovemylibrary.ca/event/paws-to-read/2024-06-18/
LOCATION:Elmsdale Library\, 15 Commerce Ct\, Elmsdale\, Nova Scotia\, Canada
CATEGORIES:Events For Kids,Location: Elmsdale
ATTACH;FMTTYPE=image/png:https://www.lovemylibrary.ca/wp-content/uploads/2023/09/Untitled-design-2023-09-11T151119.554.png
END:VEVENT
BEGIN:VEVENT
DTSTART;TZID=America/Halifax:20240618T173000
DTEND;TZID=America/Halifax:20240618T200000
DTSTAMP:20260422T184804
CREATED:20240517T182605Z
LAST-MODIFIED:20240517T182605Z
UID:10008269-1718731800-1718740800@www.lovemylibrary.ca
SUMMARY:Heroes & Adventurers
DESCRIPTION:Role-playing game nights with extraordinary people! We provide the supplies\, you provide the imagination. No experience needed. All welcome! \nRegister to play by emailing: HAATruro@gmail.com Sorry\, no drop-in players at this time.
URL:https://www.lovemylibrary.ca/event/heroes-adventurers-9/2024-06-18/
LOCATION:Truro Library\, 754 Prince St\, Truro\, Nova Scotia\, Canada
CATEGORIES:Events For Adults,Events For Kids,Events For Seniors,Events For Teens,Location: Truro
ATTACH;FMTTYPE=image/png:https://www.lovemylibrary.ca/wp-content/uploads/2022/06/D-and-D.png
END:VEVENT
BEGIN:VEVENT
DTSTART;TZID=America/Halifax:20240618T180000
DTEND;TZID=America/Halifax:20240618T200000
DTSTAMP:20260422T184804
CREATED:20240220T233656Z
LAST-MODIFIED:20240809T192348Z
UID:10008487-1718733600-1718740800@www.lovemylibrary.ca
SUMMARY:Game Night
DESCRIPTION:Enjoy a night of fun and laughter with your friends as you play a variety of board games. All ages are welcome. \nThis is a drop in program. No registration is required.
URL:https://www.lovemylibrary.ca/event/game-night-2/2024-06-18/
LOCATION:Tatamagouche Library\, 170 Main Street\, Tatamagouche\, Nova Scotia\, Canada
CATEGORIES:Events For Adults,Location: Tatamagouche
ATTACH;FMTTYPE=image/png:https://www.lovemylibrary.ca/wp-content/uploads/2024/02/Untitled-design-2024-02-20T193747.380.png
END:VEVENT
BEGIN:VEVENT
DTSTART;TZID=America/Halifax:20240618T183000
DTEND;TZID=America/Halifax:20240618T200000
DTSTAMP:20260422T184804
CREATED:20240516T190039Z
LAST-MODIFIED:20240516T190039Z
UID:10008232-1718735400-1718740800@www.lovemylibrary.ca
SUMMARY:Ewe-niacke Yarn Club
DESCRIPTION:Fiber art for all ages and abilities. Learn to knit or crochet\, bring a project you are working on\, or just come hang out with the club for some social time. All ages welcome. \nDrop in\, no registration required.
URL:https://www.lovemylibrary.ca/event/ewe-niacke-yarn-club-7/2024-06-18/
LOCATION:Mount Uniacke Library\, 555\, Highway 1\, Mount Uniacke\, Nova Scotia\, Canada
CATEGORIES:Crafting,Events For Adults,Events For Kids,Events For Seniors,Location: Mount Uniacke
ATTACH;FMTTYPE=image/png:https://www.lovemylibrary.ca/wp-content/uploads/2022/03/Untitled-design-89.png
END:VEVENT
BEGIN:VEVENT
DTSTART;TZID=America/Halifax:20240619T100000
DTEND;TZID=America/Halifax:20240619T200000
DTSTAMP:20260422T184804
CREATED:20240517T190645Z
LAST-MODIFIED:20240517T191453Z
UID:10008299-1718791200-1718827200@www.lovemylibrary.ca
SUMMARY:Archetypes: Art Exhibit by Catalina Dudka
DESCRIPTION:The art exhibit “Archetypes” is comprised of mixed media paintings. These pieces are full of whimsy and an inner symbolism that Dudka hopes speaks to the viewer. Drop in and take a moment to dwell on each work and the layers of detail and snippets of stories that Dudka has filled them with. \nDrop in. No registration is required.
URL:https://www.lovemylibrary.ca/event/archetypes-art-exhibit-by-catalina-dudka/2024-06-19/
LOCATION:Truro Library\, 754 Prince St\, Truro\, Nova Scotia\, Canada
CATEGORIES:Events For Adults,Events For Seniors,Location: Truro
ATTACH;FMTTYPE=image/png:https://www.lovemylibrary.ca/wp-content/uploads/2024/05/Untitled-design-2-1.png
END:VEVENT
BEGIN:VEVENT
DTSTART;TZID=America/Halifax:20240619T103000
DTEND;TZID=America/Halifax:20240619T110000
DTSTAMP:20260422T184804
CREATED:20240516T181751Z
LAST-MODIFIED:20240516T181751Z
UID:10008135-1718793000-1718794800@www.lovemylibrary.ca
SUMMARY:Storytime
DESCRIPTION:Enjoy a picture book read by Karri or Bernie and then participate in an activity. For pre-schoolers and home schoolers. \nThis is a drop-in program. No registration is required.
URL:https://www.lovemylibrary.ca/event/storytime-7/2024-06-19/
LOCATION:Mount Uniacke Library\, 555\, Highway 1\, Mount Uniacke\, Nova Scotia\, Canada
CATEGORIES:Events For Kids,Location: Mount Uniacke
ATTACH;FMTTYPE=image/png:https://www.lovemylibrary.ca/wp-content/uploads/2022/05/Untitled-design-2.png
END:VEVENT
BEGIN:VEVENT
DTSTART;TZID=America/Halifax:20240619T103000
DTEND;TZID=America/Halifax:20240619T113000
DTSTAMP:20260422T184804
CREATED:20240220T225846Z
LAST-MODIFIED:20241121T202410Z
UID:10008323-1718793000-1718796600@www.lovemylibrary.ca
SUMMARY:Parents and Tots Story Time and Crafts
DESCRIPTION:Come along and enjoy an hour of fun filled story time and craft.  For ages 0+ \nDrop-in\, no registration required.
URL:https://www.lovemylibrary.ca/event/tots-and-moms-social-time-3-2-2-2/2024-06-19/
LOCATION:Tatamagouche Library\, 170 Main Street\, Tatamagouche\, Nova Scotia\, Canada
CATEGORIES:Events For Kids,Location: Tatamagouche
ATTACH;FMTTYPE=image/png:https://www.lovemylibrary.ca/wp-content/uploads/2022/03/Untitled-design-75.png
END:VEVENT
BEGIN:VEVENT
DTSTART;TZID=America/Halifax:20240619T130000
DTEND;TZID=America/Halifax:20240619T150000
DTSTAMP:20260422T184804
CREATED:20240517T182223Z
LAST-MODIFIED:20240517T182223Z
UID:10008261-1718802000-1718809200@www.lovemylibrary.ca
SUMMARY:Makers in the Maker Lab
DESCRIPTION:Calling all Makers! Drop by for a relaxing afternoon to hang out with fellow crafters. Bring along your ongoing projects like knitting\, crochet\, needlework\, painting or other hands on crafts. \nNo registration\, drop in.
URL:https://www.lovemylibrary.ca/event/makers-in-the-maker-lab-9/2024-06-19/
LOCATION:Truro Library\, 754 Prince St\, Truro\, Nova Scotia\, Canada
CATEGORIES:Crafting,Events For Adults,Events For Seniors,Location: Truro
ATTACH;FMTTYPE=image/png:https://www.lovemylibrary.ca/wp-content/uploads/2023/01/Untitled-design-2023-01-24T155257.327.png
END:VEVENT
BEGIN:VEVENT
DTSTART;TZID=America/Halifax:20240619T143000
DTEND;TZID=America/Halifax:20240619T150000
DTSTAMP:20260422T184804
CREATED:20240517T180414Z
LAST-MODIFIED:20240517T180450Z
UID:10008248-1718807400-1718809200@www.lovemylibrary.ca
SUMMARY:Storytime Closing Party
DESCRIPTION:Join Bernie to celebrate another successful year of Storytime. She has a party planned with a great story\, fun activity\, and a treat. For pre-schoolers\, home schoolers. \nDrop in. No registration is required.
URL:https://www.lovemylibrary.ca/event/storytime-closing-party/
LOCATION:Mount Uniacke Library\, 555\, Highway 1\, Mount Uniacke\, Nova Scotia\, Canada
CATEGORIES:Events For Kids,Location: Mount Uniacke
ATTACH;FMTTYPE=image/png:https://www.lovemylibrary.ca/wp-content/uploads/2022/05/Untitled-design-2.png
END:VEVENT
BEGIN:VEVENT
DTSTART;TZID=America/Halifax:20240619T160000
DTEND;TZID=America/Halifax:20240619T173000
DTSTAMP:20260422T184804
CREATED:20240610T135640Z
LAST-MODIFIED:20240610T145506Z
UID:10008348-1718812800-1718818200@www.lovemylibrary.ca
SUMMARY:Summer Grief Series - Grief & Illness
DESCRIPTION:Creating safe spaces for ourselves and those we care about\, in which we can understand our experience of grieving\, can be helpful. Consider joining us as we gather to discuss\, listen and share about grief. Facilitators: Jane Rogers & Serena Lewis \nWed\, June 26\, 4-5:30pm – Grief & Suicide \nWed\, July 3\, 4:30-6pm – Grief & Unexpected Tragedy \nWed\, July 10\, 4:30-6pm – Grief & Medical Assistance in Dying \n\nTo register call 902-896-4193 or email info@cehpubliclibrary.ca\n 
URL:https://www.lovemylibrary.ca/event/summer-grief-series-grief-illness/
LOCATION:Truro Library\, 754 Prince St\, Truro\, Nova Scotia\, Canada
CATEGORIES:Events For Adults,Location: Truro
ATTACH;FMTTYPE=image/png:https://www.lovemylibrary.ca/wp-content/uploads/2024/06/Untitled-design-5.png
END:VEVENT
BEGIN:VEVENT
DTSTART;TZID=America/Halifax:20240619T180000
DTEND;TZID=America/Halifax:20240619T193000
DTSTAMP:20260422T184804
CREATED:20240516T180226Z
LAST-MODIFIED:20240516T180226Z
UID:10008085-1718820000-1718825400@www.lovemylibrary.ca
SUMMARY:Teen Night: Pride Party
DESCRIPTION:We’re celebrating Pride at the Truro Library! Come for the pizza and games\, stay for the button maker and queer book recommendations. Ages 13-18 \nDrop in. No registration is required.
URL:https://www.lovemylibrary.ca/event/teen-night-pride-party/
LOCATION:Truro Library\, 754 Prince St\, Truro\, Nova Scotia\, Canada
CATEGORIES:Events For Teens,Location: Truro
ATTACH;FMTTYPE=image/png:https://www.lovemylibrary.ca/wp-content/uploads/2022/06/Untitled-700-×-500-px-3.png
END:VEVENT
BEGIN:VEVENT
DTSTART;TZID=America/Halifax:20240620T100000
DTEND;TZID=America/Halifax:20240620T170000
DTSTAMP:20260422T184804
CREATED:20240517T190645Z
LAST-MODIFIED:20240517T191453Z
UID:10008300-1718877600-1718902800@www.lovemylibrary.ca
SUMMARY:Archetypes: Art Exhibit by Catalina Dudka
DESCRIPTION:The art exhibit “Archetypes” is comprised of mixed media paintings. These pieces are full of whimsy and an inner symbolism that Dudka hopes speaks to the viewer. Drop in and take a moment to dwell on each work and the layers of detail and snippets of stories that Dudka has filled them with. \nDrop in. No registration is required.
URL:https://www.lovemylibrary.ca/event/archetypes-art-exhibit-by-catalina-dudka/2024-06-20/
LOCATION:Truro Library\, 754 Prince St\, Truro\, Nova Scotia\, Canada
CATEGORIES:Events For Adults,Events For Seniors,Location: Truro
ATTACH;FMTTYPE=image/png:https://www.lovemylibrary.ca/wp-content/uploads/2024/05/Untitled-design-2-1.png
END:VEVENT
BEGIN:VEVENT
DTSTART;TZID=America/Halifax:20240620T103000
DTEND;TZID=America/Halifax:20240620T110000
DTSTAMP:20260422T184804
CREATED:20240321T133631Z
LAST-MODIFIED:20240321T173903Z
UID:10007536-1718879400-1718881200@www.lovemylibrary.ca
SUMMARY:Baby Rhyme Time
DESCRIPTION:Discover the joy of songs\, finger plays\, bouncing rhymes and simple books. Infant-2 years old with a caregiver. \nThis is a drop in program. No registration is required.
URL:https://www.lovemylibrary.ca/event/baby-rhyme-time-8-2-2/2024-06-20/
LOCATION:Stewiacke Library\, 295 George Street\, Stewiacke\, Nova Scotia\, Canada
CATEGORIES:Events For Kids,Location: Stewiacke
ATTACH;FMTTYPE=image/png:https://www.lovemylibrary.ca/wp-content/uploads/2022/03/Untitled-design-75.png
END:VEVENT
BEGIN:VEVENT
DTSTART;TZID=America/Halifax:20240620T140000
DTEND;TZID=America/Halifax:20240620T150000
DTSTAMP:20260422T184804
CREATED:20240517T185414Z
LAST-MODIFIED:20240517T185452Z
UID:10008274-1718892000-1718895600@www.lovemylibrary.ca
SUMMARY:55+ Pride Social
DESCRIPTION:Drop in\, hang out\, and enjoy some treats. \nThis is a Drop-In program. No registration required.
URL:https://www.lovemylibrary.ca/event/55-pride-week-social-2/
LOCATION:Truro Library\, 754 Prince St\, Truro\, Nova Scotia\, Canada
CATEGORIES:Events For Adults,Events For Seniors,Location: Truro
ATTACH;FMTTYPE=image/png:https://www.lovemylibrary.ca/wp-content/uploads/2023/06/Untitled-design-93.png
END:VEVENT
END:VCALENDAR