BEGIN:VCALENDAR
VERSION:2.0
PRODID:-//Colchester East Hants Public Library - ECPv6.15.20//NONSGML v1.0//EN
CALSCALE:GREGORIAN
METHOD:PUBLISH
X-ORIGINAL-URL:https://www.lovemylibrary.ca
X-WR-CALDESC:Events for Colchester East Hants Public Library
REFRESH-INTERVAL;VALUE=DURATION:PT1H
X-Robots-Tag:noindex
X-PUBLISHED-TTL:PT1H
BEGIN:VTIMEZONE
TZID:America/Halifax
BEGIN:DAYLIGHT
TZOFFSETFROM:-0400
TZOFFSETTO:-0300
TZNAME:ADT
DTSTART:20230312T060000
END:DAYLIGHT
BEGIN:STANDARD
TZOFFSETFROM:-0300
TZOFFSETTO:-0400
TZNAME:AST
DTSTART:20231105T050000
END:STANDARD
BEGIN:DAYLIGHT
TZOFFSETFROM:-0400
TZOFFSETTO:-0300
TZNAME:ADT
DTSTART:20240310T060000
END:DAYLIGHT
BEGIN:STANDARD
TZOFFSETFROM:-0300
TZOFFSETTO:-0400
TZNAME:AST
DTSTART:20241103T050000
END:STANDARD
BEGIN:DAYLIGHT
TZOFFSETFROM:-0400
TZOFFSETTO:-0300
TZNAME:ADT
DTSTART:20250309T060000
END:DAYLIGHT
BEGIN:STANDARD
TZOFFSETFROM:-0300
TZOFFSETTO:-0400
TZNAME:AST
DTSTART:20251102T050000
END:STANDARD
END:VTIMEZONE
BEGIN:VEVENT
DTSTART;TZID=America/Halifax:20240712T100000
DTEND;TZID=America/Halifax:20240816T120000
DTSTAMP:20260425T122907
CREATED:20240513T152733Z
LAST-MODIFIED:20250417T173941Z
UID:10008387-1720778400-1723809600@www.lovemylibrary.ca
SUMMARY:One on One Tech Help
DESCRIPTION:Issues with your phone? Laptop? Social Media? Meet in-person with our digital literacy trainer to get your tech questions answered. \nDrop in – please call (902) 883-9838 or email us at elmsdale@cehpubliclibrary.ca for more details.
URL:https://www.lovemylibrary.ca/event/one-on-one-tech-help-7-2-2-2/2024-07-12/
LOCATION:Elmsdale Library\, 15 Commerce Ct\, Elmsdale\, Nova Scotia\, Canada
CATEGORIES:Events For Adults,Location: Elmsdale
ATTACH;FMTTYPE=image/png:https://www.lovemylibrary.ca/wp-content/uploads/2022/03/Untitled-design-80.png
END:VEVENT
BEGIN:VEVENT
DTSTART;TZID=America/Halifax:20240716T170000
DTEND;TZID=America/Halifax:20240813T180000
DTSTAMP:20260425T122907
CREATED:20230911T181215Z
LAST-MODIFIED:20241213T193251Z
UID:10010657-1721149200-1723572000@www.lovemylibrary.ca
SUMMARY:Paws to Read ®
DESCRIPTION:The Paws to Read program offers kids a safe environment to practice reading aloud to an attentive and adorable audience. Children build confidence and reading skills in one-on-one sessions with therapy dogs. Participants attend 5 weekly half-hour sessions with a trained therapy dog volunteer and a certified handler. For children in grades 1-5 \nIn-Person. Registration is required. For details\, please call us at (902) 883-9838 or email us at elmsdale@cehpubliclibrary.ca
URL:https://www.lovemylibrary.ca/event/paws-to-read/2024-07-16/
LOCATION:Elmsdale Library\, 15 Commerce Ct\, Elmsdale\, Nova Scotia\, Canada
CATEGORIES:Events For Kids,Location: Elmsdale
ATTACH;FMTTYPE=image/png:https://www.lovemylibrary.ca/wp-content/uploads/2023/09/Untitled-design-2023-09-11T151119.554.png
END:VEVENT
BEGIN:VEVENT
DTSTART;TZID=America/Halifax:20240719T100000
DTEND;TZID=America/Halifax:20240823T120000
DTSTAMP:20260425T122907
CREATED:20240513T152733Z
LAST-MODIFIED:20250417T173941Z
UID:10008388-1721383200-1724414400@www.lovemylibrary.ca
SUMMARY:One on One Tech Help
DESCRIPTION:Issues with your phone? Laptop? Social Media? Meet in-person with our digital literacy trainer to get your tech questions answered. \nDrop in – please call (902) 883-9838 or email us at elmsdale@cehpubliclibrary.ca for more details.
URL:https://www.lovemylibrary.ca/event/one-on-one-tech-help-7-2-2-2/2024-07-19/
LOCATION:Elmsdale Library\, 15 Commerce Ct\, Elmsdale\, Nova Scotia\, Canada
CATEGORIES:Events For Adults,Location: Elmsdale
ATTACH;FMTTYPE=image/png:https://www.lovemylibrary.ca/wp-content/uploads/2022/03/Untitled-design-80.png
END:VEVENT
BEGIN:VEVENT
DTSTART;TZID=America/Halifax:20240723T170000
DTEND;TZID=America/Halifax:20240820T180000
DTSTAMP:20260425T122907
CREATED:20230911T181215Z
LAST-MODIFIED:20241213T193251Z
UID:10010658-1721754000-1724176800@www.lovemylibrary.ca
SUMMARY:Paws to Read ®
DESCRIPTION:The Paws to Read program offers kids a safe environment to practice reading aloud to an attentive and adorable audience. Children build confidence and reading skills in one-on-one sessions with therapy dogs. Participants attend 5 weekly half-hour sessions with a trained therapy dog volunteer and a certified handler. For children in grades 1-5 \nIn-Person. Registration is required. For details\, please call us at (902) 883-9838 or email us at elmsdale@cehpubliclibrary.ca
URL:https://www.lovemylibrary.ca/event/paws-to-read/2024-07-23/
LOCATION:Elmsdale Library\, 15 Commerce Ct\, Elmsdale\, Nova Scotia\, Canada
CATEGORIES:Events For Kids,Location: Elmsdale
ATTACH;FMTTYPE=image/png:https://www.lovemylibrary.ca/wp-content/uploads/2023/09/Untitled-design-2023-09-11T151119.554.png
END:VEVENT
BEGIN:VEVENT
DTSTART;TZID=America/Halifax:20240726T100000
DTEND;TZID=America/Halifax:20240830T120000
DTSTAMP:20260425T122907
CREATED:20240513T152733Z
LAST-MODIFIED:20250417T173941Z
UID:10008389-1721988000-1725019200@www.lovemylibrary.ca
SUMMARY:One on One Tech Help
DESCRIPTION:Issues with your phone? Laptop? Social Media? Meet in-person with our digital literacy trainer to get your tech questions answered. \nDrop in – please call (902) 883-9838 or email us at elmsdale@cehpubliclibrary.ca for more details.
URL:https://www.lovemylibrary.ca/event/one-on-one-tech-help-7-2-2-2/2024-07-26/
LOCATION:Elmsdale Library\, 15 Commerce Ct\, Elmsdale\, Nova Scotia\, Canada
CATEGORIES:Events For Adults,Location: Elmsdale
ATTACH;FMTTYPE=image/png:https://www.lovemylibrary.ca/wp-content/uploads/2022/03/Untitled-design-80.png
END:VEVENT
BEGIN:VEVENT
DTSTART;VALUE=DATE:20240730
DTEND;VALUE=DATE:20240816
DTSTAMP:20260425T122907
CREATED:20240719T184615Z
LAST-MODIFIED:20240719T184615Z
UID:10009102-1722297600-1723766399@www.lovemylibrary.ca
SUMMARY:Outer Space Lego Contest
DESCRIPTION:Can you imagine how extraterrestrial life\, spacecraft\, space itself and bases on planets will look in years to come? Bring your Lego creations to the library for display for a chance to win a prize. Judging will be on Saturday\, August 17.
URL:https://www.lovemylibrary.ca/event/outer-space-lego-contest/
LOCATION:Stewiacke Library\, 295 George Street\, Stewiacke\, Nova Scotia\, Canada
CATEGORIES:Events For Kids,Location: Stewiacke
ATTACH;FMTTYPE=image/png:https://www.lovemylibrary.ca/wp-content/uploads/2024/07/Untitled-design-2024-07-19T154911.804.png
END:VEVENT
BEGIN:VEVENT
DTSTART;TZID=America/Halifax:20240730T170000
DTEND;TZID=America/Halifax:20240827T180000
DTSTAMP:20260425T122907
CREATED:20230911T181215Z
LAST-MODIFIED:20241213T193251Z
UID:10010659-1722358800-1724781600@www.lovemylibrary.ca
SUMMARY:Paws to Read ®
DESCRIPTION:The Paws to Read program offers kids a safe environment to practice reading aloud to an attentive and adorable audience. Children build confidence and reading skills in one-on-one sessions with therapy dogs. Participants attend 5 weekly half-hour sessions with a trained therapy dog volunteer and a certified handler. For children in grades 1-5 \nIn-Person. Registration is required. For details\, please call us at (902) 883-9838 or email us at elmsdale@cehpubliclibrary.ca
URL:https://www.lovemylibrary.ca/event/paws-to-read/2024-07-30/
LOCATION:Elmsdale Library\, 15 Commerce Ct\, Elmsdale\, Nova Scotia\, Canada
CATEGORIES:Events For Kids,Location: Elmsdale
ATTACH;FMTTYPE=image/png:https://www.lovemylibrary.ca/wp-content/uploads/2023/09/Untitled-design-2023-09-11T151119.554.png
END:VEVENT
BEGIN:VEVENT
DTSTART;TZID=America/Halifax:20240802T100000
DTEND;TZID=America/Halifax:20240906T120000
DTSTAMP:20260425T122907
CREATED:20240513T152733Z
LAST-MODIFIED:20250417T173941Z
UID:10009062-1722592800-1725624000@www.lovemylibrary.ca
SUMMARY:One on One Tech Help
DESCRIPTION:Issues with your phone? Laptop? Social Media? Meet in-person with our digital literacy trainer to get your tech questions answered. \nDrop in – please call (902) 883-9838 or email us at elmsdale@cehpubliclibrary.ca for more details.
URL:https://www.lovemylibrary.ca/event/one-on-one-tech-help-7-2-2-2/2024-08-02/
LOCATION:Elmsdale Library\, 15 Commerce Ct\, Elmsdale\, Nova Scotia\, Canada
CATEGORIES:Events For Adults,Location: Elmsdale
ATTACH;FMTTYPE=image/png:https://www.lovemylibrary.ca/wp-content/uploads/2022/03/Untitled-design-80.png
END:VEVENT
BEGIN:VEVENT
DTSTART;TZID=America/Halifax:20240806T170000
DTEND;TZID=America/Halifax:20240903T180000
DTSTAMP:20260425T122907
CREATED:20230911T181215Z
LAST-MODIFIED:20241213T193251Z
UID:10010660-1722963600-1725386400@www.lovemylibrary.ca
SUMMARY:Paws to Read ®
DESCRIPTION:The Paws to Read program offers kids a safe environment to practice reading aloud to an attentive and adorable audience. Children build confidence and reading skills in one-on-one sessions with therapy dogs. Participants attend 5 weekly half-hour sessions with a trained therapy dog volunteer and a certified handler. For children in grades 1-5 \nIn-Person. Registration is required. For details\, please call us at (902) 883-9838 or email us at elmsdale@cehpubliclibrary.ca
URL:https://www.lovemylibrary.ca/event/paws-to-read/2024-08-06/
LOCATION:Elmsdale Library\, 15 Commerce Ct\, Elmsdale\, Nova Scotia\, Canada
CATEGORIES:Events For Kids,Location: Elmsdale
ATTACH;FMTTYPE=image/png:https://www.lovemylibrary.ca/wp-content/uploads/2023/09/Untitled-design-2023-09-11T151119.554.png
END:VEVENT
BEGIN:VEVENT
DTSTART;TZID=America/Halifax:20240809T100000
DTEND;TZID=America/Halifax:20240913T120000
DTSTAMP:20260425T122907
CREATED:20240513T152733Z
LAST-MODIFIED:20250417T173941Z
UID:10009063-1723197600-1726228800@www.lovemylibrary.ca
SUMMARY:One on One Tech Help
DESCRIPTION:Issues with your phone? Laptop? Social Media? Meet in-person with our digital literacy trainer to get your tech questions answered. \nDrop in – please call (902) 883-9838 or email us at elmsdale@cehpubliclibrary.ca for more details.
URL:https://www.lovemylibrary.ca/event/one-on-one-tech-help-7-2-2-2/2024-08-09/
LOCATION:Elmsdale Library\, 15 Commerce Ct\, Elmsdale\, Nova Scotia\, Canada
CATEGORIES:Events For Adults,Location: Elmsdale
ATTACH;FMTTYPE=image/png:https://www.lovemylibrary.ca/wp-content/uploads/2022/03/Untitled-design-80.png
END:VEVENT
BEGIN:VEVENT
DTSTART;VALUE=DATE:20240812
DTEND;VALUE=DATE:20240813
DTSTAMP:20260425T122907
CREATED:20240625T174938Z
LAST-MODIFIED:20240806T133936Z
UID:10008612-1723420800-1723507199@www.lovemylibrary.ca
SUMMARY:A Glimpse of Today’s Rug Hooking: Art Exhibit by the Friday Friends
DESCRIPTION:July 4th – August 29th \nGrandma’s rug hooking has changed. It has grown\, expanded\, moved from a utilitarian craft to a creative outlet\, and it has thrown out all the rules! The pieces on display have been created by the group Friday Friends and show a wide range of techniques. They hope you enjoy the exhibit as much as they enjoyed putting it together for you.  \nDrop in\, no registration required.\n 
URL:https://www.lovemylibrary.ca/event/a-glimpse-of-todays-rug-hooking-art-exhibit-by-the-friday-friends/2024-08-12/
LOCATION:Truro Library\, 754 Prince St\, Truro\, Nova Scotia\, Canada
CATEGORIES:Events For Adults,Location: Truro
ATTACH;FMTTYPE=image/png:https://www.lovemylibrary.ca/wp-content/uploads/2024/06/Untitled-design-6.png
END:VEVENT
BEGIN:VEVENT
DTSTART;TZID=America/Halifax:20240812T100000
DTEND;TZID=America/Halifax:20240812T113000
DTSTAMP:20260425T122907
CREATED:20240719T185442Z
LAST-MODIFIED:20250705T144652Z
UID:10009104-1723456800-1723462200@www.lovemylibrary.ca
SUMMARY:Teddy Bear Picnic
DESCRIPTION:Calling all stuffies and their children! Join us outside at Maggie’s Place Playground (inside if the weather is poor) for stories\, songs\, and snacks! \nThis is a drop in program. No registration is required.
URL:https://www.lovemylibrary.ca/event/teddy-bear-picnic-2/
LOCATION:Maggie’s Place\, 1027 Prince Street\, Truro\, Nova Scotia\, B2N 1H7\, Canada
CATEGORIES:Events For Kids,Location: Truro
ATTACH;FMTTYPE=image/png:https://www.lovemylibrary.ca/wp-content/uploads/2022/06/Untitled-design-5-3.png
END:VEVENT
BEGIN:VEVENT
DTSTART;TZID=America/Halifax:20240812T143000
DTEND;TZID=America/Halifax:20240812T153000
DTSTAMP:20260425T122907
CREATED:20230613T205036Z
LAST-MODIFIED:20250705T150007Z
UID:10004532-1723473000-1723476600@www.lovemylibrary.ca
SUMMARY:Minute to Win It!
DESCRIPTION:Try to beat the clock with our Minute to Win It games or cheer on other players. Are you up for the challenge? For ages 8-14 \nThis is a drop in program. No registration is required.
URL:https://www.lovemylibrary.ca/event/minute-to-win-it/
LOCATION:Truro Library\, 754 Prince St\, Truro\, Nova Scotia\, Canada
CATEGORIES:Events For Kids,Events For Teens,Location: Truro
ATTACH;FMTTYPE=image/png:https://www.lovemylibrary.ca/wp-content/uploads/2023/06/Untitled-design-80.png
END:VEVENT
BEGIN:VEVENT
DTSTART;VALUE=DATE:20240813
DTEND;VALUE=DATE:20240814
DTSTAMP:20260425T122907
CREATED:20240625T174938Z
LAST-MODIFIED:20240806T133936Z
UID:10008613-1723507200-1723593599@www.lovemylibrary.ca
SUMMARY:A Glimpse of Today’s Rug Hooking: Art Exhibit by the Friday Friends
DESCRIPTION:July 4th – August 29th \nGrandma’s rug hooking has changed. It has grown\, expanded\, moved from a utilitarian craft to a creative outlet\, and it has thrown out all the rules! The pieces on display have been created by the group Friday Friends and show a wide range of techniques. They hope you enjoy the exhibit as much as they enjoyed putting it together for you.  \nDrop in\, no registration required.\n 
URL:https://www.lovemylibrary.ca/event/a-glimpse-of-todays-rug-hooking-art-exhibit-by-the-friday-friends/2024-08-13/
LOCATION:Truro Library\, 754 Prince St\, Truro\, Nova Scotia\, Canada
CATEGORIES:Events For Adults,Location: Truro
ATTACH;FMTTYPE=image/png:https://www.lovemylibrary.ca/wp-content/uploads/2024/06/Untitled-design-6.png
END:VEVENT
BEGIN:VEVENT
DTSTART;TZID=America/Halifax:20240813T103000
DTEND;TZID=America/Halifax:20240813T113000
DTSTAMP:20260425T122907
CREATED:20240718T145306Z
LAST-MODIFIED:20240719T181212Z
UID:10009097-1723545000-1723548600@www.lovemylibrary.ca
SUMMARY:Blast Off!
DESCRIPTION:Channel your inner NASA engineer to build rockets using everyday materials. Then launch your rocket into the air and watch it fly high! All supplies provided.  10:30-11:30am (ages 4-7)\, 2:30-3:30pm (ages 8-14) \nTo register\, please email info@cehpubliclibrary.ca
URL:https://www.lovemylibrary.ca/event/blast-off/2024-08-13/1/
LOCATION:Truro Library\, 754 Prince St\, Truro\, Nova Scotia\, Canada
CATEGORIES:Events For Kids,Location: Truro
ATTACH;FMTTYPE=image/png:https://www.lovemylibrary.ca/wp-content/uploads/2024/07/Untitled-design-2024-07-18T115606.769.png
END:VEVENT
BEGIN:VEVENT
DTSTART;TZID=America/Halifax:20240813T143000
DTEND;TZID=America/Halifax:20240813T153000
DTSTAMP:20260425T122907
CREATED:20240718T145306Z
LAST-MODIFIED:20240719T181212Z
UID:10009098-1723559400-1723563000@www.lovemylibrary.ca
SUMMARY:Blast Off!
DESCRIPTION:Channel your inner NASA engineer to build rockets using everyday materials. Then launch your rocket into the air and watch it fly high! All supplies provided.  10:30-11:30am (ages 4-7)\, 2:30-3:30pm (ages 8-14) \nTo register\, please email info@cehpubliclibrary.ca
URL:https://www.lovemylibrary.ca/event/blast-off/2024-08-13/2/
LOCATION:Truro Library\, 754 Prince St\, Truro\, Nova Scotia\, Canada
CATEGORIES:Events For Kids,Location: Truro
ATTACH;FMTTYPE=image/png:https://www.lovemylibrary.ca/wp-content/uploads/2024/07/Untitled-design-2024-07-18T115606.769.png
END:VEVENT
BEGIN:VEVENT
DTSTART;TZID=America/Halifax:20240813T150000
DTEND;TZID=America/Halifax:20240813T160000
DTSTAMP:20260425T122907
CREATED:20240719T191114Z
LAST-MODIFIED:20240726T170105Z
UID:10009116-1723561200-1723564800@www.lovemylibrary.ca
SUMMARY:Fluff Ball Keychains
DESCRIPTION:No animals will be harmed in the making of this craft. Add your own special touch to a faux fur keychain. Suitable for ages 8-12 \nThis is a drop in program. No registration is required.\n 
URL:https://www.lovemylibrary.ca/event/fluff-ball-keychains-2/
LOCATION:Stewiacke Library\, 295 George Street\, Stewiacke\, Nova Scotia\, Canada
CATEGORIES:Crafting,Location: Stewiacke
ATTACH;FMTTYPE=image/png:https://www.lovemylibrary.ca/wp-content/uploads/2024/07/Untitled-design-2024-07-19T161410.335.png
END:VEVENT
BEGIN:VEVENT
DTSTART;TZID=America/Halifax:20240813T150000
DTEND;TZID=America/Halifax:20240813T180000
DTSTAMP:20260425T122907
CREATED:20240717T181338Z
LAST-MODIFIED:20240717T181338Z
UID:10009085-1723561200-1723572000@www.lovemylibrary.ca
SUMMARY:Sprouting workshop
DESCRIPTION:Learn how to have fresh and delicious sprouts all year round. All are welcome to participate. \nThis is a drop in program. No registration is required.
URL:https://www.lovemylibrary.ca/event/sprouting-workshop/
LOCATION:Tatamagouche Library\, 170 Main Street\, Tatamagouche\, Nova Scotia\, Canada
CATEGORIES:Location: Tatamagouche
ATTACH;FMTTYPE=image/png:https://www.lovemylibrary.ca/wp-content/uploads/2024/07/Untitled-design-2024-07-17T151622.863.png
END:VEVENT
BEGIN:VEVENT
DTSTART;TZID=America/Halifax:20240813T170000
DTEND;TZID=America/Halifax:20240910T180000
DTSTAMP:20260425T122907
CREATED:20230911T181215Z
LAST-MODIFIED:20241213T193251Z
UID:10010661-1723568400-1725991200@www.lovemylibrary.ca
SUMMARY:Paws to Read ®
DESCRIPTION:The Paws to Read program offers kids a safe environment to practice reading aloud to an attentive and adorable audience. Children build confidence and reading skills in one-on-one sessions with therapy dogs. Participants attend 5 weekly half-hour sessions with a trained therapy dog volunteer and a certified handler. For children in grades 1-5 \nIn-Person. Registration is required. For details\, please call us at (902) 883-9838 or email us at elmsdale@cehpubliclibrary.ca
URL:https://www.lovemylibrary.ca/event/paws-to-read/2024-08-13/
LOCATION:Elmsdale Library\, 15 Commerce Ct\, Elmsdale\, Nova Scotia\, Canada
CATEGORIES:Events For Kids,Location: Elmsdale
ATTACH;FMTTYPE=image/png:https://www.lovemylibrary.ca/wp-content/uploads/2023/09/Untitled-design-2023-09-11T151119.554.png
END:VEVENT
BEGIN:VEVENT
DTSTART;TZID=America/Halifax:20240813T173000
DTEND;TZID=America/Halifax:20240813T200000
DTSTAMP:20260425T122907
CREATED:20240720T175132Z
LAST-MODIFIED:20240720T175132Z
UID:10009154-1723570200-1723579200@www.lovemylibrary.ca
SUMMARY:Heroes & Adventurers
DESCRIPTION:Role-playing game nights with extraordinary people! We provide the supplies\, you provide the imagination. No experience needed. All welcome! \nRegister to play by emailing: HAATruro@gmail.com Sorry\, no drop-in players at this time.
URL:https://www.lovemylibrary.ca/event/heroes-adventurers-11/2024-08-13/
LOCATION:Truro Library\, 754 Prince St\, Truro\, Nova Scotia\, Canada
CATEGORIES:Events For Adults,Events For Kids,Events For Seniors,Events For Teens,Location: Truro
ATTACH;FMTTYPE=image/png:https://www.lovemylibrary.ca/wp-content/uploads/2022/06/D-and-D.png
END:VEVENT
BEGIN:VEVENT
DTSTART;TZID=America/Halifax:20240813T183000
DTEND;TZID=America/Halifax:20240813T200000
DTSTAMP:20260425T122907
CREATED:20240618T220904Z
LAST-MODIFIED:20240618T220949Z
UID:10008507-1723573800-1723579200@www.lovemylibrary.ca
SUMMARY:Ewe-niacke Yarn Club
DESCRIPTION:Fiber art for all ages and abilities. Learn to knit or crochet\, bring a project you are working on\, or just come hang out with the club for some social time. All ages welcome. \nDrop in\, no registration required.
URL:https://www.lovemylibrary.ca/event/ewe-niacke-yarn-club-3-2-2/2024-08-13/
LOCATION:Mount Uniacke Library\, 555\, Highway 1\, Mount Uniacke\, Nova Scotia\, Canada
CATEGORIES:Crafting,Events For Adults,Events For Kids,Events For Seniors,Location: Mount Uniacke
ATTACH;FMTTYPE=image/png:https://www.lovemylibrary.ca/wp-content/uploads/2022/03/Untitled-design-89.png
END:VEVENT
BEGIN:VEVENT
DTSTART;VALUE=DATE:20240814
DTEND;VALUE=DATE:20240815
DTSTAMP:20260425T122907
CREATED:20240625T174938Z
LAST-MODIFIED:20240806T133936Z
UID:10008614-1723593600-1723679999@www.lovemylibrary.ca
SUMMARY:A Glimpse of Today’s Rug Hooking: Art Exhibit by the Friday Friends
DESCRIPTION:July 4th – August 29th \nGrandma’s rug hooking has changed. It has grown\, expanded\, moved from a utilitarian craft to a creative outlet\, and it has thrown out all the rules! The pieces on display have been created by the group Friday Friends and show a wide range of techniques. They hope you enjoy the exhibit as much as they enjoyed putting it together for you.  \nDrop in\, no registration required.\n 
URL:https://www.lovemylibrary.ca/event/a-glimpse-of-todays-rug-hooking-art-exhibit-by-the-friday-friends/2024-08-14/
LOCATION:Truro Library\, 754 Prince St\, Truro\, Nova Scotia\, Canada
CATEGORIES:Events For Adults,Location: Truro
ATTACH;FMTTYPE=image/png:https://www.lovemylibrary.ca/wp-content/uploads/2024/06/Untitled-design-6.png
END:VEVENT
BEGIN:VEVENT
DTSTART;TZID=America/Halifax:20240814T103000
DTEND;TZID=America/Halifax:20240814T113000
DTSTAMP:20260425T122907
CREATED:20240220T225846Z
LAST-MODIFIED:20241121T202410Z
UID:10009076-1723631400-1723635000@www.lovemylibrary.ca
SUMMARY:Parents and Tots Story Time and Crafts
DESCRIPTION:Come along and enjoy an hour of fun filled story time and craft.  For ages 0+ \nDrop-in\, no registration required.
URL:https://www.lovemylibrary.ca/event/tots-and-moms-social-time-3-2-2-2/2024-08-14/
LOCATION:Tatamagouche Library\, 170 Main Street\, Tatamagouche\, Nova Scotia\, Canada
CATEGORIES:Events For Kids,Location: Tatamagouche
ATTACH;FMTTYPE=image/png:https://www.lovemylibrary.ca/wp-content/uploads/2022/03/Untitled-design-75.png
END:VEVENT
BEGIN:VEVENT
DTSTART;TZID=America/Halifax:20240814T110000
DTEND;TZID=America/Halifax:20240814T114500
DTSTAMP:20260425T122907
CREATED:20240618T221346Z
LAST-MODIFIED:20240618T221346Z
UID:10008516-1723633200-1723635900@www.lovemylibrary.ca
SUMMARY:Galactic Tales
DESCRIPTION:Plan on joining us each week this summer for Galactic Tales. We will have a different “out of this world” story and activity every Wednesday throughout the summer. For ages 3 and up
URL:https://www.lovemylibrary.ca/event/galactic-tales/2024-08-14/
LOCATION:Mount Uniacke Library\, 555\, Highway 1\, Mount Uniacke\, Nova Scotia\, Canada
CATEGORIES:Events For Kids,Location: Mount Uniacke
ATTACH;FMTTYPE=image/png:https://www.lovemylibrary.ca/wp-content/uploads/2023/07/Untitled-design-2023-07-17T155548.949.png
END:VEVENT
BEGIN:VEVENT
DTSTART;TZID=America/Halifax:20240814T130000
DTEND;TZID=America/Halifax:20240814T143000
DTSTAMP:20260425T122907
CREATED:20240806T212140Z
LAST-MODIFIED:20240806T212140Z
UID:10009165-1723640400-1723645800@www.lovemylibrary.ca
SUMMARY:Pickling with Vicki
DESCRIPTION:This hands on workshop led by Vicki Smith from Halifax Public Libraries will guide you through the process of making your own mustard pickles. All of the ingredients and supplies are provided\, but we ask that you bring your own apron if you would like to wear one. Each step will be explained in detail\, along with some safety guidelines to follow\, resulting in a jar of mustard pickles to bring home! \nTo register\, email info@cehpubliclibrary.ca
URL:https://www.lovemylibrary.ca/event/pickling-with-vicki/
LOCATION:Truro Library\, 754 Prince St\, Truro\, Nova Scotia\, Canada
CATEGORIES:Events For Adults,Events For Teens,Location: Truro
ATTACH;FMTTYPE=image/png:https://www.lovemylibrary.ca/wp-content/uploads/2024/08/Untitled-design-9.png
END:VEVENT
BEGIN:VEVENT
DTSTART;TZID=America/Halifax:20240814T130000
DTEND;TZID=America/Halifax:20240814T150000
DTSTAMP:20260425T122907
CREATED:20240711T132244Z
LAST-MODIFIED:20240711T133837Z
UID:10009000-1723640400-1723647600@www.lovemylibrary.ca
SUMMARY:One-on-One Tech Help
DESCRIPTION:Are you having tech troubles with your phone\, tablet\, or computer? Meet in person with our Digital Literacy Trainer to get your questions answered. \nTo book an appointment\, please call 902-895-4183\, email digital.literacytrainers@gmail.com or visit us at our front desk.
URL:https://www.lovemylibrary.ca/event/one-on-one-tech-help-11/2024-08-14/
LOCATION:Truro Library\, 754 Prince St\, Truro\, Nova Scotia\, Canada
CATEGORIES:Events For Adults,Events For Seniors,Location: Truro
ATTACH;FMTTYPE=image/jpeg:https://www.lovemylibrary.ca/wp-content/uploads/2021/08/7.jpg
END:VEVENT
BEGIN:VEVENT
DTSTART;TZID=America/Halifax:20240814T130000
DTEND;TZID=America/Halifax:20240814T150000
DTSTAMP:20260425T122907
CREATED:20240720T174931Z
LAST-MODIFIED:20240720T174931Z
UID:10009145-1723640400-1723647600@www.lovemylibrary.ca
SUMMARY:Makers in the Maker Lab
DESCRIPTION:Calling all Makers! Drop by for a relaxing afternoon to hang out with fellow crafters. Bring along your ongoing projects like knitting\, crochet\, needlework\, painting or other hands on crafts. \nNo registration\, drop in.
URL:https://www.lovemylibrary.ca/event/makers-in-the-maker-lab-11/2024-08-14/
LOCATION:Truro Library\, 754 Prince St\, Truro\, Nova Scotia\, Canada
CATEGORIES:Crafting,Events For Adults,Events For Seniors,Location: Truro
ATTACH;FMTTYPE=image/png:https://www.lovemylibrary.ca/wp-content/uploads/2023/01/Untitled-design-2023-01-24T155257.327.png
END:VEVENT
BEGIN:VEVENT
DTSTART;TZID=America/Halifax:20240814T180000
DTEND;TZID=America/Halifax:20240814T190000
DTSTAMP:20260425T122907
CREATED:20240711T140438Z
LAST-MODIFIED:20240711T141315Z
UID:10009055-1723658400-1723662000@www.lovemylibrary.ca
SUMMARY:Tech Help Drop-In
DESCRIPTION:Do you have any questions about accessing digital library materials and services? Experiencing troubles with your phone\, tablet\, or computer? Meet in person with our Digital Literacy Trainer to get your answers. \nDrop in. No registration is required.
URL:https://www.lovemylibrary.ca/event/tech-help-drop-in-2/2024-08-14/
LOCATION:Truro Library\, 754 Prince St\, Truro\, Nova Scotia\, Canada
CATEGORIES:Events For Adults,Events For Seniors,Location: Truro
ATTACH;FMTTYPE=image/png:https://www.lovemylibrary.ca/wp-content/uploads/2022/11/Untitled-design-2022-11-29T112019.106.png
END:VEVENT
BEGIN:VEVENT
DTSTART;VALUE=DATE:20240815
DTEND;VALUE=DATE:20240816
DTSTAMP:20260425T122907
CREATED:20240625T174938Z
LAST-MODIFIED:20240806T133936Z
UID:10008615-1723680000-1723766399@www.lovemylibrary.ca
SUMMARY:A Glimpse of Today’s Rug Hooking: Art Exhibit by the Friday Friends
DESCRIPTION:July 4th – August 29th \nGrandma’s rug hooking has changed. It has grown\, expanded\, moved from a utilitarian craft to a creative outlet\, and it has thrown out all the rules! The pieces on display have been created by the group Friday Friends and show a wide range of techniques. They hope you enjoy the exhibit as much as they enjoyed putting it together for you.  \nDrop in\, no registration required.\n 
URL:https://www.lovemylibrary.ca/event/a-glimpse-of-todays-rug-hooking-art-exhibit-by-the-friday-friends/2024-08-15/
LOCATION:Truro Library\, 754 Prince St\, Truro\, Nova Scotia\, Canada
CATEGORIES:Events For Adults,Location: Truro
ATTACH;FMTTYPE=image/png:https://www.lovemylibrary.ca/wp-content/uploads/2024/06/Untitled-design-6.png
END:VEVENT
BEGIN:VEVENT
DTSTART;TZID=America/Halifax:20240815T100000
DTEND;TZID=America/Halifax:20240815T120000
DTSTAMP:20260425T122907
CREATED:20240711T135546Z
LAST-MODIFIED:20240711T140314Z
UID:10009031-1723716000-1723723200@www.lovemylibrary.ca
SUMMARY:Tech Help Drop-In
DESCRIPTION:Do you have any questions about accessing digital library materials and services? Experiencing troubles with your phone\, tablet\, or computer? Meet in person with our Digital Literacy Trainer to get your answers. \nDrop in. No registration is required.
URL:https://www.lovemylibrary.ca/event/tech-help-drop-in/2024-08-15/1/
LOCATION:Truro Library\, 754 Prince St\, Truro\, Nova Scotia\, Canada
CATEGORIES:Events For Adults,Events For Seniors,Location: Truro
ATTACH;FMTTYPE=image/png:https://www.lovemylibrary.ca/wp-content/uploads/2022/11/Untitled-design-2022-11-29T112019.106.png
END:VEVENT
END:VCALENDAR