BEGIN:VCALENDAR
VERSION:2.0
PRODID:-//Colchester East Hants Public Library - ECPv6.15.20//NONSGML v1.0//EN
CALSCALE:GREGORIAN
METHOD:PUBLISH
X-ORIGINAL-URL:https://www.lovemylibrary.ca
X-WR-CALDESC:Events for Colchester East Hants Public Library
REFRESH-INTERVAL;VALUE=DURATION:PT1H
X-Robots-Tag:noindex
X-PUBLISHED-TTL:PT1H
BEGIN:VTIMEZONE
TZID:America/Halifax
BEGIN:DAYLIGHT
TZOFFSETFROM:-0400
TZOFFSETTO:-0300
TZNAME:ADT
DTSTART:20230312T060000
END:DAYLIGHT
BEGIN:STANDARD
TZOFFSETFROM:-0300
TZOFFSETTO:-0400
TZNAME:AST
DTSTART:20231105T050000
END:STANDARD
BEGIN:DAYLIGHT
TZOFFSETFROM:-0400
TZOFFSETTO:-0300
TZNAME:ADT
DTSTART:20240310T060000
END:DAYLIGHT
BEGIN:STANDARD
TZOFFSETFROM:-0300
TZOFFSETTO:-0400
TZNAME:AST
DTSTART:20241103T050000
END:STANDARD
BEGIN:DAYLIGHT
TZOFFSETFROM:-0400
TZOFFSETTO:-0300
TZNAME:ADT
DTSTART:20250309T060000
END:DAYLIGHT
BEGIN:STANDARD
TZOFFSETFROM:-0300
TZOFFSETTO:-0400
TZNAME:AST
DTSTART:20251102T050000
END:STANDARD
END:VTIMEZONE
BEGIN:VEVENT
DTSTART;VALUE=DATE:20241001
DTEND;VALUE=DATE:20241229
DTSTAMP:20260423T081226
CREATED:20240916T153733Z
LAST-MODIFIED:20241121T155741Z
UID:10009695-1727740800-1735430399@www.lovemylibrary.ca
SUMMARY:Tech Help by Appointment
DESCRIPTION:Bring your own device or use one of our computers. This program covers: eReaders/ebooks\, basic computer navigation\, basic app use\, basic cellphone use\, basic tablet use\, general internet instruction\, research and using library electronic resources. All ages are welcome. \nRegister: stewiacke@cehpubliclibrary.ca
URL:https://www.lovemylibrary.ca/event/tech-help-by-appointment-2/
LOCATION:Stewiacke Library\, 295 George Street\, Stewiacke\, Nova Scotia\, Canada
CATEGORIES:Events For Adults,Events For Kids,Location: Stewiacke
ATTACH;FMTTYPE=image/jpeg:https://www.lovemylibrary.ca/wp-content/uploads/2021/08/11.jpg
END:VEVENT
BEGIN:VEVENT
DTSTART;TZID=America/Halifax:20241025T100000
DTEND;TZID=America/Halifax:20241129T110000
DTSTAMP:20260423T081226
CREATED:20240513T152733Z
LAST-MODIFIED:20250417T173941Z
UID:10009699-1729850400-1732878000@www.lovemylibrary.ca
SUMMARY:One on One Tech Help
DESCRIPTION:Issues with your phone? Laptop? Social Media? Meet in-person with our digital literacy trainer to get your tech questions answered. \nDrop in – please call (902) 883-9838 or email us at elmsdale@cehpubliclibrary.ca for more details.
URL:https://www.lovemylibrary.ca/event/one-on-one-tech-help-7-2-2-2/2024-10-25/
LOCATION:Elmsdale Library\, 15 Commerce Ct\, Elmsdale\, Nova Scotia\, Canada
CATEGORIES:Events For Adults,Location: Elmsdale
ATTACH;FMTTYPE=image/png:https://www.lovemylibrary.ca/wp-content/uploads/2022/03/Untitled-design-80.png
END:VEVENT
BEGIN:VEVENT
DTSTART;TZID=America/Halifax:20241029T170000
DTEND;TZID=America/Halifax:20241126T170000
DTSTAMP:20260423T081226
CREATED:20230911T181215Z
LAST-MODIFIED:20241213T193251Z
UID:10010672-1730221200-1732640400@www.lovemylibrary.ca
SUMMARY:Paws to Read ®
DESCRIPTION:The Paws to Read program offers kids a safe environment to practice reading aloud to an attentive and adorable audience. Children build confidence and reading skills in one-on-one sessions with therapy dogs. Participants attend 5 weekly half-hour sessions with a trained therapy dog volunteer and a certified handler. For children in grades 1-5 \nIn-Person. Registration is required. For details\, please call us at (902) 883-9838 or email us at elmsdale@cehpubliclibrary.ca
URL:https://www.lovemylibrary.ca/event/paws-to-read/2024-10-29/
LOCATION:Elmsdale Library\, 15 Commerce Ct\, Elmsdale\, Nova Scotia\, Canada
CATEGORIES:Events For Kids,Location: Elmsdale
ATTACH;FMTTYPE=image/png:https://www.lovemylibrary.ca/wp-content/uploads/2023/09/Untitled-design-2023-09-11T151119.554.png
END:VEVENT
BEGIN:VEVENT
DTSTART;VALUE=DATE:20241101
DTEND;VALUE=DATE:20241201
DTSTAMP:20260423T081226
CREATED:20241015T215043Z
LAST-MODIFIED:20241015T215043Z
UID:10010027-1730419200-1733011199@www.lovemylibrary.ca
SUMMARY:Dinovember
DESCRIPTION:A month when dinosaurs come to life. Come see what the dinosaurs have been up to while you were sleeping. All ages are welcome. \nThis is a drop in program. No registration is required.
URL:https://www.lovemylibrary.ca/event/dinovember/
LOCATION:Stewiacke Library\, 295 George Street\, Stewiacke\, Nova Scotia\, Canada
CATEGORIES:Location: Stewiacke
ATTACH;FMTTYPE=image/png:https://www.lovemylibrary.ca/wp-content/uploads/2024/10/e-9.png
END:VEVENT
BEGIN:VEVENT
DTSTART;VALUE=DATE:20241101
DTEND;VALUE=DATE:20241201
DTSTAMP:20260423T081226
CREATED:20241121T160211Z
LAST-MODIFIED:20241121T160211Z
UID:10010201-1730419200-1733011199@www.lovemylibrary.ca
SUMMARY:Tech Help by Appointment
DESCRIPTION:Bring your own device or use one of our computers. This program covers: eReaders/ebooks\, basic computer navigation\, basic app use\, basic cellphone use\, basic tablet use\, general internet instruction\, research and using library electronic resources. All ages are welcome. \nRegister: stewiacke@cehpubliclibrary.ca
URL:https://www.lovemylibrary.ca/event/tech-help-by-appointment-3/
LOCATION:Stewiacke Library\, 295 George Street\, Stewiacke\, Nova Scotia\, Canada
CATEGORIES:Events For Adults,Events For Kids,Location: Stewiacke
ATTACH;FMTTYPE=image/jpeg:https://www.lovemylibrary.ca/wp-content/uploads/2021/08/11.jpg
END:VEVENT
BEGIN:VEVENT
DTSTART;TZID=America/Halifax:20241101T100000
DTEND;TZID=America/Halifax:20241206T110000
DTSTAMP:20260423T081226
CREATED:20240513T152733Z
LAST-MODIFIED:20250417T173941Z
UID:10009956-1730455200-1733482800@www.lovemylibrary.ca
SUMMARY:One on One Tech Help
DESCRIPTION:Issues with your phone? Laptop? Social Media? Meet in-person with our digital literacy trainer to get your tech questions answered. \nDrop in – please call (902) 883-9838 or email us at elmsdale@cehpubliclibrary.ca for more details.
URL:https://www.lovemylibrary.ca/event/one-on-one-tech-help-7-2-2-2/2024-11-01/
LOCATION:Elmsdale Library\, 15 Commerce Ct\, Elmsdale\, Nova Scotia\, Canada
CATEGORIES:Events For Adults,Location: Elmsdale
ATTACH;FMTTYPE=image/png:https://www.lovemylibrary.ca/wp-content/uploads/2022/03/Untitled-design-80.png
END:VEVENT
BEGIN:VEVENT
DTSTART;VALUE=DATE:20241102
DTEND;VALUE=DATE:20241228
DTSTAMP:20260423T081226
CREATED:20241018T175646Z
LAST-MODIFIED:20241029T205518Z
UID:10010133-1730505600-1735343999@www.lovemylibrary.ca
SUMMARY:Poetry: An Art Exhibit by the Truro Art Society.
DESCRIPTION:The Truro Art Society presents a unique exhibit full of pieces inspired by poetry!  Each one is based on either an existing poem written by someone else\, a poem written by the artist\, or music lyrics. They hope you’ll enjoy exploring these artistic interpretations!  The exhibit will be housed on the 2nd floor.
URL:https://www.lovemylibrary.ca/event/truro-art-society/
LOCATION:Truro Library\, 754 Prince St\, Truro\, Nova Scotia\, Canada
CATEGORIES:Events For Adults,Events For Kids,Events For Seniors,Location: Truro
ATTACH;FMTTYPE=image/png:https://www.lovemylibrary.ca/wp-content/uploads/2024/10/Untitled-design-2024-10-18T145546.149.png
END:VEVENT
BEGIN:VEVENT
DTSTART;TZID=America/Halifax:20241105T170000
DTEND;TZID=America/Halifax:20241203T180000
DTSTAMP:20260423T081226
CREATED:20230911T181215Z
LAST-MODIFIED:20241213T193251Z
UID:10010673-1730826000-1733248800@www.lovemylibrary.ca
SUMMARY:Paws to Read ®
DESCRIPTION:The Paws to Read program offers kids a safe environment to practice reading aloud to an attentive and adorable audience. Children build confidence and reading skills in one-on-one sessions with therapy dogs. Participants attend 5 weekly half-hour sessions with a trained therapy dog volunteer and a certified handler. For children in grades 1-5 \nIn-Person. Registration is required. For details\, please call us at (902) 883-9838 or email us at elmsdale@cehpubliclibrary.ca
URL:https://www.lovemylibrary.ca/event/paws-to-read/2024-11-05/
LOCATION:Elmsdale Library\, 15 Commerce Ct\, Elmsdale\, Nova Scotia\, Canada
CATEGORIES:Events For Kids,Location: Elmsdale
ATTACH;FMTTYPE=image/png:https://www.lovemylibrary.ca/wp-content/uploads/2023/09/Untitled-design-2023-09-11T151119.554.png
END:VEVENT
BEGIN:VEVENT
DTSTART;TZID=America/Halifax:20241108T100000
DTEND;TZID=America/Halifax:20241213T120000
DTSTAMP:20260423T081226
CREATED:20240513T152733Z
LAST-MODIFIED:20250417T173941Z
UID:10009957-1731060000-1734091200@www.lovemylibrary.ca
SUMMARY:One on One Tech Help
DESCRIPTION:Issues with your phone? Laptop? Social Media? Meet in-person with our digital literacy trainer to get your tech questions answered. \nDrop in – please call (902) 883-9838 or email us at elmsdale@cehpubliclibrary.ca for more details.
URL:https://www.lovemylibrary.ca/event/one-on-one-tech-help-7-2-2-2/2024-11-08/
LOCATION:Elmsdale Library\, 15 Commerce Ct\, Elmsdale\, Nova Scotia\, Canada
CATEGORIES:Events For Adults,Location: Elmsdale
ATTACH;FMTTYPE=image/png:https://www.lovemylibrary.ca/wp-content/uploads/2022/03/Untitled-design-80.png
END:VEVENT
BEGIN:VEVENT
DTSTART;VALUE=DATE:20241112
DTEND;VALUE=DATE:20241207
DTSTAMP:20260423T081226
CREATED:20231117T182850Z
LAST-MODIFIED:20241113T170559Z
UID:10005774-1731369600-1733529599@www.lovemylibrary.ca
SUMMARY:Letters to Santa
DESCRIPTION:Drop into your local library and write your letter to Santa before December 6th. We have a letter writing station set up and our Magic Mailbox will get your letter to Santa and his Elves speedily. The letter writing supplies are available at all branches.
URL:https://www.lovemylibrary.ca/event/letters-to-santa/
LOCATION:Truro Library\, 754 Prince St\, Truro\, Nova Scotia\, Canada
CATEGORIES:Events For Kids,Location: Elmsdale,Location: Kennetcook,Location: Middle Stewiacke,Location: Mount Uniacke,Location: Stewiacke,Location: Tatamagouche,Location: Truro
ATTACH;FMTTYPE=image/png:https://www.lovemylibrary.ca/wp-content/uploads/2023/11/Untitled-design-2023-11-17T142907.280.png
END:VEVENT
BEGIN:VEVENT
DTSTART;TZID=America/Halifax:20241115T100000
DTEND;TZID=America/Halifax:20241220T120000
DTSTAMP:20260423T081226
CREATED:20240513T152733Z
LAST-MODIFIED:20250417T173941Z
UID:10009958-1731664800-1734696000@www.lovemylibrary.ca
SUMMARY:One on One Tech Help
DESCRIPTION:Issues with your phone? Laptop? Social Media? Meet in-person with our digital literacy trainer to get your tech questions answered. \nDrop in – please call (902) 883-9838 or email us at elmsdale@cehpubliclibrary.ca for more details.
URL:https://www.lovemylibrary.ca/event/one-on-one-tech-help-7-2-2-2/2024-11-15/
LOCATION:Elmsdale Library\, 15 Commerce Ct\, Elmsdale\, Nova Scotia\, Canada
CATEGORIES:Events For Adults,Location: Elmsdale
ATTACH;FMTTYPE=image/png:https://www.lovemylibrary.ca/wp-content/uploads/2022/03/Untitled-design-80.png
END:VEVENT
BEGIN:VEVENT
DTSTART;TZID=America/Halifax:20241122T100000
DTEND;TZID=America/Halifax:20241227T120000
DTSTAMP:20260423T081226
CREATED:20240513T152733Z
LAST-MODIFIED:20250417T173941Z
UID:10009959-1732269600-1735300800@www.lovemylibrary.ca
SUMMARY:One on One Tech Help
DESCRIPTION:Issues with your phone? Laptop? Social Media? Meet in-person with our digital literacy trainer to get your tech questions answered. \nDrop in – please call (902) 883-9838 or email us at elmsdale@cehpubliclibrary.ca for more details.
URL:https://www.lovemylibrary.ca/event/one-on-one-tech-help-7-2-2-2/2024-11-22/
LOCATION:Elmsdale Library\, 15 Commerce Ct\, Elmsdale\, Nova Scotia\, Canada
CATEGORIES:Events For Adults,Location: Elmsdale
ATTACH;FMTTYPE=image/png:https://www.lovemylibrary.ca/wp-content/uploads/2022/03/Untitled-design-80.png
END:VEVENT
BEGIN:VEVENT
DTSTART;TZID=America/Halifax:20241126T110000
DTEND;TZID=America/Halifax:20241126T120000
DTSTAMP:20260423T081226
CREATED:20241018T164540Z
LAST-MODIFIED:20250422T212708Z
UID:10010081-1732618800-1732622400@www.lovemylibrary.ca
SUMMARY:Conversational English
DESCRIPTION:Is English your 2nd language? Or maybe your 4th? Our Conversational English program is for those who would like to practice their English in a fun and friendly environment. In partnership with YREACH. \nThis is a drop-in event. No registration is required.
URL:https://www.lovemylibrary.ca/event/conversational-english-10/2024-11-26/
LOCATION:Truro Library\, 754 Prince St\, Truro\, Nova Scotia\, Canada
CATEGORIES:Events For Adults,Location: Truro
ATTACH;FMTTYPE=image/jpeg:https://www.lovemylibrary.ca/wp-content/uploads/2021/08/13.jpg
END:VEVENT
BEGIN:VEVENT
DTSTART;TZID=America/Halifax:20241126T140000
DTEND;TZID=America/Halifax:20241126T160000
DTSTAMP:20260423T081226
CREATED:20241016T171639Z
LAST-MODIFIED:20241016T171740Z
UID:10010048-1732629600-1732636800@www.lovemylibrary.ca
SUMMARY:Maggie’s Crochet Club
DESCRIPTION:Crocheting is the perfect hobby for all ages. \n\nHave an afternoon snack and enjoy camaraderie and friendship.\nLearn a new skill or perfect your technique.\n\nAll skill levels welcome. Ages 6 and up. \nDrop in. No registration is required.
URL:https://www.lovemylibrary.ca/event/maggies-crochet-club-2-2/2024-11-26/
LOCATION:Stewiacke Library\, 295 George Street\, Stewiacke\, Nova Scotia\, Canada
CATEGORIES:Crafting,Events For Adults,Events For Kids,Events For Seniors,Events For Teens,Location: Stewiacke
ATTACH;FMTTYPE=image/png:https://www.lovemylibrary.ca/wp-content/uploads/2022/12/Untitled-design-33.png
END:VEVENT
BEGIN:VEVENT
DTSTART;TZID=America/Halifax:20241126T143000
DTEND;TZID=America/Halifax:20241126T153000
DTSTAMP:20260423T081226
CREATED:20241015T205404Z
LAST-MODIFIED:20241015T205404Z
UID:10010024-1732631400-1732635000@www.lovemylibrary.ca
SUMMARY:It’s a Wrap
DESCRIPTION:We have some books that we need to wrap for the holidays and thought we’d make it a party. Come on in to help us wrap and enjoy some hot chocolate and munchies. We are looking forward to seeing you. For ages 8-12 \nThis is a drop in program.  No registration is required.
URL:https://www.lovemylibrary.ca/event/its-a-wrap/
LOCATION:Mount Uniacke Library\, 555\, Highway 1\, Mount Uniacke\, Nova Scotia\, Canada
CATEGORIES:Events For Kids,Location: Mount Uniacke
ATTACH;FMTTYPE=image/png:https://www.lovemylibrary.ca/wp-content/uploads/2023/12/Untitled-design-2023-12-01T114627.325.png
END:VEVENT
BEGIN:VEVENT
DTSTART;TZID=America/Halifax:20241126T150000
DTEND;TZID=America/Halifax:20241126T163000
DTSTAMP:20260423T081226
CREATED:20240822T192337Z
LAST-MODIFIED:20241105T220050Z
UID:10009320-1732633200-1732638600@www.lovemylibrary.ca
SUMMARY:Teen Room Drop In
DESCRIPTION:Come hang out\, grab a snack\, play Nintendo\, or make some art! \nAges 13-18 \nThis is a drop-in program. No registration is required.
URL:https://www.lovemylibrary.ca/event/teen-room-drop-in-3-2/2024-11-26/
LOCATION:Truro Library\, 754 Prince St\, Truro\, Nova Scotia\, Canada
CATEGORIES:Events For Teens,Location: Truro
ATTACH;FMTTYPE=image/png:https://www.lovemylibrary.ca/wp-content/uploads/2022/10/Untitled-design-53.png
END:VEVENT
BEGIN:VEVENT
DTSTART;TZID=America/Halifax:20241126T173000
DTEND;TZID=America/Halifax:20241126T200000
DTSTAMP:20260423T081226
CREATED:20241018T164903Z
LAST-MODIFIED:20241209T173118Z
UID:10010099-1732642200-1732651200@www.lovemylibrary.ca
SUMMARY:Heroes & Adventurers
DESCRIPTION:Role-playing game nights with extraordinary people! We provide the supplies\, you provide the imagination. No experience needed. All welcome! \nRegister to play by emailing: HAATruro@gmail.com Sorry\, no drop-in players at this time.
URL:https://www.lovemylibrary.ca/event/heroes-adventurers-14/2024-11-26/
LOCATION:Truro Library\, 754 Prince St\, Truro\, Nova Scotia\, Canada
CATEGORIES:Events For Adults,Events For Kids,Events For Seniors,Events For Teens,Location: Truro
ATTACH;FMTTYPE=image/png:https://www.lovemylibrary.ca/wp-content/uploads/2022/06/D-and-D.png
END:VEVENT
BEGIN:VEVENT
DTSTART;TZID=America/Halifax:20241126T180000
DTEND;TZID=America/Halifax:20241126T190000
DTSTAMP:20260423T081226
CREATED:20241119T191119Z
LAST-MODIFIED:20241119T191119Z
UID:10010193-1732644000-1732647600@www.lovemylibrary.ca
SUMMARY:Holiday Card Workshop
DESCRIPTION:Get festive and creative at our Holiday Card Workshop! Design and craft personalized cards to share some holiday cheer with family and friends. All materials provided—just bring your imagination! This is an adult program. \nPre register in person or by phone 902 – 657-3064 or email: tatamago@cehpubliclibrary.ca
URL:https://www.lovemylibrary.ca/event/holiday-card-workshop/
LOCATION:Tatamagouche Library\, 170 Main Street\, Tatamagouche\, Nova Scotia\, Canada
CATEGORIES:Crafting,Events For Adults,Location: Tatamagouche
ATTACH;FMTTYPE=image/png:https://www.lovemylibrary.ca/wp-content/uploads/2024/11/Untitled-design-2024-11-19T151115.521.png
END:VEVENT
BEGIN:VEVENT
DTSTART;TZID=America/Halifax:20241126T180000
DTEND;TZID=America/Halifax:20241126T200000
DTSTAMP:20260423T081226
CREATED:20240918T144614Z
LAST-MODIFIED:20250509T185455Z
UID:10009788-1732644000-1732651200@www.lovemylibrary.ca
SUMMARY:Maker Lab Fun Time
DESCRIPTION:Come on in and explore. Program robots\, create circuits\, build with magnetic tiles\, and more! All ages are welcome \nThis is a drop-in and no registration is required.
URL:https://www.lovemylibrary.ca/event/maker-lab-fun-time-6/2024-11-26/
LOCATION:Truro Library\, 754 Prince St\, Truro\, Nova Scotia\, Canada
CATEGORIES:Events For Kids,Location: Truro,STEAM
ATTACH;FMTTYPE=image/png:https://www.lovemylibrary.ca/wp-content/uploads/2023/09/Untitled-design-2023-09-29T143321.527.png
END:VEVENT
BEGIN:VEVENT
DTSTART;TZID=America/Halifax:20241126T183000
DTEND;TZID=America/Halifax:20241126T200000
DTSTAMP:20260423T081226
CREATED:20240919T175158Z
LAST-MODIFIED:20260415T142046Z
UID:10009905-1732645800-1732651200@www.lovemylibrary.ca
SUMMARY:Ewe-niacke Yarn Club
DESCRIPTION:Fiber art for all ages and abilities. Learn to knit or crochet\, bring a project you are working on\, or just come hang out with the club for some social time. All ages welcome. \nDrop in\, no registration required.
URL:https://www.lovemylibrary.ca/event/ewe-niacke-yarn-club-3-2-2-2/2024-11-26/
LOCATION:Mount Uniacke Library\, 555\, Highway 1\, Mount Uniacke\, Nova Scotia\, Canada
CATEGORIES:Crafting,Events For Adults,Events For Kids,Events For Seniors,Location: Mount Uniacke
ATTACH;FMTTYPE=image/png:https://www.lovemylibrary.ca/wp-content/uploads/2022/03/Untitled-design-89.png
END:VEVENT
BEGIN:VEVENT
DTSTART;TZID=America/Halifax:20241127T103000
DTEND;TZID=America/Halifax:20241127T110000
DTSTAMP:20260423T081226
CREATED:20240918T190337Z
LAST-MODIFIED:20250520T222943Z
UID:10009984-1732703400-1732705200@www.lovemylibrary.ca
SUMMARY:Storytime
DESCRIPTION:Enjoy a picture book read by Karri or Bernie and then participate in an activity. For pre-schoolers and home schoolers. \nThis is a drop-in program. No registration is required.
URL:https://www.lovemylibrary.ca/event/storytime-9/2024-11-27/
LOCATION:Mount Uniacke Library\, 555\, Highway 1\, Mount Uniacke\, Nova Scotia\, Canada
CATEGORIES:Events For Kids,Location: Mount Uniacke
ATTACH;FMTTYPE=image/png:https://www.lovemylibrary.ca/wp-content/uploads/2022/05/Untitled-design-2.png
END:VEVENT
BEGIN:VEVENT
DTSTART;TZID=America/Halifax:20241127T130000
DTEND;TZID=America/Halifax:20241127T150000
DTSTAMP:20260423T081226
CREATED:20241125T140505Z
LAST-MODIFIED:20250524T132431Z
UID:10010087-1732712400-1732719600@www.lovemylibrary.ca
SUMMARY:Makers in the Maker Lab
DESCRIPTION:Calling all Makers! Drop by for a relaxing afternoon to hang out with fellow crafters. Bring along your ongoing projects like knitting\, crochet\, needlework\, painting or other hands on crafts. \nNo registration\, drop in.
URL:https://www.lovemylibrary.ca/event/makers-in-the-maker-lab-14-2/2024-11-27/
LOCATION:Truro Library\, 754 Prince St\, Truro\, Nova Scotia\, Canada
CATEGORIES:Crafting,Events For Adults,Events For Seniors,Location: Truro
ATTACH;FMTTYPE=image/png:https://www.lovemylibrary.ca/wp-content/uploads/2023/01/Untitled-design-2023-01-24T155257.327.png
END:VEVENT
BEGIN:VEVENT
DTSTART;TZID=America/Halifax:20241127T150000
DTEND;TZID=America/Halifax:20241127T163000
DTSTAMP:20260423T081227
CREATED:20240822T192337Z
LAST-MODIFIED:20241105T220050Z
UID:10009321-1732719600-1732725000@www.lovemylibrary.ca
SUMMARY:Teen Room Drop In
DESCRIPTION:Come hang out\, grab a snack\, play Nintendo\, or make some art! \nAges 13-18 \nThis is a drop-in program. No registration is required.
URL:https://www.lovemylibrary.ca/event/teen-room-drop-in-3-2/2024-11-27/
LOCATION:Truro Library\, 754 Prince St\, Truro\, Nova Scotia\, Canada
CATEGORIES:Events For Teens,Location: Truro
ATTACH;FMTTYPE=image/png:https://www.lovemylibrary.ca/wp-content/uploads/2022/10/Untitled-design-53.png
END:VEVENT
BEGIN:VEVENT
DTSTART;TZID=America/Halifax:20241128T100000
DTEND;TZID=America/Halifax:20241128T110000
DTSTAMP:20260423T081227
CREATED:20241016T193430Z
LAST-MODIFIED:20241016T193430Z
UID:10010055-1732788000-1732791600@www.lovemylibrary.ca
SUMMARY:Virtual Author Visit: Julie Lawson
DESCRIPTION:Julie Lawson is the author of more than twenty children’s and young adult titles. Her books have won the Sheila A. Egoff Award and been nominated for numerous awards\, including various Forest of Reading Awards and the Canadian Library Association Book of the Year Award. She lives in Victoria\, British Columbia. We thank her for getting up so early to join us and read from her latest book\, Out of the Dark. Recommended for ages 9-13\, but open to all. \nTo register: email info@cehpubliclibrary.ca
URL:https://www.lovemylibrary.ca/event/virtual-author-visit-julie-lawson/
LOCATION:Virtual
CATEGORIES:Events For Kids,Location: Virtual
ATTACH;FMTTYPE=image/png:https://www.lovemylibrary.ca/wp-content/uploads/2024/10/Untitled-design-2024-10-16T163416.262.png
END:VEVENT
BEGIN:VEVENT
DTSTART;TZID=America/Halifax:20241128T100000
DTEND;TZID=America/Halifax:20241128T113000
DTSTAMP:20260423T081227
CREATED:20241018T171043Z
LAST-MODIFIED:20250524T133029Z
UID:10010127-1732788000-1732793400@www.lovemylibrary.ca
SUMMARY:Tech Help
DESCRIPTION:Is your phone giving you trouble? Or maybe your tablet? Drop by the Maker Lab on Thursday mornings for one-on-one tech help on a first-come\, first-served basis! Happy to help with your simple tech needs. Open to all ages. \nThis is a drop in program. No registration is required.
URL:https://www.lovemylibrary.ca/event/tech-help-10/2024-11-28/
LOCATION:Truro Library\, 754 Prince St\, Truro\, Nova Scotia\, Canada
CATEGORIES:Events For Adults,Location: Truro
ATTACH;FMTTYPE=image/png:https://www.lovemylibrary.ca/wp-content/uploads/2024/10/Untitled-design-2024-10-18T141043.276.png
END:VEVENT
BEGIN:VEVENT
DTSTART;TZID=America/Halifax:20241128T103000
DTEND;TZID=America/Halifax:20241128T110000
DTSTAMP:20260423T081227
CREATED:20240916T150356Z
LAST-MODIFIED:20250523T182647Z
UID:10010044-1732789800-1732791600@www.lovemylibrary.ca
SUMMARY:Baby Rhyme Time
DESCRIPTION:Discover the joy of songs\, finger plays\, bouncing rhymes and simple books. Infant-2 years old with a caregiver \nThis is a drop in program. No registration is required.
URL:https://www.lovemylibrary.ca/event/baby-rhyme-time-7-2-2-2/2024-11-28/
LOCATION:Stewiacke Library\, 295 George Street\, Stewiacke\, Nova Scotia\, Canada
CATEGORIES:Events For Kids,Location: Stewiacke
ATTACH;FMTTYPE=image/png:https://www.lovemylibrary.ca/wp-content/uploads/2022/03/Untitled-design-75.png
END:VEVENT
BEGIN:VEVENT
DTSTART;TZID=America/Halifax:20241128T150000
DTEND;TZID=America/Halifax:20241128T163000
DTSTAMP:20260423T081227
CREATED:20240822T192337Z
LAST-MODIFIED:20241105T220050Z
UID:10009322-1732806000-1732811400@www.lovemylibrary.ca
SUMMARY:Teen Room Drop In
DESCRIPTION:Come hang out\, grab a snack\, play Nintendo\, or make some art! \nAges 13-18 \nThis is a drop-in program. No registration is required.
URL:https://www.lovemylibrary.ca/event/teen-room-drop-in-3-2/2024-11-28/
LOCATION:Truro Library\, 754 Prince St\, Truro\, Nova Scotia\, Canada
CATEGORIES:Events For Teens,Location: Truro
ATTACH;FMTTYPE=image/png:https://www.lovemylibrary.ca/wp-content/uploads/2022/10/Untitled-design-53.png
END:VEVENT
BEGIN:VEVENT
DTSTART;TZID=America/Halifax:20241128T163000
DTEND;TZID=America/Halifax:20241128T193000
DTSTAMP:20260423T081227
CREATED:20240916T180322Z
LAST-MODIFIED:20241018T193627Z
UID:10010142-1732811400-1732822200@www.lovemylibrary.ca
SUMMARY:Collage Club
DESCRIPTION:Explore your creative side at the Elmsdale Library with the Collage Club! We’re busting out the scissors and glue and cutting up magazines and picture books to assemble a cool piece of art. You can also make postcards\, vision boards\, zines – whatever you want! Whether you’re a season collage pro or just looking to try a new creative outlet\, come get creative! For ages 10+ \nDrop in\, registration is not required. – Please call 902-883-9838 or email us at elmsdale@cehpubliclibrary.ca for more details
URL:https://www.lovemylibrary.ca/event/collage-club/2024-11-28/
LOCATION:Elmsdale Library\, 15 Commerce Ct\, Elmsdale\, Nova Scotia\, Canada
CATEGORIES:Crafting,Events For Kids,Location: Elmsdale
ATTACH;FMTTYPE=image/png:https://www.lovemylibrary.ca/wp-content/uploads/2024/09/Untitled-design-2024-09-16T150234.943.png
END:VEVENT
BEGIN:VEVENT
DTSTART;TZID=America/Halifax:20241128T180000
DTEND;TZID=America/Halifax:20241128T190000
DTSTAMP:20260423T081227
CREATED:20241015T211342Z
LAST-MODIFIED:20250416T194912Z
UID:10010026-1732816800-1732820400@www.lovemylibrary.ca
SUMMARY:Silent Reading Book Club
DESCRIPTION:Want to join a book club where you don’t have to talk to others. Bring a book or come early and check out a book. We will make sure it is quiet to read for the hour. Suitable for all ages. \nThis is a drop in program. No registration is required.
URL:https://www.lovemylibrary.ca/event/silent-reading-book-club/2024-11-28/
LOCATION:Mount Uniacke Library\, 555\, Highway 1\, Mount Uniacke\, Nova Scotia\, Canada
CATEGORIES:Location: Mount Uniacke
ATTACH;FMTTYPE=image/png:https://www.lovemylibrary.ca/wp-content/uploads/2024/10/e-8.png
END:VEVENT
BEGIN:VEVENT
DTSTART;VALUE=DATE:20241129
DTEND;VALUE=DATE:20241130
DTSTAMP:20260423T081227
CREATED:20240221T183224Z
LAST-MODIFIED:20250523T194552Z
UID:10011016-1732838400-1732924799@www.lovemylibrary.ca
SUMMARY:Tech Help
DESCRIPTION:Need  help with a computer\, tablet or phone?  We can help. This is an adult program. \nPre register in person or by phone 902- 657-3064 or email: tatamago@cehpubliclibrary.ca
URL:https://www.lovemylibrary.ca/event/tech-help-6/2024-11-29/
LOCATION:Tatamagouche Library\, 170 Main Street\, Tatamagouche\, Nova Scotia\, Canada
CATEGORIES:Location: Tatamagouche
ATTACH;FMTTYPE=image/png:https://www.lovemylibrary.ca/wp-content/uploads/2022/03/Untitled-design-80.png
END:VEVENT
END:VCALENDAR