BEGIN:VCALENDAR
VERSION:2.0
PRODID:-//Colchester East Hants Public Library - ECPv6.15.20//NONSGML v1.0//EN
CALSCALE:GREGORIAN
METHOD:PUBLISH
X-ORIGINAL-URL:https://www.lovemylibrary.ca
X-WR-CALDESC:Events for Colchester East Hants Public Library
REFRESH-INTERVAL;VALUE=DURATION:PT1H
X-Robots-Tag:noindex
X-PUBLISHED-TTL:PT1H
BEGIN:VTIMEZONE
TZID:America/Halifax
BEGIN:DAYLIGHT
TZOFFSETFROM:-0400
TZOFFSETTO:-0300
TZNAME:ADT
DTSTART:20230312T060000
END:DAYLIGHT
BEGIN:STANDARD
TZOFFSETFROM:-0300
TZOFFSETTO:-0400
TZNAME:AST
DTSTART:20231105T050000
END:STANDARD
BEGIN:DAYLIGHT
TZOFFSETFROM:-0400
TZOFFSETTO:-0300
TZNAME:ADT
DTSTART:20240310T060000
END:DAYLIGHT
BEGIN:STANDARD
TZOFFSETFROM:-0300
TZOFFSETTO:-0400
TZNAME:AST
DTSTART:20241103T050000
END:STANDARD
BEGIN:DAYLIGHT
TZOFFSETFROM:-0400
TZOFFSETTO:-0300
TZNAME:ADT
DTSTART:20250309T060000
END:DAYLIGHT
BEGIN:STANDARD
TZOFFSETFROM:-0300
TZOFFSETTO:-0400
TZNAME:AST
DTSTART:20251102T050000
END:STANDARD
BEGIN:DAYLIGHT
TZOFFSETFROM:-0400
TZOFFSETTO:-0300
TZNAME:ADT
DTSTART:20260308T060000
END:DAYLIGHT
BEGIN:STANDARD
TZOFFSETFROM:-0300
TZOFFSETTO:-0400
TZNAME:AST
DTSTART:20261101T050000
END:STANDARD
END:VTIMEZONE
BEGIN:VEVENT
DTSTART;VALUE=DATE:20241001
DTEND;VALUE=DATE:20241229
DTSTAMP:20260423T171727
CREATED:20240916T153733Z
LAST-MODIFIED:20241121T155741Z
UID:10009695-1727740800-1735430399@www.lovemylibrary.ca
SUMMARY:Tech Help by Appointment
DESCRIPTION:Bring your own device or use one of our computers. This program covers: eReaders/ebooks\, basic computer navigation\, basic app use\, basic cellphone use\, basic tablet use\, general internet instruction\, research and using library electronic resources. All ages are welcome. \nRegister: stewiacke@cehpubliclibrary.ca
URL:https://www.lovemylibrary.ca/event/tech-help-by-appointment-2/
LOCATION:Stewiacke Library\, 295 George Street\, Stewiacke\, Nova Scotia\, Canada
CATEGORIES:Events For Adults,Events For Kids,Location: Stewiacke
ATTACH;FMTTYPE=image/jpeg:https://www.lovemylibrary.ca/wp-content/uploads/2021/08/11.jpg
END:VEVENT
BEGIN:VEVENT
DTSTART;VALUE=DATE:20241102
DTEND;VALUE=DATE:20241228
DTSTAMP:20260423T171727
CREATED:20241018T175646Z
LAST-MODIFIED:20241029T205518Z
UID:10010133-1730505600-1735343999@www.lovemylibrary.ca
SUMMARY:Poetry: An Art Exhibit by the Truro Art Society.
DESCRIPTION:The Truro Art Society presents a unique exhibit full of pieces inspired by poetry!  Each one is based on either an existing poem written by someone else\, a poem written by the artist\, or music lyrics. They hope you’ll enjoy exploring these artistic interpretations!  The exhibit will be housed on the 2nd floor.
URL:https://www.lovemylibrary.ca/event/truro-art-society/
LOCATION:Truro Library\, 754 Prince St\, Truro\, Nova Scotia\, Canada
CATEGORIES:Events For Adults,Events For Kids,Events For Seniors,Location: Truro
ATTACH;FMTTYPE=image/png:https://www.lovemylibrary.ca/wp-content/uploads/2024/10/Untitled-design-2024-10-18T145546.149.png
END:VEVENT
BEGIN:VEVENT
DTSTART;TZID=America/Halifax:20241108T100000
DTEND;TZID=America/Halifax:20241213T120000
DTSTAMP:20260423T171727
CREATED:20240513T152733Z
LAST-MODIFIED:20250417T173941Z
UID:10009957-1731060000-1734091200@www.lovemylibrary.ca
SUMMARY:One on One Tech Help
DESCRIPTION:Issues with your phone? Laptop? Social Media? Meet in-person with our digital literacy trainer to get your tech questions answered. \nDrop in – please call (902) 883-9838 or email us at elmsdale@cehpubliclibrary.ca for more details.
URL:https://www.lovemylibrary.ca/event/one-on-one-tech-help-7-2-2-2/2024-11-08/
LOCATION:Elmsdale Library\, 15 Commerce Ct\, Elmsdale\, Nova Scotia\, Canada
CATEGORIES:Events For Adults,Location: Elmsdale
ATTACH;FMTTYPE=image/png:https://www.lovemylibrary.ca/wp-content/uploads/2022/03/Untitled-design-80.png
END:VEVENT
BEGIN:VEVENT
DTSTART;TZID=America/Halifax:20241115T100000
DTEND;TZID=America/Halifax:20241220T120000
DTSTAMP:20260423T171727
CREATED:20240513T152733Z
LAST-MODIFIED:20250417T173941Z
UID:10009958-1731664800-1734696000@www.lovemylibrary.ca
SUMMARY:One on One Tech Help
DESCRIPTION:Issues with your phone? Laptop? Social Media? Meet in-person with our digital literacy trainer to get your tech questions answered. \nDrop in – please call (902) 883-9838 or email us at elmsdale@cehpubliclibrary.ca for more details.
URL:https://www.lovemylibrary.ca/event/one-on-one-tech-help-7-2-2-2/2024-11-15/
LOCATION:Elmsdale Library\, 15 Commerce Ct\, Elmsdale\, Nova Scotia\, Canada
CATEGORIES:Events For Adults,Location: Elmsdale
ATTACH;FMTTYPE=image/png:https://www.lovemylibrary.ca/wp-content/uploads/2022/03/Untitled-design-80.png
END:VEVENT
BEGIN:VEVENT
DTSTART;TZID=America/Halifax:20241122T100000
DTEND;TZID=America/Halifax:20241227T120000
DTSTAMP:20260423T171727
CREATED:20240513T152733Z
LAST-MODIFIED:20250417T173941Z
UID:10009959-1732269600-1735300800@www.lovemylibrary.ca
SUMMARY:One on One Tech Help
DESCRIPTION:Issues with your phone? Laptop? Social Media? Meet in-person with our digital literacy trainer to get your tech questions answered. \nDrop in – please call (902) 883-9838 or email us at elmsdale@cehpubliclibrary.ca for more details.
URL:https://www.lovemylibrary.ca/event/one-on-one-tech-help-7-2-2-2/2024-11-22/
LOCATION:Elmsdale Library\, 15 Commerce Ct\, Elmsdale\, Nova Scotia\, Canada
CATEGORIES:Events For Adults,Location: Elmsdale
ATTACH;FMTTYPE=image/png:https://www.lovemylibrary.ca/wp-content/uploads/2022/03/Untitled-design-80.png
END:VEVENT
BEGIN:VEVENT
DTSTART;TZID=America/Halifax:20241129T100000
DTEND;TZID=America/Halifax:20250103T120000
DTSTAMP:20260423T171727
CREATED:20240513T152733Z
LAST-MODIFIED:20250417T173941Z
UID:10009960-1732874400-1735905600@www.lovemylibrary.ca
SUMMARY:One on One Tech Help
DESCRIPTION:Issues with your phone? Laptop? Social Media? Meet in-person with our digital literacy trainer to get your tech questions answered. \nDrop in – please call (902) 883-9838 or email us at elmsdale@cehpubliclibrary.ca for more details.
URL:https://www.lovemylibrary.ca/event/one-on-one-tech-help-7-2-2-2/2024-11-29/
LOCATION:Elmsdale Library\, 15 Commerce Ct\, Elmsdale\, Nova Scotia\, Canada
CATEGORIES:Events For Adults,Location: Elmsdale
ATTACH;FMTTYPE=image/png:https://www.lovemylibrary.ca/wp-content/uploads/2022/03/Untitled-design-80.png
END:VEVENT
BEGIN:VEVENT
DTSTART;VALUE=DATE:20241201
DTEND;VALUE=DATE:20241224
DTSTAMP:20260423T171727
CREATED:20221125T194453Z
LAST-MODIFIED:20241104T190239Z
UID:10002426-1733011200-1734998399@www.lovemylibrary.ca
SUMMARY:Library Shelf Elf Search
DESCRIPTION:Our mischievous elf will be visiting the Children’s department daily. Drop in to find him and get a wee sweet treat! \nThis is a drop in program. No registration is required.
URL:https://www.lovemylibrary.ca/event/library-shelf-elf-search/
LOCATION:Truro Library\, 754 Prince St\, Truro\, Nova Scotia\, Canada
CATEGORIES:Events For Kids,Location: Truro
ATTACH;FMTTYPE=image/png:https://www.lovemylibrary.ca/wp-content/uploads/2022/11/Untitled-design-2023-11-23T140512.936.png
END:VEVENT
BEGIN:VEVENT
DTSTART;VALUE=DATE:20241201
DTEND;VALUE=DATE:20241225
DTSTAMP:20260423T171727
CREATED:20241121T151803Z
LAST-MODIFIED:20241121T151803Z
UID:10010199-1733011200-1735084799@www.lovemylibrary.ca
SUMMARY:DIY Holiday Greeting Card
DESCRIPTION:Come in out of the cold and make a special Holiday greeting card for that special someone on your list. All the supplies will be provided. \nIn person\, drop in.\nPlease call 902-883-9838 or email elmsdale@cehpubliclibrary.ca.
URL:https://www.lovemylibrary.ca/event/diy-holiday-greeting-card/
LOCATION:Elmsdale Library\, 15 Commerce Ct\, Elmsdale\, Nova Scotia\, Canada
CATEGORIES:Crafting,Events For Adults,Events For Kids
ATTACH;FMTTYPE=image/png:https://www.lovemylibrary.ca/wp-content/uploads/2024/11/Untitled-design-3.png
END:VEVENT
BEGIN:VEVENT
DTSTART;TZID=America/Halifax:20241206T100000
DTEND;TZID=America/Halifax:20250110T120000
DTSTAMP:20260423T171727
CREATED:20240513T152733Z
LAST-MODIFIED:20250417T173941Z
UID:10010195-1733479200-1736510400@www.lovemylibrary.ca
SUMMARY:One on One Tech Help
DESCRIPTION:Issues with your phone? Laptop? Social Media? Meet in-person with our digital literacy trainer to get your tech questions answered. \nDrop in – please call (902) 883-9838 or email us at elmsdale@cehpubliclibrary.ca for more details.
URL:https://www.lovemylibrary.ca/event/one-on-one-tech-help-7-2-2-2/2024-12-06/
LOCATION:Elmsdale Library\, 15 Commerce Ct\, Elmsdale\, Nova Scotia\, Canada
CATEGORIES:Events For Adults,Location: Elmsdale
ATTACH;FMTTYPE=image/png:https://www.lovemylibrary.ca/wp-content/uploads/2022/03/Untitled-design-80.png
END:VEVENT
BEGIN:VEVENT
DTSTART;TZID=America/Halifax:20241209T133000
DTEND;TZID=America/Halifax:20241209T163000
DTSTAMP:20260423T171727
CREATED:20241125T134633Z
LAST-MODIFIED:20250902T175504Z
UID:10010278-1733751000-1733761800@www.lovemylibrary.ca
SUMMARY:Scrabble Group
DESCRIPTION:What spells F-U-N? Playing Scrabble with friends! \nThis is a drop-in event. No registration is required.
URL:https://www.lovemylibrary.ca/event/scrabble-group-6-2/2024-12-09/
LOCATION:Truro Library\, 754 Prince St\, Truro\, Nova Scotia\, Canada
CATEGORIES:Events For Adults,Events For Seniors,Location: Truro
ATTACH;FMTTYPE=image/png:https://www.lovemylibrary.ca/wp-content/uploads/2022/05/Add-a-subheading-700-×-500-px-3.png
END:VEVENT
BEGIN:VEVENT
DTSTART;TZID=America/Halifax:20241210T110000
DTEND;TZID=America/Halifax:20241210T120000
DTSTAMP:20260423T171727
CREATED:20241018T164540Z
LAST-MODIFIED:20250422T212708Z
UID:10010335-1733828400-1733832000@www.lovemylibrary.ca
SUMMARY:Conversational English
DESCRIPTION:Is English your 2nd language? Or maybe your 4th? Our Conversational English program is for those who would like to practice their English in a fun and friendly environment. In partnership with YREACH. \nThis is a drop-in event. No registration is required.
URL:https://www.lovemylibrary.ca/event/conversational-english-10/2024-12-10/
LOCATION:Truro Library\, 754 Prince St\, Truro\, Nova Scotia\, Canada
CATEGORIES:Events For Adults,Location: Truro
ATTACH;FMTTYPE=image/jpeg:https://www.lovemylibrary.ca/wp-content/uploads/2021/08/13.jpg
END:VEVENT
BEGIN:VEVENT
DTSTART;TZID=America/Halifax:20241210T150000
DTEND;TZID=America/Halifax:20241210T163000
DTSTAMP:20260423T171727
CREATED:20240822T192337Z
LAST-MODIFIED:20241105T220050Z
UID:10010147-1733842800-1733848200@www.lovemylibrary.ca
SUMMARY:Teen Room Drop In
DESCRIPTION:Come hang out\, grab a snack\, play Nintendo\, or make some art! \nAges 13-18 \nThis is a drop-in program. No registration is required.
URL:https://www.lovemylibrary.ca/event/teen-room-drop-in-3-2/2024-12-10/
LOCATION:Truro Library\, 754 Prince St\, Truro\, Nova Scotia\, Canada
CATEGORIES:Events For Teens,Location: Truro
ATTACH;FMTTYPE=image/png:https://www.lovemylibrary.ca/wp-content/uploads/2022/10/Untitled-design-53.png
END:VEVENT
BEGIN:VEVENT
DTSTART;TZID=America/Halifax:20241210T150000
DTEND;TZID=America/Halifax:20241210T170000
DTSTAMP:20260423T171727
CREATED:20241121T190918Z
LAST-MODIFIED:20241121T193136Z
UID:10010228-1733842800-1733850000@www.lovemylibrary.ca
SUMMARY:Board Games
DESCRIPTION:Make your afternoon a little more fun! 🌞 Join us for a relaxed board game social\, filled with laughs\, snacks\, and plenty of games. Perfect for unwinding and making new friends! Make your afternoon a little more fun! 🌞 Join us for a relaxed board game social\, filled with laughs\, snacks\, and plenty of games. Perfect for unwinding and making new friends! \nAges 12 – 24. In person.\nPre-Register in person or by phone: (902) 657-3064\, or by email: tatamago@cehpubliclibrary.ca
URL:https://www.lovemylibrary.ca/event/board-games/
LOCATION:Tatamagouche Library\, 170 Main Street\, Tatamagouche\, Nova Scotia\, Canada
CATEGORIES:Events For Adults,Events For Kids,Events For Teens
ATTACH;FMTTYPE=image/png:https://www.lovemylibrary.ca/wp-content/uploads/2024/11/Untitled-design-3-1.png
END:VEVENT
BEGIN:VEVENT
DTSTART;TZID=America/Halifax:20241210T173000
DTEND;TZID=America/Halifax:20241210T200000
DTSTAMP:20260423T171727
CREATED:20241018T164903Z
LAST-MODIFIED:20241209T173118Z
UID:10010428-1733851800-1733860800@www.lovemylibrary.ca
SUMMARY:Heroes & Adventurers
DESCRIPTION:Role-playing game nights with extraordinary people! We provide the supplies\, you provide the imagination. No experience needed. All welcome! \nRegister to play by emailing: HAATruro@gmail.com Sorry\, no drop-in players at this time.
URL:https://www.lovemylibrary.ca/event/heroes-adventurers-14/2024-12-10/
LOCATION:Truro Library\, 754 Prince St\, Truro\, Nova Scotia\, Canada
CATEGORIES:Events For Adults,Events For Kids,Events For Seniors,Events For Teens,Location: Truro
ATTACH;FMTTYPE=image/png:https://www.lovemylibrary.ca/wp-content/uploads/2022/06/D-and-D.png
END:VEVENT
BEGIN:VEVENT
DTSTART;TZID=America/Halifax:20241210T180000
DTEND;TZID=America/Halifax:20241210T190000
DTSTAMP:20260423T171727
CREATED:20241121T191622Z
LAST-MODIFIED:20241206T174103Z
UID:10010229-1733853600-1733857200@www.lovemylibrary.ca
SUMMARY:Holiday Ornaments
DESCRIPTION:Join us for a festive ornament painting workshop! Create your own beautiful\, hand-painted holiday decorations in a fun\, relaxed atmosphere. All materials provided – just bring your creativity \nAdults event. In person.\nPre-register in person or by phone  902 – 657-3064 or email: tatamago@cehpubliclibrary.ca
URL:https://www.lovemylibrary.ca/event/holiday-ornaments/
LOCATION:Tatamagouche Library\, 170 Main Street\, Tatamagouche\, Nova Scotia\, Canada
CATEGORIES:Crafting,Events For Adults
ATTACH;FMTTYPE=image/png:https://www.lovemylibrary.ca/wp-content/uploads/2024/11/Untitled-design-4.png
END:VEVENT
BEGIN:VEVENT
DTSTART;TZID=America/Halifax:20241210T180000
DTEND;TZID=America/Halifax:20241210T200000
DTSTAMP:20260423T171727
CREATED:20240918T144614Z
LAST-MODIFIED:20250509T185455Z
UID:10010158-1733853600-1733860800@www.lovemylibrary.ca
SUMMARY:Maker Lab Fun Time
DESCRIPTION:Come on in and explore. Program robots\, create circuits\, build with magnetic tiles\, and more! All ages are welcome \nThis is a drop-in and no registration is required.
URL:https://www.lovemylibrary.ca/event/maker-lab-fun-time-6/2024-12-10/
LOCATION:Truro Library\, 754 Prince St\, Truro\, Nova Scotia\, Canada
CATEGORIES:Events For Kids,Location: Truro,STEAM
ATTACH;FMTTYPE=image/png:https://www.lovemylibrary.ca/wp-content/uploads/2023/09/Untitled-design-2023-09-29T143321.527.png
END:VEVENT
BEGIN:VEVENT
DTSTART;TZID=America/Halifax:20241210T183000
DTEND;TZID=America/Halifax:20241210T193000
DTSTAMP:20260423T171727
CREATED:20241125T151323Z
LAST-MODIFIED:20241125T153450Z
UID:10010423-1733855400-1733859000@www.lovemylibrary.ca
SUMMARY:Monthly Craft Night - Create Your Own Mulling Jar
DESCRIPTION:Winter can be long and cold\, so a hot drink never goes amiss! Join us and create your own mulling jar—a collection of holiday spices to with which to make your own cider at home. As a winter gift for a loved one or a personal pick-me-up these mulling jars will help to unlearn helplessness in the kitchen\, promote food literacy\, and (hopefully) bring a little joy into winter. \nTo register\, please call us at 902-895-4183 or email info@cehpubliclibrary.ca
URL:https://www.lovemylibrary.ca/event/monthly-craft-night-create-your-own-mulling-jar/
LOCATION:Truro Library\, 754 Prince St\, Truro\, Nova Scotia\, Canada
CATEGORIES:Crafting,Events For Adults,Events For Seniors,Location: Truro
ATTACH;FMTTYPE=image/png:https://www.lovemylibrary.ca/wp-content/uploads/2024/11/Untitled-design-3-2.png
END:VEVENT
BEGIN:VEVENT
DTSTART;TZID=America/Halifax:20241210T183000
DTEND;TZID=America/Halifax:20241210T200000
DTSTAMP:20260423T171727
CREATED:20240919T175158Z
LAST-MODIFIED:20260415T142046Z
UID:10010263-1733855400-1733860800@www.lovemylibrary.ca
SUMMARY:Ewe-niacke Yarn Club
DESCRIPTION:Fiber art for all ages and abilities. Learn to knit or crochet\, bring a project you are working on\, or just come hang out with the club for some social time. All ages welcome. \nDrop in\, no registration required.
URL:https://www.lovemylibrary.ca/event/ewe-niacke-yarn-club-3-2-2-2/2024-12-10/
LOCATION:Mount Uniacke Library\, 555\, Highway 1\, Mount Uniacke\, Nova Scotia\, Canada
CATEGORIES:Crafting,Events For Adults,Events For Kids,Events For Seniors,Location: Mount Uniacke
ATTACH;FMTTYPE=image/png:https://www.lovemylibrary.ca/wp-content/uploads/2022/03/Untitled-design-89.png
END:VEVENT
BEGIN:VEVENT
DTSTART;TZID=America/Halifax:20241211T103000
DTEND;TZID=America/Halifax:20241211T110000
DTSTAMP:20260423T171727
CREATED:20240918T190337Z
LAST-MODIFIED:20250520T222943Z
UID:10010245-1733913000-1733914800@www.lovemylibrary.ca
SUMMARY:Storytime
DESCRIPTION:Enjoy a picture book read by Karri or Bernie and then participate in an activity. For pre-schoolers and home schoolers. \nThis is a drop-in program. No registration is required.
URL:https://www.lovemylibrary.ca/event/storytime-9/2024-12-11/
LOCATION:Mount Uniacke Library\, 555\, Highway 1\, Mount Uniacke\, Nova Scotia\, Canada
CATEGORIES:Events For Kids,Location: Mount Uniacke
ATTACH;FMTTYPE=image/png:https://www.lovemylibrary.ca/wp-content/uploads/2022/05/Untitled-design-2.png
END:VEVENT
BEGIN:VEVENT
DTSTART;TZID=America/Halifax:20241211T130000
DTEND;TZID=America/Halifax:20241211T150000
DTSTAMP:20260423T171727
CREATED:20241125T140505Z
LAST-MODIFIED:20250524T132431Z
UID:10010338-1733922000-1733929200@www.lovemylibrary.ca
SUMMARY:Makers in the Maker Lab
DESCRIPTION:Calling all Makers! Drop by for a relaxing afternoon to hang out with fellow crafters. Bring along your ongoing projects like knitting\, crochet\, needlework\, painting or other hands on crafts. \nNo registration\, drop in.
URL:https://www.lovemylibrary.ca/event/makers-in-the-maker-lab-14-2/2024-12-11/
LOCATION:Truro Library\, 754 Prince St\, Truro\, Nova Scotia\, Canada
CATEGORIES:Crafting,Events For Adults,Events For Seniors,Location: Truro
ATTACH;FMTTYPE=image/png:https://www.lovemylibrary.ca/wp-content/uploads/2023/01/Untitled-design-2023-01-24T155257.327.png
END:VEVENT
BEGIN:VEVENT
DTSTART;TZID=America/Halifax:20241211T150000
DTEND;TZID=America/Halifax:20241211T163000
DTSTAMP:20260423T171727
CREATED:20240822T192337Z
LAST-MODIFIED:20241105T220050Z
UID:10010148-1733929200-1733934600@www.lovemylibrary.ca
SUMMARY:Teen Room Drop In
DESCRIPTION:Come hang out\, grab a snack\, play Nintendo\, or make some art! \nAges 13-18 \nThis is a drop-in program. No registration is required.
URL:https://www.lovemylibrary.ca/event/teen-room-drop-in-3-2/2024-12-11/
LOCATION:Truro Library\, 754 Prince St\, Truro\, Nova Scotia\, Canada
CATEGORIES:Events For Teens,Location: Truro
ATTACH;FMTTYPE=image/png:https://www.lovemylibrary.ca/wp-content/uploads/2022/10/Untitled-design-53.png
END:VEVENT
BEGIN:VEVENT
DTSTART;TZID=America/Halifax:20241211T163000
DTEND;TZID=America/Halifax:20241211T173000
DTSTAMP:20260423T171727
CREATED:20241105T223225Z
LAST-MODIFIED:20241105T223225Z
UID:10010165-1733934600-1733938200@www.lovemylibrary.ca
SUMMARY:Teens in the Kitchen
DESCRIPTION:Bring your friends and your appetite to the Teen Room for an hour of food and fun. For ages 13-18 \nThis is a drop in program. Registration is not required.
URL:https://www.lovemylibrary.ca/event/teens-in-the-kitchen/
LOCATION:Truro Library\, 754 Prince St\, Truro\, Nova Scotia\, Canada
CATEGORIES:Events For Teens,Location: Truro
ATTACH;FMTTYPE=image/png:https://www.lovemylibrary.ca/wp-content/uploads/2024/11/Untitled-design-2024-11-05T183215.673.png
END:VEVENT
BEGIN:VEVENT
DTSTART;TZID=America/Halifax:20241212T100000
DTEND;TZID=America/Halifax:20241212T113000
DTSTAMP:20260423T171727
CREATED:20241018T171043Z
LAST-MODIFIED:20250524T133029Z
UID:10010394-1733997600-1734003000@www.lovemylibrary.ca
SUMMARY:Tech Help
DESCRIPTION:Is your phone giving you trouble? Or maybe your tablet? Drop by the Maker Lab on Thursday mornings for one-on-one tech help on a first-come\, first-served basis! Happy to help with your simple tech needs. Open to all ages. \nThis is a drop in program. No registration is required.
URL:https://www.lovemylibrary.ca/event/tech-help-10/2024-12-12/
LOCATION:Truro Library\, 754 Prince St\, Truro\, Nova Scotia\, Canada
CATEGORIES:Events For Adults,Location: Truro
ATTACH;FMTTYPE=image/png:https://www.lovemylibrary.ca/wp-content/uploads/2024/10/Untitled-design-2024-10-18T141043.276.png
END:VEVENT
BEGIN:VEVENT
DTSTART;TZID=America/Halifax:20241212T103000
DTEND;TZID=America/Halifax:20241212T110000
DTSTAMP:20260423T171727
CREATED:20240916T150356Z
LAST-MODIFIED:20250523T182647Z
UID:10010204-1733999400-1734001200@www.lovemylibrary.ca
SUMMARY:Baby Rhyme Time
DESCRIPTION:Discover the joy of songs\, finger plays\, bouncing rhymes and simple books. Infant-2 years old with a caregiver \nThis is a drop in program. No registration is required.
URL:https://www.lovemylibrary.ca/event/baby-rhyme-time-7-2-2-2/2024-12-12/
LOCATION:Stewiacke Library\, 295 George Street\, Stewiacke\, Nova Scotia\, Canada
CATEGORIES:Events For Kids,Location: Stewiacke
ATTACH;FMTTYPE=image/png:https://www.lovemylibrary.ca/wp-content/uploads/2022/03/Untitled-design-75.png
END:VEVENT
BEGIN:VEVENT
DTSTART;TZID=America/Halifax:20241212T143000
DTEND;TZID=America/Halifax:20241212T150000
DTSTAMP:20260423T171727
CREATED:20241105T231021Z
LAST-MODIFIED:20251118T223116Z
UID:10010170-1734013800-1734015600@www.lovemylibrary.ca
SUMMARY:Holiday Puppet Show
DESCRIPTION:‘Tis the season for a puppet show! The library puppets have a fun and festive performance made for the holiday season!  All ages are welcome \nThis is a drop in program. No registration is required.
URL:https://www.lovemylibrary.ca/event/holiday-puppet-show-4/
LOCATION:Mount Uniacke Library\, 555\, Highway 1\, Mount Uniacke\, Nova Scotia\, Canada
CATEGORIES:Events For Kids,Location: Mount Uniacke
ATTACH;FMTTYPE=image/png:https://www.lovemylibrary.ca/wp-content/uploads/2024/11/Untitled-design-2024-11-05T190634.742.png
END:VEVENT
BEGIN:VEVENT
DTSTART;TZID=America/Halifax:20241212T150000
DTEND;TZID=America/Halifax:20241212T160000
DTSTAMP:20260423T171727
CREATED:20241121T192529Z
LAST-MODIFIED:20241121T192529Z
UID:10010230-1734015600-1734019200@www.lovemylibrary.ca
SUMMARY:Holiday Craft for Kids
DESCRIPTION:Bring the kids for a fun holiday craft workshop! They’ll enjoy making festive creations to celebrate the season\, with all materials provided for a joyful\, hands-on experience \nIn Person. Ages 7-14.\nPre-Register in person or by phone: (902) 657-3064\, or email: tatamago@cehpubliclibrary.ca
URL:https://www.lovemylibrary.ca/event/holiday-craft-for-kids/
LOCATION:Tatamagouche Library\, 170 Main Street\, Tatamagouche\, Nova Scotia\, Canada
ATTACH;FMTTYPE=image/png:https://www.lovemylibrary.ca/wp-content/uploads/2024/11/Untitled-design-5.png
END:VEVENT
BEGIN:VEVENT
DTSTART;TZID=America/Halifax:20241212T150000
DTEND;TZID=America/Halifax:20241212T163000
DTSTAMP:20260423T171727
CREATED:20240822T192337Z
LAST-MODIFIED:20241105T220050Z
UID:10010149-1734015600-1734021000@www.lovemylibrary.ca
SUMMARY:Teen Room Drop In
DESCRIPTION:Come hang out\, grab a snack\, play Nintendo\, or make some art! \nAges 13-18 \nThis is a drop-in program. No registration is required.
URL:https://www.lovemylibrary.ca/event/teen-room-drop-in-3-2/2024-12-12/
LOCATION:Truro Library\, 754 Prince St\, Truro\, Nova Scotia\, Canada
CATEGORIES:Events For Teens,Location: Truro
ATTACH;FMTTYPE=image/png:https://www.lovemylibrary.ca/wp-content/uploads/2022/10/Untitled-design-53.png
END:VEVENT
BEGIN:VEVENT
DTSTART;VALUE=DATE:20241213
DTEND;VALUE=DATE:20241214
DTSTAMP:20260423T171727
CREATED:20240221T183224Z
LAST-MODIFIED:20250523T194552Z
UID:10011018-1734048000-1734134399@www.lovemylibrary.ca
SUMMARY:Tech Help
DESCRIPTION:Need  help with a computer\, tablet or phone?  We can help. This is an adult program. \nPre register in person or by phone 902- 657-3064 or email: tatamago@cehpubliclibrary.ca
URL:https://www.lovemylibrary.ca/event/tech-help-6/2024-12-13/
LOCATION:Tatamagouche Library\, 170 Main Street\, Tatamagouche\, Nova Scotia\, Canada
CATEGORIES:Location: Tatamagouche
ATTACH;FMTTYPE=image/png:https://www.lovemylibrary.ca/wp-content/uploads/2022/03/Untitled-design-80.png
END:VEVENT
BEGIN:VEVENT
DTSTART;TZID=America/Halifax:20241213T100000
DTEND;TZID=America/Halifax:20250117T120000
DTSTAMP:20260423T171727
CREATED:20240513T152733Z
LAST-MODIFIED:20250417T173941Z
UID:10010196-1734084000-1737115200@www.lovemylibrary.ca
SUMMARY:One on One Tech Help
DESCRIPTION:Issues with your phone? Laptop? Social Media? Meet in-person with our digital literacy trainer to get your tech questions answered. \nDrop in – please call (902) 883-9838 or email us at elmsdale@cehpubliclibrary.ca for more details.
URL:https://www.lovemylibrary.ca/event/one-on-one-tech-help-7-2-2-2/2024-12-13/
LOCATION:Elmsdale Library\, 15 Commerce Ct\, Elmsdale\, Nova Scotia\, Canada
CATEGORIES:Events For Adults,Location: Elmsdale
ATTACH;FMTTYPE=image/png:https://www.lovemylibrary.ca/wp-content/uploads/2022/03/Untitled-design-80.png
END:VEVENT
BEGIN:VEVENT
DTSTART;TZID=America/Halifax:20241213T130000
DTEND;TZID=America/Halifax:20241213T143000
DTSTAMP:20260423T171727
CREATED:20240916T151310Z
LAST-MODIFIED:20250809T171947Z
UID:10010214-1734094800-1734100200@www.lovemylibrary.ca
SUMMARY:Scrabble Squad
DESCRIPTION:What spells F-U-N? Playing Scrabble with friends! All adults welcome. \nThis is a drop-in program. No registration is required.
URL:https://www.lovemylibrary.ca/event/scrabble-squad-5/2024-12-13/
LOCATION:Stewiacke Library\, 295 George Street\, Stewiacke\, Nova Scotia\, Canada
CATEGORIES:Events For Adults,Events For Seniors,Location: Stewiacke
ATTACH;FMTTYPE=image/png:https://www.lovemylibrary.ca/wp-content/uploads/2022/05/Add-a-subheading-700-×-500-px-3.png
END:VEVENT
END:VCALENDAR