BEGIN:VCALENDAR
VERSION:2.0
PRODID:-//Colchester East Hants Public Library - ECPv6.15.20//NONSGML v1.0//EN
CALSCALE:GREGORIAN
METHOD:PUBLISH
X-WR-CALNAME:Colchester East Hants Public Library
X-ORIGINAL-URL:https://www.lovemylibrary.ca
X-WR-CALDESC:Events for Colchester East Hants Public Library
REFRESH-INTERVAL;VALUE=DURATION:PT1H
X-Robots-Tag:noindex
X-PUBLISHED-TTL:PT1H
BEGIN:VTIMEZONE
TZID:America/Halifax
BEGIN:DAYLIGHT
TZOFFSETFROM:-0400
TZOFFSETTO:-0300
TZNAME:ADT
DTSTART:20240310T060000
END:DAYLIGHT
BEGIN:STANDARD
TZOFFSETFROM:-0300
TZOFFSETTO:-0400
TZNAME:AST
DTSTART:20241103T050000
END:STANDARD
BEGIN:DAYLIGHT
TZOFFSETFROM:-0400
TZOFFSETTO:-0300
TZNAME:ADT
DTSTART:20250309T060000
END:DAYLIGHT
BEGIN:STANDARD
TZOFFSETFROM:-0300
TZOFFSETTO:-0400
TZNAME:AST
DTSTART:20251102T050000
END:STANDARD
BEGIN:DAYLIGHT
TZOFFSETFROM:-0400
TZOFFSETTO:-0300
TZNAME:ADT
DTSTART:20260308T060000
END:DAYLIGHT
BEGIN:STANDARD
TZOFFSETFROM:-0300
TZOFFSETTO:-0400
TZNAME:AST
DTSTART:20261101T050000
END:STANDARD
END:VTIMEZONE
BEGIN:VEVENT
DTSTART;TZID=America/Halifax:20250228T100000
DTEND;TZID=America/Halifax:20250404T120000
DTSTAMP:20260422T191941
CREATED:20240513T152733Z
LAST-MODIFIED:20250417T173941Z
UID:10011094-1740736800-1743768000@www.lovemylibrary.ca
SUMMARY:One on One Tech Help
DESCRIPTION:Issues with your phone? Laptop? Social Media? Meet in-person with our digital literacy trainer to get your tech questions answered. \nDrop in – please call (902) 883-9838 or email us at elmsdale@cehpubliclibrary.ca for more details.
URL:https://www.lovemylibrary.ca/event/one-on-one-tech-help-7-2-2-2/2025-02-28/
LOCATION:Elmsdale Library\, 15 Commerce Ct\, Elmsdale\, Nova Scotia\, Canada
CATEGORIES:Events For Adults,Location: Elmsdale
ATTACH;FMTTYPE=image/png:https://www.lovemylibrary.ca/wp-content/uploads/2022/03/Untitled-design-80.png
END:VEVENT
BEGIN:VEVENT
DTSTART;TZID=America/Halifax:20250307T100000
DTEND;TZID=America/Halifax:20250411T120000
DTSTAMP:20260422T191941
CREATED:20240513T152733Z
LAST-MODIFIED:20250417T173941Z
UID:10011153-1741341600-1744372800@www.lovemylibrary.ca
SUMMARY:One on One Tech Help
DESCRIPTION:Issues with your phone? Laptop? Social Media? Meet in-person with our digital literacy trainer to get your tech questions answered. \nDrop in – please call (902) 883-9838 or email us at elmsdale@cehpubliclibrary.ca for more details.
URL:https://www.lovemylibrary.ca/event/one-on-one-tech-help-7-2-2-2/2025-03-07/
LOCATION:Elmsdale Library\, 15 Commerce Ct\, Elmsdale\, Nova Scotia\, Canada
CATEGORIES:Events For Adults,Location: Elmsdale
ATTACH;FMTTYPE=image/png:https://www.lovemylibrary.ca/wp-content/uploads/2022/03/Untitled-design-80.png
END:VEVENT
BEGIN:VEVENT
DTSTART;TZID=America/Halifax:20250321T100000
DTEND;TZID=America/Halifax:20250425T120000
DTSTAMP:20260422T191941
CREATED:20240513T152733Z
LAST-MODIFIED:20250417T173941Z
UID:10011155-1742551200-1745582400@www.lovemylibrary.ca
SUMMARY:One on One Tech Help
DESCRIPTION:Issues with your phone? Laptop? Social Media? Meet in-person with our digital literacy trainer to get your tech questions answered. \nDrop in – please call (902) 883-9838 or email us at elmsdale@cehpubliclibrary.ca for more details.
URL:https://www.lovemylibrary.ca/event/one-on-one-tech-help-7-2-2-2/2025-03-21/
LOCATION:Elmsdale Library\, 15 Commerce Ct\, Elmsdale\, Nova Scotia\, Canada
CATEGORIES:Events For Adults,Location: Elmsdale
ATTACH;FMTTYPE=image/png:https://www.lovemylibrary.ca/wp-content/uploads/2022/03/Untitled-design-80.png
END:VEVENT
BEGIN:VEVENT
DTSTART;VALUE=DATE:20250324
DTEND;VALUE=DATE:20250429
DTSTAMP:20260422T191941
CREATED:20250324T184135Z
LAST-MODIFIED:20250324T184135Z
UID:10011592-1742774400-1745884799@www.lovemylibrary.ca
SUMMARY:Created With Love: An Art Exhibit by the Creation Cafe
DESCRIPTION:These works were crafted with love and given with blessings by the Creation Café! The Creation Café meets at the Truro Library from mid-October until mid-May. Many of the works in this exhibit are fibre related and created for various charitable organizations in the Colchester area. Drop by and explore this unique exhibit. All ages are welcome \n 
URL:https://www.lovemylibrary.ca/event/created-with-love-an-art-exhibit-by-the-creation-cafe/
LOCATION:Truro Library\, 754 Prince St\, Truro\, Nova Scotia\, Canada
CATEGORIES:Location: Truro
ATTACH;FMTTYPE=image/png:https://www.lovemylibrary.ca/wp-content/uploads/2025/03/Untitled-design-2025-03-24T154158.709.png
END:VEVENT
BEGIN:VEVENT
DTSTART;TZID=America/Halifax:20250328T100000
DTEND;TZID=America/Halifax:20250502T120000
DTSTAMP:20260422T191941
CREATED:20240513T152733Z
LAST-MODIFIED:20250417T173941Z
UID:10011156-1743156000-1746187200@www.lovemylibrary.ca
SUMMARY:One on One Tech Help
DESCRIPTION:Issues with your phone? Laptop? Social Media? Meet in-person with our digital literacy trainer to get your tech questions answered. \nDrop in – please call (902) 883-9838 or email us at elmsdale@cehpubliclibrary.ca for more details.
URL:https://www.lovemylibrary.ca/event/one-on-one-tech-help-7-2-2-2/2025-03-28/
LOCATION:Elmsdale Library\, 15 Commerce Ct\, Elmsdale\, Nova Scotia\, Canada
CATEGORIES:Events For Adults,Location: Elmsdale
ATTACH;FMTTYPE=image/png:https://www.lovemylibrary.ca/wp-content/uploads/2022/03/Untitled-design-80.png
END:VEVENT
BEGIN:VEVENT
DTSTART;TZID=America/Halifax:20250331T133000
DTEND;TZID=America/Halifax:20250331T163000
DTSTAMP:20260422T191941
CREATED:20250902T183625Z
LAST-MODIFIED:20260401T152006Z
UID:10012921-1743427800-1743438600@www.lovemylibrary.ca
SUMMARY:Scrabble Group
DESCRIPTION:What spells F-U-N? Playing Scrabble with friends! \nThis is a drop-in event. No registration is required.
URL:https://www.lovemylibrary.ca/event/scrabble-group-6-2-2/2025-03-31/
LOCATION:Truro Library\, 754 Prince St\, Truro\, Nova Scotia\, Canada
CATEGORIES:Events For Adults,Events For Seniors,Location: Truro
ATTACH;FMTTYPE=image/png:https://www.lovemylibrary.ca/wp-content/uploads/2022/05/Add-a-subheading-700-×-500-px-3.png
END:VEVENT
BEGIN:VEVENT
DTSTART;VALUE=DATE:20250401
DTEND;VALUE=DATE:20250501
DTSTAMP:20260422T191941
CREATED:20250320T175455Z
LAST-MODIFIED:20250320T175455Z
UID:10011485-1743465600-1746057599@www.lovemylibrary.ca
SUMMARY:Haiku Challenge
DESCRIPTION:Some folks say that poetry is the art of saying a lot with a few words. So\, what better way to celebrate National Poetry Month than haiku writing. A haiku is a Japanese style poem that has three lines\, with five syllables in the first line\, seven in the second\, and five in the third. Afterwards the haikus will be put into a mini-zine for patrons of the library. Submit poems either in person\, or by email.  All ages are welcome to participate. \nPlease call 902-883-9838 or email at elmsdale@cehpubliclibrary.ca for more details\n 
URL:https://www.lovemylibrary.ca/event/haiku-challenge/
LOCATION:Elmsdale Library\, 15 Commerce Ct\, Elmsdale\, Nova Scotia\, Canada
CATEGORIES:Location: Elmsdale
ATTACH;FMTTYPE=image/png:https://www.lovemylibrary.ca/wp-content/uploads/2025/03/Untitled-design-2025-03-20T145629.265.png
END:VEVENT
BEGIN:VEVENT
DTSTART;TZID=America/Halifax:20250401T100000
DTEND;TZID=America/Halifax:20250401T110000
DTSTAMP:20260422T191941
CREATED:20250315T184240Z
LAST-MODIFIED:20250415T130921Z
UID:10010436-1743501600-1743505200@www.lovemylibrary.ca
SUMMARY:Baby\, Me\, & Mother Goose
DESCRIPTION:All babies 3-18 months are welcome to come for rhymes\, songs\, and stories! In partnership with Maggie’s Place.  The session will take place at Townsview Estates Long Term Care Home (310 Abenaki Rd) \nCall Maggie’s Place at 902-895-0200 to register.
URL:https://www.lovemylibrary.ca/event/baby-me-mother-goose-2-2-2-2-2-2-2/2025-04-01/
LOCATION:Townsview Estates Long Term Care Home\, 310 Abenaki Rd\, Truro\, Nova Scotia\, B2N 6Y7\, Canada
CATEGORIES:Events For Kids,Location: Truro
ATTACH;FMTTYPE=image/png:https://www.lovemylibrary.ca/wp-content/uploads/2022/03/Untitled-design-75.png
END:VEVENT
BEGIN:VEVENT
DTSTART;TZID=America/Halifax:20250401T110000
DTEND;TZID=America/Halifax:20250401T120000
DTSTAMP:20260422T191941
CREATED:20241018T164540Z
LAST-MODIFIED:20250422T212708Z
UID:10011565-1743505200-1743508800@www.lovemylibrary.ca
SUMMARY:Conversational English
DESCRIPTION:Is English your 2nd language? Or maybe your 4th? Our Conversational English program is for those who would like to practice their English in a fun and friendly environment. In partnership with YREACH. \nThis is a drop-in event. No registration is required.
URL:https://www.lovemylibrary.ca/event/conversational-english-10/2025-04-01/
LOCATION:Truro Library\, 754 Prince St\, Truro\, Nova Scotia\, Canada
CATEGORIES:Events For Adults,Location: Truro
ATTACH;FMTTYPE=image/jpeg:https://www.lovemylibrary.ca/wp-content/uploads/2021/08/13.jpg
END:VEVENT
BEGIN:VEVENT
DTSTART;TZID=America/Halifax:20250401T143000
DTEND;TZID=America/Halifax:20250401T150000
DTSTAMP:20260422T191941
CREATED:20250320T191600Z
LAST-MODIFIED:20250320T191600Z
UID:10011550-1743517800-1743519600@www.lovemylibrary.ca
SUMMARY:April Fools Extravaganza
DESCRIPTION:How did April Fools start? Why do we celebrate it every year? Let’s learn all about April Fools with Bernie. For school aged children. \nThis is a drop in program. No registration is required.
URL:https://www.lovemylibrary.ca/event/april-fools-extravaganza/
LOCATION:Mount Uniacke Library\, 555\, Highway 1\, Mount Uniacke\, Nova Scotia\, Canada
CATEGORIES:Events For Kids,Location: Mount Uniacke
ATTACH;FMTTYPE=image/png:https://www.lovemylibrary.ca/wp-content/uploads/2025/03/il.png
END:VEVENT
BEGIN:VEVENT
DTSTART;TZID=America/Halifax:20250401T150000
DTEND;TZID=America/Halifax:20250401T163000
DTSTAMP:20260422T191941
CREATED:20241213T191147Z
LAST-MODIFIED:20250509T192439Z
UID:10011352-1743519600-1743525000@www.lovemylibrary.ca
SUMMARY:Teen Room Drop In
DESCRIPTION:Come hang out! Grab a snack\, play our Nintendo Switch\, challenge your friends to a board game\, build with Lego\, or make art!  Ages 13-18 \nThis is a drop-in program. No registration is required.
URL:https://www.lovemylibrary.ca/event/teen-room-drop-in-5/2025-04-01/
LOCATION:Truro Library\, 754 Prince St\, Truro\, Nova Scotia\, Canada
CATEGORIES:Events For Teens,Location: Truro
ATTACH;FMTTYPE=image/png:https://www.lovemylibrary.ca/wp-content/uploads/2022/10/Untitled-design-53.png
END:VEVENT
BEGIN:VEVENT
DTSTART;TZID=America/Halifax:20250401T150000
DTEND;TZID=America/Halifax:20250401T170000
DTSTAMP:20260422T191941
CREATED:20241121T185306Z
LAST-MODIFIED:20250320T184440Z
UID:10011492-1743519600-1743526800@www.lovemylibrary.ca
SUMMARY:Dungeons and Dragons
DESCRIPTION:“Join us for an epic Dungeons & Dragons game night! Roll dice\, slay monsters\, and embark on thrilling adventures with friends. Whether you’re a seasoned hero or a curious newbie\, there’s a spot for you at the table!” For ages 13-24 \n\nPre-Register in person or by phone: (902) 657-3064\, or email: tatamago@cehpubliclibrary.ca
URL:https://www.lovemylibrary.ca/event/dd/2025-04-01/
LOCATION:Tatamagouche Library\, 170 Main Street\, Tatamagouche\, Nova Scotia\, Canada
CATEGORIES:Events For Adults,Events For Teens,Location: Tatamagouche
ATTACH;FMTTYPE=image/png:https://www.lovemylibrary.ca/wp-content/uploads/2024/11/Untitled-design-1.png
END:VEVENT
BEGIN:VEVENT
DTSTART;TZID=America/Halifax:20250401T173000
DTEND;TZID=America/Halifax:20250401T200000
DTSTAMP:20260422T191941
CREATED:20250324T180428Z
LAST-MODIFIED:20250801T174610Z
UID:10010429-1743528600-1743537600@www.lovemylibrary.ca
SUMMARY:Heroes & Adventurers
DESCRIPTION:Role-playing game nights with extraordinary people! We provide the supplies\, you provide the imagination. No experience needed. All welcome! \nRegister to play by emailing: HAATruro@gmail.com Sorry\, no drop-in players at this time.
URL:https://www.lovemylibrary.ca/event/heroes-adventurers-14-2/2025-04-01/
LOCATION:Truro Library\, 754 Prince St\, Truro\, Nova Scotia\, Canada
CATEGORIES:Events For Adults,Events For Kids,Events For Seniors,Events For Teens,Location: Truro
ATTACH;FMTTYPE=image/png:https://www.lovemylibrary.ca/wp-content/uploads/2022/06/D-and-D.png
END:VEVENT
BEGIN:VEVENT
DTSTART;TZID=America/Halifax:20250401T180000
DTEND;TZID=America/Halifax:20250401T200000
DTSTAMP:20260422T191941
CREATED:20240918T144614Z
LAST-MODIFIED:20250509T185455Z
UID:10011629-1743530400-1743537600@www.lovemylibrary.ca
SUMMARY:Maker Lab Fun Time
DESCRIPTION:Come on in and explore. Program robots\, create circuits\, build with magnetic tiles\, and more! All ages are welcome \nThis is a drop-in and no registration is required.
URL:https://www.lovemylibrary.ca/event/maker-lab-fun-time-6/2025-04-01/
LOCATION:Truro Library\, 754 Prince St\, Truro\, Nova Scotia\, Canada
CATEGORIES:Events For Kids,Location: Truro,STEAM
ATTACH;FMTTYPE=image/png:https://www.lovemylibrary.ca/wp-content/uploads/2023/09/Untitled-design-2023-09-29T143321.527.png
END:VEVENT
BEGIN:VEVENT
DTSTART;TZID=America/Halifax:20250401T183000
DTEND;TZID=America/Halifax:20250401T200000
DTSTAMP:20260422T191941
CREATED:20240919T175158Z
LAST-MODIFIED:20260415T142046Z
UID:10011297-1743532200-1743537600@www.lovemylibrary.ca
SUMMARY:Ewe-niacke Yarn Club
DESCRIPTION:Fiber art for all ages and abilities. Learn to knit or crochet\, bring a project you are working on\, or just come hang out with the club for some social time. All ages welcome. \nDrop in\, no registration required.
URL:https://www.lovemylibrary.ca/event/ewe-niacke-yarn-club-3-2-2-2/2025-04-01/
LOCATION:Mount Uniacke Library\, 555\, Highway 1\, Mount Uniacke\, Nova Scotia\, Canada
CATEGORIES:Crafting,Events For Adults,Events For Kids,Events For Seniors,Location: Mount Uniacke
ATTACH;FMTTYPE=image/png:https://www.lovemylibrary.ca/wp-content/uploads/2022/03/Untitled-design-89.png
END:VEVENT
BEGIN:VEVENT
DTSTART;TZID=America/Halifax:20250402T103000
DTEND;TZID=America/Halifax:20250402T110000
DTSTAMP:20260422T191941
CREATED:20240918T190337Z
LAST-MODIFIED:20250520T222943Z
UID:10011505-1743589800-1743591600@www.lovemylibrary.ca
SUMMARY:Storytime
DESCRIPTION:Enjoy a picture book read by Karri or Bernie and then participate in an activity. For pre-schoolers and home schoolers. \nThis is a drop-in program. No registration is required.
URL:https://www.lovemylibrary.ca/event/storytime-9/2025-04-02/
LOCATION:Mount Uniacke Library\, 555\, Highway 1\, Mount Uniacke\, Nova Scotia\, Canada
CATEGORIES:Events For Kids,Location: Mount Uniacke
ATTACH;FMTTYPE=image/png:https://www.lovemylibrary.ca/wp-content/uploads/2022/05/Untitled-design-2.png
END:VEVENT
BEGIN:VEVENT
DTSTART;TZID=America/Halifax:20250402T103000
DTEND;TZID=America/Halifax:20250402T113000
DTSTAMP:20260422T191941
CREATED:20241121T183555Z
LAST-MODIFIED:20250320T183808Z
UID:10011486-1743589800-1743593400@www.lovemylibrary.ca
SUMMARY:Seniors Social Café!
DESCRIPTION:Come in for a coffee or tea and share a story or two with your friends. Light refreshments available. \nThis is a drop-in program. No registration is required.
URL:https://www.lovemylibrary.ca/event/seniors-social-cafe-2-2/2025-04-02/
LOCATION:Tatamagouche Library\, 170 Main Street\, Tatamagouche\, Nova Scotia\, Canada
CATEGORIES:Events For Seniors,Location: Tatamagouche
ATTACH;FMTTYPE=image/png:https://www.lovemylibrary.ca/wp-content/uploads/2022/08/Untitled-design-6.png
END:VEVENT
BEGIN:VEVENT
DTSTART;TZID=America/Halifax:20250402T130000
DTEND;TZID=America/Halifax:20250402T150000
DTSTAMP:20260422T191941
CREATED:20241125T140505Z
LAST-MODIFIED:20250524T132431Z
UID:10011574-1743598800-1743606000@www.lovemylibrary.ca
SUMMARY:Makers in the Maker Lab
DESCRIPTION:Calling all Makers! Drop by for a relaxing afternoon to hang out with fellow crafters. Bring along your ongoing projects like knitting\, crochet\, needlework\, painting or other hands on crafts. \nNo registration\, drop in.
URL:https://www.lovemylibrary.ca/event/makers-in-the-maker-lab-14-2/2025-04-02/
LOCATION:Truro Library\, 754 Prince St\, Truro\, Nova Scotia\, Canada
CATEGORIES:Crafting,Events For Adults,Events For Seniors,Location: Truro
ATTACH;FMTTYPE=image/png:https://www.lovemylibrary.ca/wp-content/uploads/2023/01/Untitled-design-2023-01-24T155257.327.png
END:VEVENT
BEGIN:VEVENT
DTSTART;TZID=America/Halifax:20250402T150000
DTEND;TZID=America/Halifax:20250402T163000
DTSTAMP:20260422T191941
CREATED:20241213T191147Z
LAST-MODIFIED:20250509T192439Z
UID:10011353-1743606000-1743611400@www.lovemylibrary.ca
SUMMARY:Teen Room Drop In
DESCRIPTION:Come hang out! Grab a snack\, play our Nintendo Switch\, challenge your friends to a board game\, build with Lego\, or make art!  Ages 13-18 \nThis is a drop-in program. No registration is required.
URL:https://www.lovemylibrary.ca/event/teen-room-drop-in-5/2025-04-02/
LOCATION:Truro Library\, 754 Prince St\, Truro\, Nova Scotia\, Canada
CATEGORIES:Events For Teens,Location: Truro
ATTACH;FMTTYPE=image/png:https://www.lovemylibrary.ca/wp-content/uploads/2022/10/Untitled-design-53.png
END:VEVENT
BEGIN:VEVENT
DTSTART;TZID=America/Halifax:20250402T163000
DTEND;TZID=America/Halifax:20250402T173000
DTSTAMP:20260422T191941
CREATED:20250315T191131Z
LAST-MODIFIED:20250315T191131Z
UID:10011438-1743611400-1743615000@www.lovemylibrary.ca
SUMMARY:Stickers & Snacks
DESCRIPTION:Enjoy a snack as you choose up to 10 vinyl stickers to personalize your stuff with. Whether you’re outdoorsy or a Swiftie (or both!)\, we’ve got the perfect stickers to give away. For ages 13-18 \nThis is a drop in program. No registration is required.
URL:https://www.lovemylibrary.ca/event/stickers-snacks/
LOCATION:Truro Library\, 754 Prince St\, Truro\, Nova Scotia\, Canada
CATEGORIES:Events For Teens,Location: Truro
ATTACH;FMTTYPE=image/png:https://www.lovemylibrary.ca/wp-content/uploads/2025/03/Untitled-design-2025-03-15T161301.673.png
END:VEVENT
BEGIN:VEVENT
DTSTART;TZID=America/Halifax:20250402T163000
DTEND;TZID=America/Halifax:20250402T173000
DTSTAMP:20260422T191941
CREATED:20250315T191712Z
LAST-MODIFIED:20250315T191712Z
UID:10011440-1743611400-1743615000@www.lovemylibrary.ca
SUMMARY:Stickers and Snacks
DESCRIPTION:Enjoy a snack as you choose up to 10 vinyl stickers to personalize your stuff with. Whether you’re outdoorsy or a Swiftie (or both!)\, we’ve got the perfect stickers to give away. For ages 13-18 \nThis is a drop in program. No registration required.
URL:https://www.lovemylibrary.ca/event/stickers-and-snacks/
LOCATION:Truro Library\, 754 Prince St\, Truro\, Nova Scotia\, Canada
CATEGORIES:Events For Teens,Location: Truro
ATTACH;FMTTYPE=image/png:https://www.lovemylibrary.ca/wp-content/uploads/2025/03/Untitled-design-2025-03-15T161301.673.png
END:VEVENT
BEGIN:VEVENT
DTSTART;TZID=America/Halifax:20250402T183000
DTEND;TZID=America/Halifax:20250402T193000
DTSTAMP:20260422T191941
CREATED:20250324T183039Z
LAST-MODIFIED:20250324T183039Z
UID:10011591-1743618600-1743622200@www.lovemylibrary.ca
SUMMARY:Herb Garden Ideas for Small Spaces
DESCRIPTION:Join members of the Bible Hill Garden Club to learn how to create a bountiful herb garden in containers. This is an adult program. \nThis is a drop in program. No registration is required.
URL:https://www.lovemylibrary.ca/event/herb-garden-ideas-for-small-spaces/
LOCATION:Truro Library\, 754 Prince St\, Truro\, Nova Scotia\, Canada
CATEGORIES:Events For Adults,Location: Truro
ATTACH;FMTTYPE=image/png:https://www.lovemylibrary.ca/wp-content/uploads/2025/03/Untitled-design-2025-03-24T153209.593.png
END:VEVENT
BEGIN:VEVENT
DTSTART;TZID=America/Halifax:20250403T100000
DTEND;TZID=America/Halifax:20250403T113000
DTSTAMP:20260422T191942
CREATED:20241018T171043Z
LAST-MODIFIED:20250524T133029Z
UID:10011587-1743674400-1743679800@www.lovemylibrary.ca
SUMMARY:Tech Help
DESCRIPTION:Is your phone giving you trouble? Or maybe your tablet? Drop by the Maker Lab on Thursday mornings for one-on-one tech help on a first-come\, first-served basis! Happy to help with your simple tech needs. Open to all ages. \nThis is a drop in program. No registration is required.
URL:https://www.lovemylibrary.ca/event/tech-help-10/2025-04-03/
LOCATION:Truro Library\, 754 Prince St\, Truro\, Nova Scotia\, Canada
CATEGORIES:Events For Adults,Location: Truro
ATTACH;FMTTYPE=image/png:https://www.lovemylibrary.ca/wp-content/uploads/2024/10/Untitled-design-2024-10-18T141043.276.png
END:VEVENT
BEGIN:VEVENT
DTSTART;TZID=America/Halifax:20250403T103000
DTEND;TZID=America/Halifax:20250403T110000
DTSTAMP:20260422T191942
CREATED:20240916T150356Z
LAST-MODIFIED:20250523T182647Z
UID:10011317-1743676200-1743678000@www.lovemylibrary.ca
SUMMARY:Baby Rhyme Time
DESCRIPTION:Discover the joy of songs\, finger plays\, bouncing rhymes and simple books. Infant-2 years old with a caregiver \nThis is a drop in program. No registration is required.
URL:https://www.lovemylibrary.ca/event/baby-rhyme-time-7-2-2-2/2025-04-03/
LOCATION:Stewiacke Library\, 295 George Street\, Stewiacke\, Nova Scotia\, Canada
CATEGORIES:Events For Kids,Location: Stewiacke
ATTACH;FMTTYPE=image/png:https://www.lovemylibrary.ca/wp-content/uploads/2022/03/Untitled-design-75.png
END:VEVENT
BEGIN:VEVENT
DTSTART;TZID=America/Halifax:20250403T110000
DTEND;TZID=America/Halifax:20250403T112000
DTSTAMP:20260422T191942
CREATED:20241211T183235Z
LAST-MODIFIED:20241211T183414Z
UID:10010447-1743678000-1743679200@www.lovemylibrary.ca
SUMMARY:Tales for Tots
DESCRIPTION:Join us Thursday mornings in the Big Brothers Big Sisters Room for stories\, songs\, and activities that are just right for terrific toddlers! \n18 months-4 years with a parent/caregiver. \nDrop-in\, no registration required.
URL:https://www.lovemylibrary.ca/event/tales-for-tots-2-2-2-2/2025-04-03/
LOCATION:Truro Library\, 754 Prince St\, Truro\, Nova Scotia\, Canada
CATEGORIES:Events For Kids,Location: Truro
ATTACH;FMTTYPE=image/png:https://www.lovemylibrary.ca/wp-content/uploads/2022/03/Untitled-design-81.png
END:VEVENT
BEGIN:VEVENT
DTSTART;TZID=America/Halifax:20250403T143000
DTEND;TZID=America/Halifax:20250403T163000
DTSTAMP:20260422T191942
CREATED:20241228T160141Z
LAST-MODIFIED:20250320T184710Z
UID:10011499-1743690600-1743697800@www.lovemylibrary.ca
SUMMARY:Route Six Jammers
DESCRIPTION:Hope to see you at the  Route Six Jammers meetup! Bring your instrument\, three songs (and their keys)\, and your voice. Be ready to lead a few tunes. No charge to join! \nThis is a drop in program. No registration is required.
URL:https://www.lovemylibrary.ca/event/music-night-route-six-jammers-4-2/2025-04-03/
LOCATION:Tatamagouche Library\, 170 Main Street\, Tatamagouche\, Nova Scotia\, Canada
CATEGORIES:Location: Tatamagouche
ATTACH;FMTTYPE=image/png:https://www.lovemylibrary.ca/wp-content/uploads/2024/09/Untitled-design-2024-09-26T164012.107.png
END:VEVENT
BEGIN:VEVENT
DTSTART;TZID=America/Halifax:20250403T150000
DTEND;TZID=America/Halifax:20250403T163000
DTSTAMP:20260422T191942
CREATED:20241213T191147Z
LAST-MODIFIED:20250509T192439Z
UID:10011354-1743692400-1743697800@www.lovemylibrary.ca
SUMMARY:Teen Room Drop In
DESCRIPTION:Come hang out! Grab a snack\, play our Nintendo Switch\, challenge your friends to a board game\, build with Lego\, or make art!  Ages 13-18 \nThis is a drop-in program. No registration is required.
URL:https://www.lovemylibrary.ca/event/teen-room-drop-in-5/2025-04-03/
LOCATION:Truro Library\, 754 Prince St\, Truro\, Nova Scotia\, Canada
CATEGORIES:Events For Teens,Location: Truro
ATTACH;FMTTYPE=image/png:https://www.lovemylibrary.ca/wp-content/uploads/2022/10/Untitled-design-53.png
END:VEVENT
BEGIN:VEVENT
DTSTART;VALUE=DATE:20250404
DTEND;VALUE=DATE:20250405
DTSTAMP:20260422T191942
CREATED:20240221T183224Z
LAST-MODIFIED:20250523T194552Z
UID:10011264-1743724800-1743811199@www.lovemylibrary.ca
SUMMARY:Tech Help
DESCRIPTION:Need  help with a computer\, tablet or phone?  We can help. This is an adult program. \nPre register in person or by phone 902- 657-3064 or email: tatamago@cehpubliclibrary.ca
URL:https://www.lovemylibrary.ca/event/tech-help-6/2025-04-04/
LOCATION:Tatamagouche Library\, 170 Main Street\, Tatamagouche\, Nova Scotia\, Canada
CATEGORIES:Location: Tatamagouche
ATTACH;FMTTYPE=image/png:https://www.lovemylibrary.ca/wp-content/uploads/2022/03/Untitled-design-80.png
END:VEVENT
BEGIN:VEVENT
DTSTART;TZID=America/Halifax:20250404T100000
DTEND;TZID=America/Halifax:20250509T120000
DTSTAMP:20260422T191942
CREATED:20240513T152733Z
LAST-MODIFIED:20250417T173941Z
UID:10011446-1743760800-1746792000@www.lovemylibrary.ca
SUMMARY:One on One Tech Help
DESCRIPTION:Issues with your phone? Laptop? Social Media? Meet in-person with our digital literacy trainer to get your tech questions answered. \nDrop in – please call (902) 883-9838 or email us at elmsdale@cehpubliclibrary.ca for more details.
URL:https://www.lovemylibrary.ca/event/one-on-one-tech-help-7-2-2-2/2025-04-04/
LOCATION:Elmsdale Library\, 15 Commerce Ct\, Elmsdale\, Nova Scotia\, Canada
CATEGORIES:Events For Adults,Location: Elmsdale
ATTACH;FMTTYPE=image/png:https://www.lovemylibrary.ca/wp-content/uploads/2022/03/Untitled-design-80.png
END:VEVENT
BEGIN:VEVENT
DTSTART;TZID=America/Halifax:20250404T130000
DTEND;TZID=America/Halifax:20250404T143000
DTSTAMP:20260422T191942
CREATED:20240916T151310Z
LAST-MODIFIED:20250809T171947Z
UID:10011324-1743771600-1743777000@www.lovemylibrary.ca
SUMMARY:Scrabble Squad
DESCRIPTION:What spells F-U-N? Playing Scrabble with friends! All adults welcome. \nThis is a drop-in program. No registration is required.
URL:https://www.lovemylibrary.ca/event/scrabble-squad-5/2025-04-04/
LOCATION:Stewiacke Library\, 295 George Street\, Stewiacke\, Nova Scotia\, Canada
CATEGORIES:Events For Adults,Events For Seniors,Location: Stewiacke
ATTACH;FMTTYPE=image/png:https://www.lovemylibrary.ca/wp-content/uploads/2022/05/Add-a-subheading-700-×-500-px-3.png
END:VEVENT
END:VCALENDAR