BEGIN:VCALENDAR
VERSION:2.0
PRODID:-//Colchester East Hants Public Library - ECPv6.15.20//NONSGML v1.0//EN
CALSCALE:GREGORIAN
METHOD:PUBLISH
X-WR-CALNAME:Colchester East Hants Public Library
X-ORIGINAL-URL:https://www.lovemylibrary.ca
X-WR-CALDESC:Events for Colchester East Hants Public Library
REFRESH-INTERVAL;VALUE=DURATION:PT1H
X-Robots-Tag:noindex
X-PUBLISHED-TTL:PT1H
BEGIN:VTIMEZONE
TZID:America/Halifax
BEGIN:DAYLIGHT
TZOFFSETFROM:-0400
TZOFFSETTO:-0300
TZNAME:ADT
DTSTART:20240310T060000
END:DAYLIGHT
BEGIN:STANDARD
TZOFFSETFROM:-0300
TZOFFSETTO:-0400
TZNAME:AST
DTSTART:20241103T050000
END:STANDARD
BEGIN:DAYLIGHT
TZOFFSETFROM:-0400
TZOFFSETTO:-0300
TZNAME:ADT
DTSTART:20250309T060000
END:DAYLIGHT
BEGIN:STANDARD
TZOFFSETFROM:-0300
TZOFFSETTO:-0400
TZNAME:AST
DTSTART:20251102T050000
END:STANDARD
BEGIN:DAYLIGHT
TZOFFSETFROM:-0400
TZOFFSETTO:-0300
TZNAME:ADT
DTSTART:20260308T060000
END:DAYLIGHT
BEGIN:STANDARD
TZOFFSETFROM:-0300
TZOFFSETTO:-0400
TZNAME:AST
DTSTART:20261101T050000
END:STANDARD
END:VTIMEZONE
BEGIN:VEVENT
DTSTART;VALUE=DATE:20250324
DTEND;VALUE=DATE:20250429
DTSTAMP:20260421T193014
CREATED:20250324T184135Z
LAST-MODIFIED:20250324T184135Z
UID:10011592-1742774400-1745884799@www.lovemylibrary.ca
SUMMARY:Created With Love: An Art Exhibit by the Creation Cafe
DESCRIPTION:These works were crafted with love and given with blessings by the Creation Café! The Creation Café meets at the Truro Library from mid-October until mid-May. Many of the works in this exhibit are fibre related and created for various charitable organizations in the Colchester area. Drop by and explore this unique exhibit. All ages are welcome \n 
URL:https://www.lovemylibrary.ca/event/created-with-love-an-art-exhibit-by-the-creation-cafe/
LOCATION:Truro Library\, 754 Prince St\, Truro\, Nova Scotia\, Canada
CATEGORIES:Location: Truro
ATTACH;FMTTYPE=image/png:https://www.lovemylibrary.ca/wp-content/uploads/2025/03/Untitled-design-2025-03-24T154158.709.png
END:VEVENT
BEGIN:VEVENT
DTSTART;TZID=America/Halifax:20250328T100000
DTEND;TZID=America/Halifax:20250502T120000
DTSTAMP:20260421T193014
CREATED:20240513T152733Z
LAST-MODIFIED:20250417T173941Z
UID:10011156-1743156000-1746187200@www.lovemylibrary.ca
SUMMARY:One on One Tech Help
DESCRIPTION:Issues with your phone? Laptop? Social Media? Meet in-person with our digital literacy trainer to get your tech questions answered. \nDrop in – please call (902) 883-9838 or email us at elmsdale@cehpubliclibrary.ca for more details.
URL:https://www.lovemylibrary.ca/event/one-on-one-tech-help-7-2-2-2/2025-03-28/
LOCATION:Elmsdale Library\, 15 Commerce Ct\, Elmsdale\, Nova Scotia\, Canada
CATEGORIES:Events For Adults,Location: Elmsdale
ATTACH;FMTTYPE=image/png:https://www.lovemylibrary.ca/wp-content/uploads/2022/03/Untitled-design-80.png
END:VEVENT
BEGIN:VEVENT
DTSTART;VALUE=DATE:20250401
DTEND;VALUE=DATE:20250501
DTSTAMP:20260421T193014
CREATED:20250320T175455Z
LAST-MODIFIED:20250320T175455Z
UID:10011485-1743465600-1746057599@www.lovemylibrary.ca
SUMMARY:Haiku Challenge
DESCRIPTION:Some folks say that poetry is the art of saying a lot with a few words. So\, what better way to celebrate National Poetry Month than haiku writing. A haiku is a Japanese style poem that has three lines\, with five syllables in the first line\, seven in the second\, and five in the third. Afterwards the haikus will be put into a mini-zine for patrons of the library. Submit poems either in person\, or by email.  All ages are welcome to participate. \nPlease call 902-883-9838 or email at elmsdale@cehpubliclibrary.ca for more details\n 
URL:https://www.lovemylibrary.ca/event/haiku-challenge/
LOCATION:Elmsdale Library\, 15 Commerce Ct\, Elmsdale\, Nova Scotia\, Canada
CATEGORIES:Location: Elmsdale
ATTACH;FMTTYPE=image/png:https://www.lovemylibrary.ca/wp-content/uploads/2025/03/Untitled-design-2025-03-20T145629.265.png
END:VEVENT
BEGIN:VEVENT
DTSTART;TZID=America/Halifax:20250404T100000
DTEND;TZID=America/Halifax:20250509T120000
DTSTAMP:20260421T193014
CREATED:20240513T152733Z
LAST-MODIFIED:20250417T173941Z
UID:10011446-1743760800-1746792000@www.lovemylibrary.ca
SUMMARY:One on One Tech Help
DESCRIPTION:Issues with your phone? Laptop? Social Media? Meet in-person with our digital literacy trainer to get your tech questions answered. \nDrop in – please call (902) 883-9838 or email us at elmsdale@cehpubliclibrary.ca for more details.
URL:https://www.lovemylibrary.ca/event/one-on-one-tech-help-7-2-2-2/2025-04-04/
LOCATION:Elmsdale Library\, 15 Commerce Ct\, Elmsdale\, Nova Scotia\, Canada
CATEGORIES:Events For Adults,Location: Elmsdale
ATTACH;FMTTYPE=image/png:https://www.lovemylibrary.ca/wp-content/uploads/2022/03/Untitled-design-80.png
END:VEVENT
BEGIN:VEVENT
DTSTART;TZID=America/Halifax:20250411T100000
DTEND;TZID=America/Halifax:20250516T120000
DTSTAMP:20260421T193014
CREATED:20240513T152733Z
LAST-MODIFIED:20250417T173941Z
UID:10011447-1744365600-1747396800@www.lovemylibrary.ca
SUMMARY:One on One Tech Help
DESCRIPTION:Issues with your phone? Laptop? Social Media? Meet in-person with our digital literacy trainer to get your tech questions answered. \nDrop in – please call (902) 883-9838 or email us at elmsdale@cehpubliclibrary.ca for more details.
URL:https://www.lovemylibrary.ca/event/one-on-one-tech-help-7-2-2-2/2025-04-11/
LOCATION:Elmsdale Library\, 15 Commerce Ct\, Elmsdale\, Nova Scotia\, Canada
CATEGORIES:Events For Adults,Location: Elmsdale
ATTACH;FMTTYPE=image/png:https://www.lovemylibrary.ca/wp-content/uploads/2022/03/Untitled-design-80.png
END:VEVENT
BEGIN:VEVENT
DTSTART;TZID=America/Halifax:20250428T100000
DTEND;TZID=America/Halifax:20250428T110000
DTSTAMP:20260421T193014
CREATED:20250325T221050Z
LAST-MODIFIED:20250325T221050Z
UID:10011595-1745834400-1745838000@www.lovemylibrary.ca
SUMMARY:Canadian Children's Book Week: Virtual Author Visit With Sylv Chiang
DESCRIPTION:Join Sylv Chiang\, via Zoom\, in an interactive session that gets kids thinking about their passions and how to use planning and perseverance to achieve their goals. Sylv Chiang is a middle-grade teacher by day and a children’s book author by night. She wrote her middle-grade series\, Cross Ups\, for kids who love video games . . . maybe even more than they love books. Suitable for Grades 4-8. \nTo register: email info@cehpubliclibrary.ca
URL:https://www.lovemylibrary.ca/event/canadian-childrens-book-week-virtual-author-visit-with-sylv-chiang/
LOCATION:Virtual
CATEGORIES:Events For Kids,Location: Virtual
ATTACH;FMTTYPE=image/png:https://www.lovemylibrary.ca/wp-content/uploads/2025/03/Untitled-design-2025-03-25T191136.361.png
END:VEVENT
BEGIN:VEVENT
DTSTART;TZID=America/Halifax:20250428T133000
DTEND;TZID=America/Halifax:20250428T163000
DTSTAMP:20260421T193014
CREATED:20250902T183625Z
LAST-MODIFIED:20260401T152006Z
UID:10012925-1745847000-1745857800@www.lovemylibrary.ca
SUMMARY:Scrabble Group
DESCRIPTION:What spells F-U-N? Playing Scrabble with friends! \nThis is a drop-in event. No registration is required.
URL:https://www.lovemylibrary.ca/event/scrabble-group-6-2-2/2025-04-28/
LOCATION:Truro Library\, 754 Prince St\, Truro\, Nova Scotia\, Canada
CATEGORIES:Events For Adults,Events For Seniors,Location: Truro
ATTACH;FMTTYPE=image/png:https://www.lovemylibrary.ca/wp-content/uploads/2022/05/Add-a-subheading-700-×-500-px-3.png
END:VEVENT
BEGIN:VEVENT
DTSTART;TZID=America/Halifax:20250429T100000
DTEND;TZID=America/Halifax:20250429T110000
DTSTAMP:20260421T193014
CREATED:20250315T184240Z
LAST-MODIFIED:20250415T130921Z
UID:10011348-1745920800-1745924400@www.lovemylibrary.ca
SUMMARY:Baby\, Me\, & Mother Goose
DESCRIPTION:All babies 3-18 months are welcome to come for rhymes\, songs\, and stories! In partnership with Maggie’s Place.  The session will take place at Townsview Estates Long Term Care Home (310 Abenaki Rd) \nCall Maggie’s Place at 902-895-0200 to register.
URL:https://www.lovemylibrary.ca/event/baby-me-mother-goose-2-2-2-2-2-2-2/2025-04-29/
LOCATION:Townsview Estates Long Term Care Home\, 310 Abenaki Rd\, Truro\, Nova Scotia\, B2N 6Y7\, Canada
CATEGORIES:Events For Kids,Location: Truro
ATTACH;FMTTYPE=image/png:https://www.lovemylibrary.ca/wp-content/uploads/2022/03/Untitled-design-75.png
END:VEVENT
BEGIN:VEVENT
DTSTART;TZID=America/Halifax:20250429T100000
DTEND;TZID=America/Halifax:20250429T110000
DTSTAMP:20260421T193014
CREATED:20250325T221531Z
LAST-MODIFIED:20250325T221531Z
UID:10011596-1745920800-1745924400@www.lovemylibrary.ca
SUMMARY:Canadian Children's Book Week: Virtual Author Visit With Vivian Rosas
DESCRIPTION:Join Vivian\, via Zoom\,  for an engaging and hands-on workshop where students will explore the power of protest art as a tool for social change. Vivian will begin by reading from her illustrated book\, Momma’s Going to March\, through which students will learn about various moments in history when art and protest have come together to make a difference.  Afterward\, participants will dive into creating their own protest art. Vivian Rosas is a queer Mestizx/Latinx artist based in Toronto. Her illustrations and murals often explore themes of feminism\, empowerment and diversity. Suitable for Grades P-3 \nTo register: email info@cehpubliclibrary.ca
URL:https://www.lovemylibrary.ca/event/canadian-childrens-book-week-virtual-author-visit-with-vivian-rosas/
LOCATION:Virtual
CATEGORIES:Events For Kids,Location: Virtual
ATTACH;FMTTYPE=image/png:https://www.lovemylibrary.ca/wp-content/uploads/2025/03/Untitled-design-2025-03-25T191644.767.png
END:VEVENT
BEGIN:VEVENT
DTSTART;TZID=America/Halifax:20250429T110000
DTEND;TZID=America/Halifax:20250429T120000
DTSTAMP:20260421T193014
CREATED:20241018T164540Z
LAST-MODIFIED:20250422T212708Z
UID:10011569-1745924400-1745928000@www.lovemylibrary.ca
SUMMARY:Conversational English
DESCRIPTION:Is English your 2nd language? Or maybe your 4th? Our Conversational English program is for those who would like to practice their English in a fun and friendly environment. In partnership with YREACH. \nThis is a drop-in event. No registration is required.
URL:https://www.lovemylibrary.ca/event/conversational-english-10/2025-04-29/
LOCATION:Truro Library\, 754 Prince St\, Truro\, Nova Scotia\, Canada
CATEGORIES:Events For Adults,Location: Truro
ATTACH;FMTTYPE=image/jpeg:https://www.lovemylibrary.ca/wp-content/uploads/2021/08/13.jpg
END:VEVENT
BEGIN:VEVENT
DTSTART;TZID=America/Halifax:20250429T143000
DTEND;TZID=America/Halifax:20250429T150000
DTSTAMP:20260421T193014
CREATED:20250320T194810Z
LAST-MODIFIED:20250320T194810Z
UID:10011558-1745937000-1745938800@www.lovemylibrary.ca
SUMMARY:Left over craft day
DESCRIPTION:We have so many left over craft supplies. Join Bernie to make your masterpiece with all the left overs. For ages 5-12 \nThis is a drop in program. No registration is required.\n 
URL:https://www.lovemylibrary.ca/event/left-over-craft-day/
LOCATION:Truro Library\, 754 Prince St\, Truro\, Nova Scotia\, Canada
CATEGORIES:Events For Kids,Location: Mount Uniacke
ATTACH;FMTTYPE=image/png:https://www.lovemylibrary.ca/wp-content/uploads/2024/02/Untitled-design-2024-02-21T160658.342.png
END:VEVENT
BEGIN:VEVENT
DTSTART;TZID=America/Halifax:20250429T150000
DTEND;TZID=America/Halifax:20250429T163000
DTSTAMP:20260421T193014
CREATED:20241213T191147Z
LAST-MODIFIED:20250509T192439Z
UID:10011364-1745938800-1745944200@www.lovemylibrary.ca
SUMMARY:Teen Room Drop In
DESCRIPTION:Come hang out! Grab a snack\, play our Nintendo Switch\, challenge your friends to a board game\, build with Lego\, or make art!  Ages 13-18 \nThis is a drop-in program. No registration is required.
URL:https://www.lovemylibrary.ca/event/teen-room-drop-in-5/2025-04-29/
LOCATION:Truro Library\, 754 Prince St\, Truro\, Nova Scotia\, Canada
CATEGORIES:Events For Teens,Location: Truro
ATTACH;FMTTYPE=image/png:https://www.lovemylibrary.ca/wp-content/uploads/2022/10/Untitled-design-53.png
END:VEVENT
BEGIN:VEVENT
DTSTART;TZID=America/Halifax:20250429T163000
DTEND;TZID=America/Halifax:20250429T193000
DTSTAMP:20260421T193014
CREATED:20250122T153804Z
LAST-MODIFIED:20250711T193449Z
UID:10011484-1745944200-1745955000@www.lovemylibrary.ca
SUMMARY:Collage Club
DESCRIPTION:Explore your creative side at the Elmsdale Library with the Collage Club! We’re busting out the scissors and glue and cutting up magazines and picture books to assemble a cool piece of art. You can also make postcards\, vision boards\, zines – whatever you want! Whether you’re a seasoned collage pro or just looking to try a new creative outlet\, come get creative! Ages 10+ \nIn Person\, drop in. Please call (902) 883-9383 or email us at elmsdale@cehpubliclibrary.ca for more details.
URL:https://www.lovemylibrary.ca/event/collage-club-3/2025-04-29/
LOCATION:Elmsdale Library\, 15 Commerce Ct\, Elmsdale\, Nova Scotia\, Canada
CATEGORIES:Events For Kids,Location: Elmsdale
ATTACH;FMTTYPE=image/png:https://www.lovemylibrary.ca/wp-content/uploads/2024/12/Untitled-design-1.png
END:VEVENT
BEGIN:VEVENT
DTSTART;TZID=America/Halifax:20250429T173000
DTEND;TZID=America/Halifax:20250429T200000
DTSTAMP:20260421T193014
CREATED:20250324T180428Z
LAST-MODIFIED:20250801T174610Z
UID:10011582-1745947800-1745956800@www.lovemylibrary.ca
SUMMARY:Heroes & Adventurers
DESCRIPTION:Role-playing game nights with extraordinary people! We provide the supplies\, you provide the imagination. No experience needed. All welcome! \nRegister to play by emailing: HAATruro@gmail.com Sorry\, no drop-in players at this time.
URL:https://www.lovemylibrary.ca/event/heroes-adventurers-14-2/2025-04-29/
LOCATION:Truro Library\, 754 Prince St\, Truro\, Nova Scotia\, Canada
CATEGORIES:Events For Adults,Events For Kids,Events For Seniors,Events For Teens,Location: Truro
ATTACH;FMTTYPE=image/png:https://www.lovemylibrary.ca/wp-content/uploads/2022/06/D-and-D.png
END:VEVENT
BEGIN:VEVENT
DTSTART;TZID=America/Halifax:20250429T180000
DTEND;TZID=America/Halifax:20250429T200000
DTSTAMP:20260421T193014
CREATED:20240918T144614Z
LAST-MODIFIED:20250509T185455Z
UID:10011633-1745949600-1745956800@www.lovemylibrary.ca
SUMMARY:Maker Lab Fun Time
DESCRIPTION:Come on in and explore. Program robots\, create circuits\, build with magnetic tiles\, and more! All ages are welcome \nThis is a drop-in and no registration is required.
URL:https://www.lovemylibrary.ca/event/maker-lab-fun-time-6/2025-04-29/
LOCATION:Truro Library\, 754 Prince St\, Truro\, Nova Scotia\, Canada
CATEGORIES:Events For Kids,Location: Truro,STEAM
ATTACH;FMTTYPE=image/png:https://www.lovemylibrary.ca/wp-content/uploads/2023/09/Untitled-design-2023-09-29T143321.527.png
END:VEVENT
BEGIN:VEVENT
DTSTART;TZID=America/Halifax:20250429T183000
DTEND;TZID=America/Halifax:20250429T200000
DTSTAMP:20260421T193014
CREATED:20240919T175158Z
LAST-MODIFIED:20260415T142046Z
UID:10011301-1745951400-1745956800@www.lovemylibrary.ca
SUMMARY:Ewe-niacke Yarn Club
DESCRIPTION:Fiber art for all ages and abilities. Learn to knit or crochet\, bring a project you are working on\, or just come hang out with the club for some social time. All ages welcome. \nDrop in\, no registration required.
URL:https://www.lovemylibrary.ca/event/ewe-niacke-yarn-club-3-2-2-2/2025-04-29/
LOCATION:Mount Uniacke Library\, 555\, Highway 1\, Mount Uniacke\, Nova Scotia\, Canada
CATEGORIES:Crafting,Events For Adults,Events For Kids,Events For Seniors,Location: Mount Uniacke
ATTACH;FMTTYPE=image/png:https://www.lovemylibrary.ca/wp-content/uploads/2022/03/Untitled-design-89.png
END:VEVENT
BEGIN:VEVENT
DTSTART;TZID=America/Halifax:20250429T190000
DTEND;TZID=America/Halifax:20250429T200000
DTSTAMP:20260421T193014
CREATED:20230825T180905Z
LAST-MODIFIED:20250320T194953Z
UID:10004817-1745953200-1745956800@www.lovemylibrary.ca
SUMMARY:Travel Tips With Brea
DESCRIPTION:Thinking about going on a trip. Have questions about travelling. Travel agent Brea Hindy will be here to answer your questions and give you pointers on travelling. All ages are welcome. \nThis is a drop in program. No registration is required.
URL:https://www.lovemylibrary.ca/event/travel-adventures-2/
LOCATION:Mount Uniacke Library\, 555\, Highway 1\, Mount Uniacke\, Nova Scotia\, Canada
CATEGORIES:Events For Kids,Location: Mount Uniacke
ATTACH;FMTTYPE=image/png:https://www.lovemylibrary.ca/wp-content/uploads/2023/08/Untitled-design-2023-08-21T165317.319.png
END:VEVENT
BEGIN:VEVENT
DTSTART;TZID=America/Halifax:20250430T080000
DTEND;TZID=America/Halifax:20250430T170000
DTSTAMP:20260421T193014
CREATED:20250417T181643Z
LAST-MODIFIED:20260415T173925Z
UID:10014448-1746000000-1746032400@www.lovemylibrary.ca
SUMMARY:Social Café
DESCRIPTION:Are you retired\, new to the area\, or just looking to connect with some new people? We would love to see you and welcome you to the library! Light refreshments available. \nIn person\, drop in. For more details call us at (902) 883-9838 or email us at elmsdale@cehpubliclibrary.ca
URL:https://www.lovemylibrary.ca/event/social-cafe-5/2025-04-30/1/
LOCATION:Elmsdale Library\, 15 Commerce Ct\, Elmsdale\, Nova Scotia\, Canada
CATEGORIES:Events For Adults,Events For Seniors,Location: Elmsdale
ATTACH;FMTTYPE=image/png:https://www.lovemylibrary.ca/wp-content/uploads/2025/04/Untitled-design-2023-06-19T111314.785.png
END:VEVENT
BEGIN:VEVENT
DTSTART;TZID=America/Halifax:20250430T103000
DTEND;TZID=America/Halifax:20250430T110000
DTSTAMP:20260421T193014
CREATED:20240918T190337Z
LAST-MODIFIED:20250520T222943Z
UID:10011513-1746009000-1746010800@www.lovemylibrary.ca
SUMMARY:Storytime
DESCRIPTION:Enjoy a picture book read by Karri or Bernie and then participate in an activity. For pre-schoolers and home schoolers. \nThis is a drop-in program. No registration is required.
URL:https://www.lovemylibrary.ca/event/storytime-9/2025-04-30/
LOCATION:Mount Uniacke Library\, 555\, Highway 1\, Mount Uniacke\, Nova Scotia\, Canada
CATEGORIES:Events For Kids,Location: Mount Uniacke
ATTACH;FMTTYPE=image/png:https://www.lovemylibrary.ca/wp-content/uploads/2022/05/Untitled-design-2.png
END:VEVENT
BEGIN:VEVENT
DTSTART;TZID=America/Halifax:20250430T130000
DTEND;TZID=America/Halifax:20250430T150000
DTSTAMP:20260421T193014
CREATED:20241125T140505Z
LAST-MODIFIED:20250524T132431Z
UID:10011578-1746018000-1746025200@www.lovemylibrary.ca
SUMMARY:Makers in the Maker Lab
DESCRIPTION:Calling all Makers! Drop by for a relaxing afternoon to hang out with fellow crafters. Bring along your ongoing projects like knitting\, crochet\, needlework\, painting or other hands on crafts. \nNo registration\, drop in.
URL:https://www.lovemylibrary.ca/event/makers-in-the-maker-lab-14-2/2025-04-30/
LOCATION:Truro Library\, 754 Prince St\, Truro\, Nova Scotia\, Canada
CATEGORIES:Crafting,Events For Adults,Events For Seniors,Location: Truro
ATTACH;FMTTYPE=image/png:https://www.lovemylibrary.ca/wp-content/uploads/2023/01/Untitled-design-2023-01-24T155257.327.png
END:VEVENT
BEGIN:VEVENT
DTSTART;TZID=America/Halifax:20250430T140000
DTEND;TZID=America/Halifax:20250430T160000
DTSTAMP:20260421T193014
CREATED:20250417T181643Z
LAST-MODIFIED:20260415T173925Z
UID:10011794-1746021600-1746028800@www.lovemylibrary.ca
SUMMARY:Social Café
DESCRIPTION:Are you retired\, new to the area\, or just looking to connect with some new people? We would love to see you and welcome you to the library! Light refreshments available. \nIn person\, drop in. For more details call us at (902) 883-9838 or email us at elmsdale@cehpubliclibrary.ca
URL:https://www.lovemylibrary.ca/event/social-cafe-5/2025-04-30/2/
LOCATION:Elmsdale Library\, 15 Commerce Ct\, Elmsdale\, Nova Scotia\, Canada
CATEGORIES:Events For Adults,Events For Seniors,Location: Elmsdale
ATTACH;FMTTYPE=image/png:https://www.lovemylibrary.ca/wp-content/uploads/2025/04/Untitled-design-2023-06-19T111314.785.png
END:VEVENT
BEGIN:VEVENT
DTSTART;TZID=America/Halifax:20250430T143000
DTEND;TZID=America/Halifax:20250430T163000
DTSTAMP:20260421T193014
CREATED:20250408T224727Z
LAST-MODIFIED:20250419T164211Z
UID:10011500-1746023400-1746030600@www.lovemylibrary.ca
SUMMARY:Route Six Jammers
DESCRIPTION:Hope to see you at the  Route Six Jammers meetup! Bring your instrument\, three songs (and their keys)\, and your voice. Be ready to lead a few tunes. No charge to join! \nThis is a drop in program. No registration is required.
URL:https://www.lovemylibrary.ca/event/music-night-route-six-jammers-4-2-2/2025-04-30/
LOCATION:Tatamagouche Library\, 170 Main Street\, Tatamagouche\, Nova Scotia\, Canada
CATEGORIES:Location: Tatamagouche
ATTACH;FMTTYPE=image/png:https://www.lovemylibrary.ca/wp-content/uploads/2024/09/Untitled-design-2024-09-26T164012.107.png
END:VEVENT
BEGIN:VEVENT
DTSTART;TZID=America/Halifax:20250430T150000
DTEND;TZID=America/Halifax:20250430T163000
DTSTAMP:20260421T193014
CREATED:20241213T191147Z
LAST-MODIFIED:20250509T192439Z
UID:10011365-1746025200-1746030600@www.lovemylibrary.ca
SUMMARY:Teen Room Drop In
DESCRIPTION:Come hang out! Grab a snack\, play our Nintendo Switch\, challenge your friends to a board game\, build with Lego\, or make art!  Ages 13-18 \nThis is a drop-in program. No registration is required.
URL:https://www.lovemylibrary.ca/event/teen-room-drop-in-5/2025-04-30/
LOCATION:Truro Library\, 754 Prince St\, Truro\, Nova Scotia\, Canada
CATEGORIES:Events For Teens,Location: Truro
ATTACH;FMTTYPE=image/png:https://www.lovemylibrary.ca/wp-content/uploads/2022/10/Untitled-design-53.png
END:VEVENT
BEGIN:VEVENT
DTSTART;VALUE=DATE:20250501
DTEND;VALUE=DATE:20250701
DTSTAMP:20260421T193014
CREATED:20250213T172319Z
LAST-MODIFIED:20250514T202331Z
UID:10011152-1746057600-1751327999@www.lovemylibrary.ca
SUMMARY:Take and Make Crafts
DESCRIPTION:Weekly take-and-make craft kits are available for pick up in-branch. \nDrop-in\, no registration required.
URL:https://www.lovemylibrary.ca/event/take-and-make-crafts-7/
LOCATION:Elmsdale Library\, 15 Commerce Ct\, Elmsdale\, Nova Scotia\, Canada
CATEGORIES:Events For Kids,Location: Elmsdale
ATTACH;FMTTYPE=image/png:https://www.lovemylibrary.ca/wp-content/uploads/2025/02/Untitled-design-10.png
END:VEVENT
BEGIN:VEVENT
DTSTART;TZID=America/Halifax:20250501T100000
DTEND;TZID=America/Halifax:20250501T113000
DTSTAMP:20260421T193014
CREATED:20241018T171043Z
LAST-MODIFIED:20250524T133029Z
UID:10011890-1746093600-1746099000@www.lovemylibrary.ca
SUMMARY:Tech Help
DESCRIPTION:Is your phone giving you trouble? Or maybe your tablet? Drop by the Maker Lab on Thursday mornings for one-on-one tech help on a first-come\, first-served basis! Happy to help with your simple tech needs. Open to all ages. \nThis is a drop in program. No registration is required.
URL:https://www.lovemylibrary.ca/event/tech-help-10/2025-05-01/
LOCATION:Truro Library\, 754 Prince St\, Truro\, Nova Scotia\, Canada
CATEGORIES:Events For Adults,Location: Truro
ATTACH;FMTTYPE=image/png:https://www.lovemylibrary.ca/wp-content/uploads/2024/10/Untitled-design-2024-10-18T141043.276.png
END:VEVENT
BEGIN:VEVENT
DTSTART;TZID=America/Halifax:20250501T103000
DTEND;TZID=America/Halifax:20250501T110000
DTSTAMP:20260421T193014
CREATED:20240916T150356Z
LAST-MODIFIED:20250523T182647Z
UID:10011849-1746095400-1746097200@www.lovemylibrary.ca
SUMMARY:Baby Rhyme Time
DESCRIPTION:Discover the joy of songs\, finger plays\, bouncing rhymes and simple books. Infant-2 years old with a caregiver \nThis is a drop in program. No registration is required.
URL:https://www.lovemylibrary.ca/event/baby-rhyme-time-7-2-2-2/2025-05-01/
LOCATION:Stewiacke Library\, 295 George Street\, Stewiacke\, Nova Scotia\, Canada
CATEGORIES:Events For Kids,Location: Stewiacke
ATTACH;FMTTYPE=image/png:https://www.lovemylibrary.ca/wp-content/uploads/2022/03/Untitled-design-75.png
END:VEVENT
BEGIN:VEVENT
DTSTART;TZID=America/Halifax:20250501T110000
DTEND;TZID=America/Halifax:20250501T112000
DTSTAMP:20260421T193014
CREATED:20241211T183235Z
LAST-MODIFIED:20241211T183414Z
UID:10010451-1746097200-1746098400@www.lovemylibrary.ca
SUMMARY:Tales for Tots
DESCRIPTION:Join us Thursday mornings in the Big Brothers Big Sisters Room for stories\, songs\, and activities that are just right for terrific toddlers! \n18 months-4 years with a parent/caregiver. \nDrop-in\, no registration required.
URL:https://www.lovemylibrary.ca/event/tales-for-tots-2-2-2-2/2025-05-01/
LOCATION:Truro Library\, 754 Prince St\, Truro\, Nova Scotia\, Canada
CATEGORIES:Events For Kids,Location: Truro
ATTACH;FMTTYPE=image/png:https://www.lovemylibrary.ca/wp-content/uploads/2022/03/Untitled-design-81.png
END:VEVENT
BEGIN:VEVENT
DTSTART;TZID=America/Halifax:20250501T150000
DTEND;TZID=America/Halifax:20250501T163000
DTSTAMP:20260421T193014
CREATED:20241213T191147Z
LAST-MODIFIED:20250509T192439Z
UID:10011366-1746111600-1746117000@www.lovemylibrary.ca
SUMMARY:Teen Room Drop In
DESCRIPTION:Come hang out! Grab a snack\, play our Nintendo Switch\, challenge your friends to a board game\, build with Lego\, or make art!  Ages 13-18 \nThis is a drop-in program. No registration is required.
URL:https://www.lovemylibrary.ca/event/teen-room-drop-in-5/2025-05-01/
LOCATION:Truro Library\, 754 Prince St\, Truro\, Nova Scotia\, Canada
CATEGORIES:Events For Teens,Location: Truro
ATTACH;FMTTYPE=image/png:https://www.lovemylibrary.ca/wp-content/uploads/2022/10/Untitled-design-53.png
END:VEVENT
BEGIN:VEVENT
DTSTART;TZID=America/Halifax:20250501T153000
DTEND;TZID=America/Halifax:20250501T163000
DTSTAMP:20260421T193014
CREATED:20250315T184842Z
LAST-MODIFIED:20250315T185005Z
UID:10011380-1746113400-1746117000@www.lovemylibrary.ca
SUMMARY:Read It Out Loud
DESCRIPTION:Picture this: A room full of kids\, quietly sipping hot chocolate\, nibbling on popcorn\, doodling\, or relaxing as they listen to the librarian read aloud from a novel. If this sounds like fun\, then please join us for Read it Out Loud\, a book club for children ages 6-12 \nTo register email info@cehpubliclibrary.ca
URL:https://www.lovemylibrary.ca/event/read-it-out-loud-2/2025-05-01/
LOCATION:Truro Library\, 754 Prince St\, Truro\, Nova Scotia\, Canada
CATEGORIES:Events For Kids,Location: Truro
ATTACH;FMTTYPE=image/png:https://www.lovemylibrary.ca/wp-content/uploads/2024/12/Untitled-design-2024-12-13T165407.976.png
END:VEVENT
BEGIN:VEVENT
DTSTART;VALUE=DATE:20250502
DTEND;VALUE=DATE:20250503
DTSTAMP:20260421T193014
CREATED:20240221T183224Z
LAST-MODIFIED:20250523T194552Z
UID:10011494-1746144000-1746230399@www.lovemylibrary.ca
SUMMARY:Tech Help
DESCRIPTION:Need  help with a computer\, tablet or phone?  We can help. This is an adult program. \nPre register in person or by phone 902- 657-3064 or email: tatamago@cehpubliclibrary.ca
URL:https://www.lovemylibrary.ca/event/tech-help-6/2025-05-02/
LOCATION:Tatamagouche Library\, 170 Main Street\, Tatamagouche\, Nova Scotia\, Canada
CATEGORIES:Location: Tatamagouche
ATTACH;FMTTYPE=image/png:https://www.lovemylibrary.ca/wp-content/uploads/2022/03/Untitled-design-80.png
END:VEVENT
END:VCALENDAR