BEGIN:VCALENDAR
VERSION:2.0
PRODID:-//Colchester East Hants Public Library - ECPv6.15.20//NONSGML v1.0//EN
CALSCALE:GREGORIAN
METHOD:PUBLISH
X-ORIGINAL-URL:https://www.lovemylibrary.ca
X-WR-CALDESC:Events for Colchester East Hants Public Library
REFRESH-INTERVAL;VALUE=DURATION:PT1H
X-Robots-Tag:noindex
X-PUBLISHED-TTL:PT1H
BEGIN:VTIMEZONE
TZID:America/Halifax
BEGIN:DAYLIGHT
TZOFFSETFROM:-0400
TZOFFSETTO:-0300
TZNAME:ADT
DTSTART:20240310T060000
END:DAYLIGHT
BEGIN:STANDARD
TZOFFSETFROM:-0300
TZOFFSETTO:-0400
TZNAME:AST
DTSTART:20241103T050000
END:STANDARD
BEGIN:DAYLIGHT
TZOFFSETFROM:-0400
TZOFFSETTO:-0300
TZNAME:ADT
DTSTART:20250309T060000
END:DAYLIGHT
BEGIN:STANDARD
TZOFFSETFROM:-0300
TZOFFSETTO:-0400
TZNAME:AST
DTSTART:20251102T050000
END:STANDARD
BEGIN:DAYLIGHT
TZOFFSETFROM:-0400
TZOFFSETTO:-0300
TZNAME:ADT
DTSTART:20260308T060000
END:DAYLIGHT
BEGIN:STANDARD
TZOFFSETFROM:-0300
TZOFFSETTO:-0400
TZNAME:AST
DTSTART:20261101T050000
END:STANDARD
END:VTIMEZONE
BEGIN:VEVENT
DTSTART;TZID=America/Halifax:20250404T100000
DTEND;TZID=America/Halifax:20250509T120000
DTSTAMP:20260421T224822
CREATED:20240513T152733Z
LAST-MODIFIED:20250417T173941Z
UID:10011446-1743760800-1746792000@www.lovemylibrary.ca
SUMMARY:One on One Tech Help
DESCRIPTION:Issues with your phone? Laptop? Social Media? Meet in-person with our digital literacy trainer to get your tech questions answered. \nDrop in – please call (902) 883-9838 or email us at elmsdale@cehpubliclibrary.ca for more details.
URL:https://www.lovemylibrary.ca/event/one-on-one-tech-help-7-2-2-2/2025-04-04/
LOCATION:Elmsdale Library\, 15 Commerce Ct\, Elmsdale\, Nova Scotia\, Canada
CATEGORIES:Events For Adults,Location: Elmsdale
ATTACH;FMTTYPE=image/png:https://www.lovemylibrary.ca/wp-content/uploads/2022/03/Untitled-design-80.png
END:VEVENT
BEGIN:VEVENT
DTSTART;TZID=America/Halifax:20250411T100000
DTEND;TZID=America/Halifax:20250516T120000
DTSTAMP:20260421T224822
CREATED:20240513T152733Z
LAST-MODIFIED:20250417T173941Z
UID:10011447-1744365600-1747396800@www.lovemylibrary.ca
SUMMARY:One on One Tech Help
DESCRIPTION:Issues with your phone? Laptop? Social Media? Meet in-person with our digital literacy trainer to get your tech questions answered. \nDrop in – please call (902) 883-9838 or email us at elmsdale@cehpubliclibrary.ca for more details.
URL:https://www.lovemylibrary.ca/event/one-on-one-tech-help-7-2-2-2/2025-04-11/
LOCATION:Elmsdale Library\, 15 Commerce Ct\, Elmsdale\, Nova Scotia\, Canada
CATEGORIES:Events For Adults,Location: Elmsdale
ATTACH;FMTTYPE=image/png:https://www.lovemylibrary.ca/wp-content/uploads/2022/03/Untitled-design-80.png
END:VEVENT
BEGIN:VEVENT
DTSTART;VALUE=DATE:20250501
DTEND;VALUE=DATE:20250701
DTSTAMP:20260421T224822
CREATED:20250213T172319Z
LAST-MODIFIED:20250514T202331Z
UID:10011152-1746057600-1751327999@www.lovemylibrary.ca
SUMMARY:Take and Make Crafts
DESCRIPTION:Weekly take-and-make craft kits are available for pick up in-branch. \nDrop-in\, no registration required.
URL:https://www.lovemylibrary.ca/event/take-and-make-crafts-7/
LOCATION:Elmsdale Library\, 15 Commerce Ct\, Elmsdale\, Nova Scotia\, Canada
CATEGORIES:Events For Kids,Location: Elmsdale
ATTACH;FMTTYPE=image/png:https://www.lovemylibrary.ca/wp-content/uploads/2025/02/Untitled-design-10.png
END:VEVENT
BEGIN:VEVENT
DTSTART;VALUE=DATE:20250502
DTEND;VALUE=DATE:20250628
DTSTAMP:20260421T224822
CREATED:20250422T222030Z
LAST-MODIFIED:20250422T222030Z
UID:10011897-1746144000-1751068799@www.lovemylibrary.ca
SUMMARY:Women Artists of Passion: An Exhibit by Three Members of the Truro Art Society
DESCRIPTION:Explore this diverse and vibrant mix of paintings\, mixed media artworks\, and rug hooking from Ursula Ryle-Gulliver\, Rebecca Daphne Hill\, and Sheila Newell\, all artists and members of the Truro Art Society. They all have a passion for art and are excited to share their works with you. \nThis is a drop in program. No registration is required.
URL:https://www.lovemylibrary.ca/event/women-artists-of-passion-an-exhibit-by-three-members-of-the-truro-art-society/
LOCATION:Truro Library\, 754 Prince St\, Truro\, Nova Scotia\, Canada
CATEGORIES:Location: Truro
ATTACH;FMTTYPE=image/png:https://www.lovemylibrary.ca/wp-content/uploads/2025/04/Untitled-design-2025-04-22T192156.106.png
END:VEVENT
BEGIN:VEVENT
DTSTART;TZID=America/Halifax:20250505T133000
DTEND;TZID=America/Halifax:20250505T163000
DTSTAMP:20260421T224822
CREATED:20250902T183625Z
LAST-MODIFIED:20260401T152006Z
UID:10012926-1746451800-1746462600@www.lovemylibrary.ca
SUMMARY:Scrabble Group
DESCRIPTION:What spells F-U-N? Playing Scrabble with friends! \nThis is a drop-in event. No registration is required.
URL:https://www.lovemylibrary.ca/event/scrabble-group-6-2-2/2025-05-05/
LOCATION:Truro Library\, 754 Prince St\, Truro\, Nova Scotia\, Canada
CATEGORIES:Events For Adults,Events For Seniors,Location: Truro
ATTACH;FMTTYPE=image/png:https://www.lovemylibrary.ca/wp-content/uploads/2022/05/Add-a-subheading-700-×-500-px-3.png
END:VEVENT
BEGIN:VEVENT
DTSTART;TZID=America/Halifax:20250506T100000
DTEND;TZID=America/Halifax:20250506T110000
DTSTAMP:20260421T224822
CREATED:20250315T184240Z
LAST-MODIFIED:20250415T130921Z
UID:10011349-1746525600-1746529200@www.lovemylibrary.ca
SUMMARY:Baby\, Me\, & Mother Goose
DESCRIPTION:All babies 3-18 months are welcome to come for rhymes\, songs\, and stories! In partnership with Maggie’s Place.  The session will take place at Townsview Estates Long Term Care Home (310 Abenaki Rd) \nCall Maggie’s Place at 902-895-0200 to register.
URL:https://www.lovemylibrary.ca/event/baby-me-mother-goose-2-2-2-2-2-2-2/2025-05-06/
LOCATION:Townsview Estates Long Term Care Home\, 310 Abenaki Rd\, Truro\, Nova Scotia\, B2N 6Y7\, Canada
CATEGORIES:Events For Kids,Location: Truro
ATTACH;FMTTYPE=image/png:https://www.lovemylibrary.ca/wp-content/uploads/2022/03/Untitled-design-75.png
END:VEVENT
BEGIN:VEVENT
DTSTART;TZID=America/Halifax:20250506T110000
DTEND;TZID=America/Halifax:20250506T120000
DTSTAMP:20260421T224822
CREATED:20241018T164540Z
LAST-MODIFIED:20250422T212708Z
UID:10011878-1746529200-1746532800@www.lovemylibrary.ca
SUMMARY:Conversational English
DESCRIPTION:Is English your 2nd language? Or maybe your 4th? Our Conversational English program is for those who would like to practice their English in a fun and friendly environment. In partnership with YREACH. \nThis is a drop-in event. No registration is required.
URL:https://www.lovemylibrary.ca/event/conversational-english-10/2025-05-06/
LOCATION:Truro Library\, 754 Prince St\, Truro\, Nova Scotia\, Canada
CATEGORIES:Events For Adults,Location: Truro
ATTACH;FMTTYPE=image/jpeg:https://www.lovemylibrary.ca/wp-content/uploads/2021/08/13.jpg
END:VEVENT
BEGIN:VEVENT
DTSTART;TZID=America/Halifax:20250506T133000
DTEND;TZID=America/Halifax:20250506T143000
DTSTAMP:20260421T224822
CREATED:20241211T183924Z
LAST-MODIFIED:20250509T184430Z
UID:10011604-1746538200-1746541800@www.lovemylibrary.ca
SUMMARY:Homeschoolers Haven
DESCRIPTION:Homeschoolers Haven is a place for Homeschool families to meet and share resources. There will be  activities for the children.   For ages 5+ \nThis is a drop-in program. No registration is required.
URL:https://www.lovemylibrary.ca/event/homeschoolers-haven-2-2-2-2-2/2025-05-06/
LOCATION:Truro Library\, 754 Prince St\, Truro\, Nova Scotia\, Canada
CATEGORIES:Events For Kids,Events For Teens,Location: Truro
ATTACH;FMTTYPE=image/png:https://www.lovemylibrary.ca/wp-content/uploads/2022/07/Untitled-design-9.png
END:VEVENT
BEGIN:VEVENT
DTSTART;TZID=America/Halifax:20250506T150000
DTEND;TZID=America/Halifax:20250506T163000
DTSTAMP:20260421T224822
CREATED:20241213T191147Z
LAST-MODIFIED:20250509T192439Z
UID:10011367-1746543600-1746549000@www.lovemylibrary.ca
SUMMARY:Teen Room Drop In
DESCRIPTION:Come hang out! Grab a snack\, play our Nintendo Switch\, challenge your friends to a board game\, build with Lego\, or make art!  Ages 13-18 \nThis is a drop-in program. No registration is required.
URL:https://www.lovemylibrary.ca/event/teen-room-drop-in-5/2025-05-06/
LOCATION:Truro Library\, 754 Prince St\, Truro\, Nova Scotia\, Canada
CATEGORIES:Events For Teens,Location: Truro
ATTACH;FMTTYPE=image/png:https://www.lovemylibrary.ca/wp-content/uploads/2022/10/Untitled-design-53.png
END:VEVENT
BEGIN:VEVENT
DTSTART;TZID=America/Halifax:20250506T150000
DTEND;TZID=America/Halifax:20250506T170000
DTSTAMP:20260421T224822
CREATED:20250419T163700Z
LAST-MODIFIED:20250929T191526Z
UID:10011842-1746543600-1746550800@www.lovemylibrary.ca
SUMMARY:Dungeons and Dragons
DESCRIPTION:“Join us for an epic Dungeons & Dragons game night! Roll dice\, slay monsters\, and embark on thrilling adventures with friends. Whether you’re a seasoned hero or a curious newbie\, there’s a spot for you at the table!” For ages 13-24 \n\nPre-Register in person or by phone: (902) 657-3064\, or email: tatamago@cehpubliclibrary.ca
URL:https://www.lovemylibrary.ca/event/dd-2/2025-05-06/
LOCATION:Tatamagouche Library\, 170 Main Street\, Tatamagouche\, Nova Scotia\, Canada
CATEGORIES:Events For Adults,Events For Teens,Location: Tatamagouche
ATTACH;FMTTYPE=image/png:https://www.lovemylibrary.ca/wp-content/uploads/2024/11/Untitled-design-1.png
END:VEVENT
BEGIN:VEVENT
DTSTART;TZID=America/Halifax:20250506T173000
DTEND;TZID=America/Halifax:20250506T200000
DTSTAMP:20260421T224822
CREATED:20250324T180428Z
LAST-MODIFIED:20250801T174610Z
UID:10011886-1746552600-1746561600@www.lovemylibrary.ca
SUMMARY:Heroes & Adventurers
DESCRIPTION:Role-playing game nights with extraordinary people! We provide the supplies\, you provide the imagination. No experience needed. All welcome! \nRegister to play by emailing: HAATruro@gmail.com Sorry\, no drop-in players at this time.
URL:https://www.lovemylibrary.ca/event/heroes-adventurers-14-2/2025-05-06/
LOCATION:Truro Library\, 754 Prince St\, Truro\, Nova Scotia\, Canada
CATEGORIES:Events For Adults,Events For Kids,Events For Seniors,Events For Teens,Location: Truro
ATTACH;FMTTYPE=image/png:https://www.lovemylibrary.ca/wp-content/uploads/2022/06/D-and-D.png
END:VEVENT
BEGIN:VEVENT
DTSTART;TZID=America/Halifax:20250506T180000
DTEND;TZID=America/Halifax:20250506T200000
DTSTAMP:20260421T224822
CREATED:20240918T144614Z
LAST-MODIFIED:20250509T185455Z
UID:10011634-1746554400-1746561600@www.lovemylibrary.ca
SUMMARY:Maker Lab Fun Time
DESCRIPTION:Come on in and explore. Program robots\, create circuits\, build with magnetic tiles\, and more! All ages are welcome \nThis is a drop-in and no registration is required.
URL:https://www.lovemylibrary.ca/event/maker-lab-fun-time-6/2025-05-06/
LOCATION:Truro Library\, 754 Prince St\, Truro\, Nova Scotia\, Canada
CATEGORIES:Events For Kids,Location: Truro,STEAM
ATTACH;FMTTYPE=image/png:https://www.lovemylibrary.ca/wp-content/uploads/2023/09/Untitled-design-2023-09-29T143321.527.png
END:VEVENT
BEGIN:VEVENT
DTSTART;TZID=America/Halifax:20250506T183000
DTEND;TZID=America/Halifax:20250506T193000
DTSTAMP:20260421T224822
CREATED:20250422T213457Z
LAST-MODIFIED:20250422T213457Z
UID:10011895-1746556200-1746559800@www.lovemylibrary.ca
SUMMARY:FireSmart Nova Scotia
DESCRIPTION:FireSmart Canada is a national program that helps Canadians be proactive in preparing their homes\, properties and neighbourhoods against the threat of fire. Join Provincial Wildfire Prevention Officer\, Ken Cox\, to learn tools that will help to protect your home and community from wildfire. \nThis is a drop in program. No registration is required.
URL:https://www.lovemylibrary.ca/event/firesmart-nova-scotia/
LOCATION:Truro Library\, 754 Prince St\, Truro\, Nova Scotia\, Canada
CATEGORIES:Location: Truro
ATTACH;FMTTYPE=image/png:https://www.lovemylibrary.ca/wp-content/uploads/2025/04/Untitled-design-2025-04-22T183701.248.png
END:VEVENT
BEGIN:VEVENT
DTSTART;TZID=America/Halifax:20250506T183000
DTEND;TZID=America/Halifax:20250506T200000
DTSTAMP:20260421T224822
CREATED:20240919T175158Z
LAST-MODIFIED:20260415T142046Z
UID:10011640-1746556200-1746561600@www.lovemylibrary.ca
SUMMARY:Ewe-niacke Yarn Club
DESCRIPTION:Fiber art for all ages and abilities. Learn to knit or crochet\, bring a project you are working on\, or just come hang out with the club for some social time. All ages welcome. \nDrop in\, no registration required.
URL:https://www.lovemylibrary.ca/event/ewe-niacke-yarn-club-3-2-2-2/2025-05-06/
LOCATION:Mount Uniacke Library\, 555\, Highway 1\, Mount Uniacke\, Nova Scotia\, Canada
CATEGORIES:Crafting,Events For Adults,Events For Kids,Events For Seniors,Location: Mount Uniacke
ATTACH;FMTTYPE=image/png:https://www.lovemylibrary.ca/wp-content/uploads/2022/03/Untitled-design-89.png
END:VEVENT
BEGIN:VEVENT
DTSTART;TZID=America/Halifax:20250507T103000
DTEND;TZID=America/Halifax:20250507T110000
DTSTAMP:20260421T224822
CREATED:20240918T190337Z
LAST-MODIFIED:20250520T222943Z
UID:10011515-1746613800-1746615600@www.lovemylibrary.ca
SUMMARY:Storytime
DESCRIPTION:Enjoy a picture book read by Karri or Bernie and then participate in an activity. For pre-schoolers and home schoolers. \nThis is a drop-in program. No registration is required.
URL:https://www.lovemylibrary.ca/event/storytime-9/2025-05-07/
LOCATION:Mount Uniacke Library\, 555\, Highway 1\, Mount Uniacke\, Nova Scotia\, Canada
CATEGORIES:Events For Kids,Location: Mount Uniacke
ATTACH;FMTTYPE=image/png:https://www.lovemylibrary.ca/wp-content/uploads/2022/05/Untitled-design-2.png
END:VEVENT
BEGIN:VEVENT
DTSTART;TZID=America/Halifax:20250507T103000
DTEND;TZID=America/Halifax:20250507T113000
DTSTAMP:20260421T224822
CREATED:20241228T155114Z
LAST-MODIFIED:20250419T145540Z
UID:10011832-1746613800-1746617400@www.lovemylibrary.ca
SUMMARY:Parents and Tots Story Time and Crafts
DESCRIPTION:Come along and enjoy an hour of fun filled story time and craft.  For ages 0+ \nDrop-in\, no registration required.
URL:https://www.lovemylibrary.ca/event/tots-and-moms-social-time-3-2-2-2-2/2025-05-07/
LOCATION:Tatamagouche Library\, 170 Main Street\, Tatamagouche\, Nova Scotia\, Canada
CATEGORIES:Events For Kids,Location: Tatamagouche
ATTACH;FMTTYPE=image/png:https://www.lovemylibrary.ca/wp-content/uploads/2022/03/Untitled-design-75.png
END:VEVENT
BEGIN:VEVENT
DTSTART;TZID=America/Halifax:20250507T103000
DTEND;TZID=America/Halifax:20250507T113000
DTSTAMP:20260421T224822
CREATED:20250121T174225Z
LAST-MODIFIED:20251216T233710Z
UID:10011479-1746613800-1746617400@www.lovemylibrary.ca
SUMMARY:Storytime
DESCRIPTION:Join us for a fun-filled story time at the library! There will be stories\, maybe a song or two along with a craft. Ages 2 – 4. \nIn person\, drop in. Please call (902) 883-9838 or email us at elmsdale@cehpubliclibrary.ca for more details.\n 
URL:https://www.lovemylibrary.ca/event/storytime-11/2025-05-07/
LOCATION:Elmsdale Library\, 15 Commerce Ct\, Elmsdale\, Nova Scotia\, Canada
CATEGORIES:Events For Kids,Location: Elmsdale
ATTACH;FMTTYPE=image/png:https://www.lovemylibrary.ca/wp-content/uploads/2024/12/Untitled-design.png
END:VEVENT
BEGIN:VEVENT
DTSTART;TZID=America/Halifax:20250507T130000
DTEND;TZID=America/Halifax:20250507T150000
DTSTAMP:20260421T224822
CREATED:20241125T140505Z
LAST-MODIFIED:20250524T132431Z
UID:10011882-1746622800-1746630000@www.lovemylibrary.ca
SUMMARY:Makers in the Maker Lab
DESCRIPTION:Calling all Makers! Drop by for a relaxing afternoon to hang out with fellow crafters. Bring along your ongoing projects like knitting\, crochet\, needlework\, painting or other hands on crafts. \nNo registration\, drop in.
URL:https://www.lovemylibrary.ca/event/makers-in-the-maker-lab-14-2/2025-05-07/
LOCATION:Truro Library\, 754 Prince St\, Truro\, Nova Scotia\, Canada
CATEGORIES:Crafting,Events For Adults,Events For Seniors,Location: Truro
ATTACH;FMTTYPE=image/png:https://www.lovemylibrary.ca/wp-content/uploads/2023/01/Untitled-design-2023-01-24T155257.327.png
END:VEVENT
BEGIN:VEVENT
DTSTART;TZID=America/Halifax:20250507T150000
DTEND;TZID=America/Halifax:20250507T163000
DTSTAMP:20260421T224822
CREATED:20241213T191147Z
LAST-MODIFIED:20250509T192439Z
UID:10011368-1746630000-1746635400@www.lovemylibrary.ca
SUMMARY:Teen Room Drop In
DESCRIPTION:Come hang out! Grab a snack\, play our Nintendo Switch\, challenge your friends to a board game\, build with Lego\, or make art!  Ages 13-18 \nThis is a drop-in program. No registration is required.
URL:https://www.lovemylibrary.ca/event/teen-room-drop-in-5/2025-05-07/
LOCATION:Truro Library\, 754 Prince St\, Truro\, Nova Scotia\, Canada
CATEGORIES:Events For Teens,Location: Truro
ATTACH;FMTTYPE=image/png:https://www.lovemylibrary.ca/wp-content/uploads/2022/10/Untitled-design-53.png
END:VEVENT
BEGIN:VEVENT
DTSTART;TZID=America/Halifax:20250508T100000
DTEND;TZID=America/Halifax:20250508T113000
DTSTAMP:20260421T224822
CREATED:20241018T171043Z
LAST-MODIFIED:20250524T133029Z
UID:10011891-1746698400-1746703800@www.lovemylibrary.ca
SUMMARY:Tech Help
DESCRIPTION:Is your phone giving you trouble? Or maybe your tablet? Drop by the Maker Lab on Thursday mornings for one-on-one tech help on a first-come\, first-served basis! Happy to help with your simple tech needs. Open to all ages. \nThis is a drop in program. No registration is required.
URL:https://www.lovemylibrary.ca/event/tech-help-10/2025-05-08/
LOCATION:Truro Library\, 754 Prince St\, Truro\, Nova Scotia\, Canada
CATEGORIES:Events For Adults,Location: Truro
ATTACH;FMTTYPE=image/png:https://www.lovemylibrary.ca/wp-content/uploads/2024/10/Untitled-design-2024-10-18T141043.276.png
END:VEVENT
BEGIN:VEVENT
DTSTART;TZID=America/Halifax:20250508T103000
DTEND;TZID=America/Halifax:20250508T110000
DTSTAMP:20260421T224822
CREATED:20240916T150356Z
LAST-MODIFIED:20250523T182647Z
UID:10011850-1746700200-1746702000@www.lovemylibrary.ca
SUMMARY:Baby Rhyme Time
DESCRIPTION:Discover the joy of songs\, finger plays\, bouncing rhymes and simple books. Infant-2 years old with a caregiver \nThis is a drop in program. No registration is required.
URL:https://www.lovemylibrary.ca/event/baby-rhyme-time-7-2-2-2/2025-05-08/
LOCATION:Stewiacke Library\, 295 George Street\, Stewiacke\, Nova Scotia\, Canada
CATEGORIES:Events For Kids,Location: Stewiacke
ATTACH;FMTTYPE=image/png:https://www.lovemylibrary.ca/wp-content/uploads/2022/03/Untitled-design-75.png
END:VEVENT
BEGIN:VEVENT
DTSTART;TZID=America/Halifax:20250508T110000
DTEND;TZID=America/Halifax:20250508T112000
DTSTAMP:20260421T224822
CREATED:20241211T183235Z
LAST-MODIFIED:20241211T183414Z
UID:10010452-1746702000-1746703200@www.lovemylibrary.ca
SUMMARY:Tales for Tots
DESCRIPTION:Join us Thursday mornings in the Big Brothers Big Sisters Room for stories\, songs\, and activities that are just right for terrific toddlers! \n18 months-4 years with a parent/caregiver. \nDrop-in\, no registration required.
URL:https://www.lovemylibrary.ca/event/tales-for-tots-2-2-2-2/2025-05-08/
LOCATION:Truro Library\, 754 Prince St\, Truro\, Nova Scotia\, Canada
CATEGORIES:Events For Kids,Location: Truro
ATTACH;FMTTYPE=image/png:https://www.lovemylibrary.ca/wp-content/uploads/2022/03/Untitled-design-81.png
END:VEVENT
BEGIN:VEVENT
DTSTART;TZID=America/Halifax:20250508T143000
DTEND;TZID=America/Halifax:20250508T150000
DTSTAMP:20260421T224822
CREATED:20231122T221236Z
LAST-MODIFIED:20250416T193830Z
UID:10005947-1746714600-1746716400@www.lovemylibrary.ca
SUMMARY:Game Day
DESCRIPTION:We are pulling out the life size Candy Land game for Game Day this month. Come on in and try a blast from the past. \nRegister in branch or by email mtuniack@cehpubliclibrary.ca
URL:https://www.lovemylibrary.ca/event/game-day-3/
LOCATION:Mount Uniacke Library\, 555\, Highway 1\, Mount Uniacke\, Nova Scotia\, Canada
CATEGORIES:Events For Kids,Events For Teens,Location: Mount Uniacke
ATTACH;FMTTYPE=image/png:https://www.lovemylibrary.ca/wp-content/uploads/2023/08/Untitled-design-97.png
END:VEVENT
BEGIN:VEVENT
DTSTART;TZID=America/Halifax:20250508T150000
DTEND;TZID=America/Halifax:20250508T163000
DTSTAMP:20260421T224822
CREATED:20241213T191147Z
LAST-MODIFIED:20250509T192439Z
UID:10011369-1746716400-1746721800@www.lovemylibrary.ca
SUMMARY:Teen Room Drop In
DESCRIPTION:Come hang out! Grab a snack\, play our Nintendo Switch\, challenge your friends to a board game\, build with Lego\, or make art!  Ages 13-18 \nThis is a drop-in program. No registration is required.
URL:https://www.lovemylibrary.ca/event/teen-room-drop-in-5/2025-05-08/
LOCATION:Truro Library\, 754 Prince St\, Truro\, Nova Scotia\, Canada
CATEGORIES:Events For Teens,Location: Truro
ATTACH;FMTTYPE=image/png:https://www.lovemylibrary.ca/wp-content/uploads/2022/10/Untitled-design-53.png
END:VEVENT
BEGIN:VEVENT
DTSTART;TZID=America/Halifax:20250508T153000
DTEND;TZID=America/Halifax:20250508T163000
DTSTAMP:20260421T224822
CREATED:20250315T184842Z
LAST-MODIFIED:20250315T185005Z
UID:10011381-1746718200-1746721800@www.lovemylibrary.ca
SUMMARY:Read It Out Loud
DESCRIPTION:Picture this: A room full of kids\, quietly sipping hot chocolate\, nibbling on popcorn\, doodling\, or relaxing as they listen to the librarian read aloud from a novel. If this sounds like fun\, then please join us for Read it Out Loud\, a book club for children ages 6-12 \nTo register email info@cehpubliclibrary.ca
URL:https://www.lovemylibrary.ca/event/read-it-out-loud-2/2025-05-08/
LOCATION:Truro Library\, 754 Prince St\, Truro\, Nova Scotia\, Canada
CATEGORIES:Events For Kids,Location: Truro
ATTACH;FMTTYPE=image/png:https://www.lovemylibrary.ca/wp-content/uploads/2024/12/Untitled-design-2024-12-13T165407.976.png
END:VEVENT
BEGIN:VEVENT
DTSTART;TZID=America/Halifax:20250508T173000
DTEND;TZID=America/Halifax:20250508T190000
DTSTAMP:20260421T224822
CREATED:20241121T160922Z
LAST-MODIFIED:20250419T174854Z
UID:10011865-1746725400-1746730800@www.lovemylibrary.ca
SUMMARY:Dungeons and Dragons
DESCRIPTION:Join the action and adventure as we explore fantastic worlds. We are beginner friendly.  A safe and inclusive environment. For ages 9-13 \nTo register\, email stewiacke@cehpubliclibrary.ca
URL:https://www.lovemylibrary.ca/event/dungeons-and-dragons-8/2025-05-08/
LOCATION:Stewiacke Library\, 295 George Street\, Stewiacke\, Nova Scotia\, Canada
CATEGORIES:Events For Teens,Location: Stewiacke
ATTACH;FMTTYPE=image/png:https://www.lovemylibrary.ca/wp-content/uploads/2022/06/D-and-D.png
END:VEVENT
BEGIN:VEVENT
DTSTART;VALUE=DATE:20250509
DTEND;VALUE=DATE:20250510
DTSTAMP:20260421T224822
CREATED:20240221T183224Z
LAST-MODIFIED:20250523T194552Z
UID:10011495-1746748800-1746835199@www.lovemylibrary.ca
SUMMARY:Tech Help
DESCRIPTION:Need  help with a computer\, tablet or phone?  We can help. This is an adult program. \nPre register in person or by phone 902- 657-3064 or email: tatamago@cehpubliclibrary.ca
URL:https://www.lovemylibrary.ca/event/tech-help-6/2025-05-09/
LOCATION:Tatamagouche Library\, 170 Main Street\, Tatamagouche\, Nova Scotia\, Canada
CATEGORIES:Location: Tatamagouche
ATTACH;FMTTYPE=image/png:https://www.lovemylibrary.ca/wp-content/uploads/2022/03/Untitled-design-80.png
END:VEVENT
BEGIN:VEVENT
DTSTART;TZID=America/Halifax:20250509T100000
DTEND;TZID=America/Halifax:20250509T120000
DTSTAMP:20260421T224822
CREATED:20250417T174051Z
LAST-MODIFIED:20260415T173232Z
UID:10011659-1746784800-1746792000@www.lovemylibrary.ca
SUMMARY:One on One Tech Help
DESCRIPTION:Issues with your phone? Laptop? Social Media? Meet in-person with our digital literacy trainer to get your tech questions answered. \nDrop in – please call (902) 883-9838 or email us at elmsdale@cehpubliclibrary.ca for more details.
URL:https://www.lovemylibrary.ca/event/one-on-one-tech-help-7-2-2-2-2/2025-05-09/
LOCATION:Elmsdale Library\, 15 Commerce Ct\, Elmsdale\, Nova Scotia\, Canada
CATEGORIES:Events For Adults,Location: Elmsdale
ATTACH;FMTTYPE=image/png:https://www.lovemylibrary.ca/wp-content/uploads/2022/03/Untitled-design-80.png
END:VEVENT
BEGIN:VEVENT
DTSTART;TZID=America/Halifax:20250509T100000
DTEND;TZID=America/Halifax:20250509T163000
DTSTAMP:20260421T224822
CREATED:20250315T150414Z
LAST-MODIFIED:20250523T183118Z
UID:10011867-1746784800-1746808200@www.lovemylibrary.ca
SUMMARY:Employment Services
DESCRIPTION:Need help getting hired or promoted? Learn to communicate your value and skills. Valerie Manuel\, Career Practitioner with Nova Scotia Works and YMCA of Greater Halifax/Dartmouth will be available to assist you. Ages 18+. \nDrop in or Register: valerie.manuel@halifax.ymca.ca\n 
URL:https://www.lovemylibrary.ca/event/employment-services-3-2/2025-05-09/
LOCATION:Stewiacke Library\, 295 George Street\, Stewiacke\, Nova Scotia\, Canada
CATEGORIES:Events For Adults,Location: Middle Stewiacke
ATTACH;FMTTYPE=image/png:https://www.lovemylibrary.ca/wp-content/uploads/2024/12/Untitled-design-6.png
END:VEVENT
BEGIN:VEVENT
DTSTART;TZID=America/Halifax:20250509T130000
DTEND;TZID=America/Halifax:20250509T143000
DTSTAMP:20260421T224822
CREATED:20240916T151310Z
LAST-MODIFIED:20250809T171947Z
UID:10011860-1746795600-1746801000@www.lovemylibrary.ca
SUMMARY:Scrabble Squad
DESCRIPTION:What spells F-U-N? Playing Scrabble with friends! All adults welcome. \nThis is a drop-in program. No registration is required.
URL:https://www.lovemylibrary.ca/event/scrabble-squad-5/2025-05-09/
LOCATION:Stewiacke Library\, 295 George Street\, Stewiacke\, Nova Scotia\, Canada
CATEGORIES:Events For Adults,Events For Seniors,Location: Stewiacke
ATTACH;FMTTYPE=image/png:https://www.lovemylibrary.ca/wp-content/uploads/2022/05/Add-a-subheading-700-×-500-px-3.png
END:VEVENT
END:VCALENDAR