BEGIN:VCALENDAR
VERSION:2.0
PRODID:-//Colchester East Hants Public Library - ECPv6.15.20//NONSGML v1.0//EN
CALSCALE:GREGORIAN
METHOD:PUBLISH
X-ORIGINAL-URL:https://www.lovemylibrary.ca
X-WR-CALDESC:Events for Colchester East Hants Public Library
REFRESH-INTERVAL;VALUE=DURATION:PT1H
X-Robots-Tag:noindex
X-PUBLISHED-TTL:PT1H
BEGIN:VTIMEZONE
TZID:America/Halifax
BEGIN:DAYLIGHT
TZOFFSETFROM:-0400
TZOFFSETTO:-0300
TZNAME:ADT
DTSTART:20240310T060000
END:DAYLIGHT
BEGIN:STANDARD
TZOFFSETFROM:-0300
TZOFFSETTO:-0400
TZNAME:AST
DTSTART:20241103T050000
END:STANDARD
BEGIN:DAYLIGHT
TZOFFSETFROM:-0400
TZOFFSETTO:-0300
TZNAME:ADT
DTSTART:20250309T060000
END:DAYLIGHT
BEGIN:STANDARD
TZOFFSETFROM:-0300
TZOFFSETTO:-0400
TZNAME:AST
DTSTART:20251102T050000
END:STANDARD
BEGIN:DAYLIGHT
TZOFFSETFROM:-0400
TZOFFSETTO:-0300
TZNAME:ADT
DTSTART:20260308T060000
END:DAYLIGHT
BEGIN:STANDARD
TZOFFSETFROM:-0300
TZOFFSETTO:-0400
TZNAME:AST
DTSTART:20261101T050000
END:STANDARD
END:VTIMEZONE
BEGIN:VEVENT
DTSTART;VALUE=DATE:20250501
DTEND;VALUE=DATE:20250701
DTSTAMP:20260421T230044
CREATED:20250213T172319Z
LAST-MODIFIED:20250514T202331Z
UID:10011152-1746057600-1751327999@www.lovemylibrary.ca
SUMMARY:Take and Make Crafts
DESCRIPTION:Weekly take-and-make craft kits are available for pick up in-branch. \nDrop-in\, no registration required.
URL:https://www.lovemylibrary.ca/event/take-and-make-crafts-7/
LOCATION:Elmsdale Library\, 15 Commerce Ct\, Elmsdale\, Nova Scotia\, Canada
CATEGORIES:Events For Kids,Location: Elmsdale
ATTACH;FMTTYPE=image/png:https://www.lovemylibrary.ca/wp-content/uploads/2025/02/Untitled-design-10.png
END:VEVENT
BEGIN:VEVENT
DTSTART;VALUE=DATE:20250502
DTEND;VALUE=DATE:20250628
DTSTAMP:20260421T230044
CREATED:20250422T222030Z
LAST-MODIFIED:20250422T222030Z
UID:10011897-1746144000-1751068799@www.lovemylibrary.ca
SUMMARY:Women Artists of Passion: An Exhibit by Three Members of the Truro Art Society
DESCRIPTION:Explore this diverse and vibrant mix of paintings\, mixed media artworks\, and rug hooking from Ursula Ryle-Gulliver\, Rebecca Daphne Hill\, and Sheila Newell\, all artists and members of the Truro Art Society. They all have a passion for art and are excited to share their works with you. \nThis is a drop in program. No registration is required.
URL:https://www.lovemylibrary.ca/event/women-artists-of-passion-an-exhibit-by-three-members-of-the-truro-art-society/
LOCATION:Truro Library\, 754 Prince St\, Truro\, Nova Scotia\, Canada
CATEGORIES:Location: Truro
ATTACH;FMTTYPE=image/png:https://www.lovemylibrary.ca/wp-content/uploads/2025/04/Untitled-design-2025-04-22T192156.106.png
END:VEVENT
BEGIN:VEVENT
DTSTART;VALUE=DATE:20250616
DTEND;VALUE=DATE:20250701
DTSTAMP:20260421T230044
CREATED:20250524T135902Z
LAST-MODIFIED:20250524T135902Z
UID:10012147-1750032000-1751327999@www.lovemylibrary.ca
SUMMARY:Take-Home Pride Craft
DESCRIPTION:Fly high with Pride! Pick up our take home kit to make a 3D paper hot air balloon in a rainbow of colours! \nTake home kit. While Supplies last.
URL:https://www.lovemylibrary.ca/event/take-home-pride-craft/
LOCATION:Truro Library\, 754 Prince St\, Truro\, Nova Scotia\, Canada
CATEGORIES:Events For Adults,Location: Truro
ATTACH;FMTTYPE=image/png:https://www.lovemylibrary.ca/wp-content/uploads/2025/05/Untitled-design-17-1.png
END:VEVENT
BEGIN:VEVENT
DTSTART;TZID=America/Halifax:20250616T133000
DTEND;TZID=America/Halifax:20250616T163000
DTSTAMP:20260421T230044
CREATED:20250902T183625Z
LAST-MODIFIED:20260401T152006Z
UID:10012932-1750080600-1750091400@www.lovemylibrary.ca
SUMMARY:Scrabble Group
DESCRIPTION:What spells F-U-N? Playing Scrabble with friends! \nThis is a drop-in event. No registration is required.
URL:https://www.lovemylibrary.ca/event/scrabble-group-6-2-2/2025-06-16/
LOCATION:Truro Library\, 754 Prince St\, Truro\, Nova Scotia\, Canada
CATEGORIES:Events For Adults,Events For Seniors,Location: Truro
ATTACH;FMTTYPE=image/png:https://www.lovemylibrary.ca/wp-content/uploads/2022/05/Add-a-subheading-700-×-500-px-3.png
END:VEVENT
BEGIN:VEVENT
DTSTART;TZID=America/Halifax:20250617T150000
DTEND;TZID=America/Halifax:20250617T170000
DTSTAMP:20260421T230044
CREATED:20250419T163700Z
LAST-MODIFIED:20250929T191526Z
UID:10012107-1750172400-1750179600@www.lovemylibrary.ca
SUMMARY:Dungeons and Dragons
DESCRIPTION:“Join us for an epic Dungeons & Dragons game night! Roll dice\, slay monsters\, and embark on thrilling adventures with friends. Whether you’re a seasoned hero or a curious newbie\, there’s a spot for you at the table!” For ages 13-24 \n\nPre-Register in person or by phone: (902) 657-3064\, or email: tatamago@cehpubliclibrary.ca
URL:https://www.lovemylibrary.ca/event/dd-2/2025-06-17/
LOCATION:Tatamagouche Library\, 170 Main Street\, Tatamagouche\, Nova Scotia\, Canada
CATEGORIES:Events For Adults,Events For Teens,Location: Tatamagouche
ATTACH;FMTTYPE=image/png:https://www.lovemylibrary.ca/wp-content/uploads/2024/11/Untitled-design-1.png
END:VEVENT
BEGIN:VEVENT
DTSTART;TZID=America/Halifax:20250617T163000
DTEND;TZID=America/Halifax:20250617T180000
DTSTAMP:20260421T230044
CREATED:20241213T203859Z
LAST-MODIFIED:20250509T192208Z
UID:10011952-1750177800-1750183200@www.lovemylibrary.ca
SUMMARY:Cram Café
DESCRIPTION:Drop by the Truro Library teen room for a peaceful place to study for your exams. Snacks\, fidgets\, and basic school supplies provided. For ages 13-18 \nThis is a drop in program. No registration is required.
URL:https://www.lovemylibrary.ca/event/exam-cram-cafe/2025-06-17/
LOCATION:Truro Library\, 754 Prince St\, Truro\, Nova Scotia\, Canada
CATEGORIES:Events For Teens,Location: Truro
ATTACH;FMTTYPE=image/png:https://www.lovemylibrary.ca/wp-content/uploads/2024/12/Untitled-design-2024-12-13T163934.363.png
END:VEVENT
BEGIN:VEVENT
DTSTART;TZID=America/Halifax:20250617T173000
DTEND;TZID=America/Halifax:20250617T200000
DTSTAMP:20260421T230044
CREATED:20250324T180428Z
LAST-MODIFIED:20250801T174610Z
UID:10012141-1750181400-1750190400@www.lovemylibrary.ca
SUMMARY:Heroes & Adventurers
DESCRIPTION:Role-playing game nights with extraordinary people! We provide the supplies\, you provide the imagination. No experience needed. All welcome! \nRegister to play by emailing: HAATruro@gmail.com Sorry\, no drop-in players at this time.
URL:https://www.lovemylibrary.ca/event/heroes-adventurers-14-2/2025-06-17/
LOCATION:Truro Library\, 754 Prince St\, Truro\, Nova Scotia\, Canada
CATEGORIES:Events For Adults,Events For Kids,Events For Seniors,Events For Teens,Location: Truro
ATTACH;FMTTYPE=image/png:https://www.lovemylibrary.ca/wp-content/uploads/2022/06/D-and-D.png
END:VEVENT
BEGIN:VEVENT
DTSTART;TZID=America/Halifax:20250617T180000
DTEND;TZID=America/Halifax:20250617T200000
DTSTAMP:20260421T230044
CREATED:20240918T144614Z
LAST-MODIFIED:20250509T185455Z
UID:10011948-1750183200-1750190400@www.lovemylibrary.ca
SUMMARY:Maker Lab Fun Time
DESCRIPTION:Come on in and explore. Program robots\, create circuits\, build with magnetic tiles\, and more! All ages are welcome \nThis is a drop-in and no registration is required.
URL:https://www.lovemylibrary.ca/event/maker-lab-fun-time-6/2025-06-17/
LOCATION:Truro Library\, 754 Prince St\, Truro\, Nova Scotia\, Canada
CATEGORIES:Events For Kids,Location: Truro,STEAM
ATTACH;FMTTYPE=image/png:https://www.lovemylibrary.ca/wp-content/uploads/2023/09/Untitled-design-2023-09-29T143321.527.png
END:VEVENT
BEGIN:VEVENT
DTSTART;TZID=America/Halifax:20250617T183000
DTEND;TZID=America/Halifax:20250617T193000
DTSTAMP:20260421T230044
CREATED:20250524T152337Z
LAST-MODIFIED:20250524T152337Z
UID:10012149-1750185000-1750188600@www.lovemylibrary.ca
SUMMARY:Teen Hang Out -  Noodle Bowl Edition
DESCRIPTION:Experiment with ways to amp up a pack of instant noodles. Music and games as always. \nAges 13-18. \nRegister: stewiacke@cehpubliclibrary.ca
URL:https://www.lovemylibrary.ca/event/teen-hang-out-noodle-bowl-edition/
LOCATION:Stewiacke Library\, 295 George Street\, Stewiacke\, Nova Scotia\, Canada
CATEGORIES:Events For Teens,Location: Stewiacke
ATTACH;FMTTYPE=image/png:https://www.lovemylibrary.ca/wp-content/uploads/2025/05/Untitled-design-23.png
END:VEVENT
BEGIN:VEVENT
DTSTART;TZID=America/Halifax:20250617T183000
DTEND;TZID=America/Halifax:20250617T200000
DTSTAMP:20260421T230044
CREATED:20240919T175158Z
LAST-MODIFIED:20260415T142046Z
UID:10011646-1750185000-1750190400@www.lovemylibrary.ca
SUMMARY:Ewe-niacke Yarn Club
DESCRIPTION:Fiber art for all ages and abilities. Learn to knit or crochet\, bring a project you are working on\, or just come hang out with the club for some social time. All ages welcome. \nDrop in\, no registration required.
URL:https://www.lovemylibrary.ca/event/ewe-niacke-yarn-club-3-2-2-2/2025-06-17/
LOCATION:Mount Uniacke Library\, 555\, Highway 1\, Mount Uniacke\, Nova Scotia\, Canada
CATEGORIES:Crafting,Events For Adults,Events For Kids,Events For Seniors,Location: Mount Uniacke
ATTACH;FMTTYPE=image/png:https://www.lovemylibrary.ca/wp-content/uploads/2022/03/Untitled-design-89.png
END:VEVENT
BEGIN:VEVENT
DTSTART;TZID=America/Halifax:20250618T103000
DTEND;TZID=America/Halifax:20250618T110000
DTSTAMP:20260421T230044
CREATED:20240918T190337Z
LAST-MODIFIED:20250520T222943Z
UID:10012061-1750242600-1750244400@www.lovemylibrary.ca
SUMMARY:Storytime
DESCRIPTION:Enjoy a picture book read by Karri or Bernie and then participate in an activity. For pre-schoolers and home schoolers. \nThis is a drop-in program. No registration is required.
URL:https://www.lovemylibrary.ca/event/storytime-9/2025-06-18/
LOCATION:Mount Uniacke Library\, 555\, Highway 1\, Mount Uniacke\, Nova Scotia\, Canada
CATEGORIES:Events For Kids,Location: Mount Uniacke
ATTACH;FMTTYPE=image/png:https://www.lovemylibrary.ca/wp-content/uploads/2022/05/Untitled-design-2.png
END:VEVENT
BEGIN:VEVENT
DTSTART;TZID=America/Halifax:20250618T103000
DTEND;TZID=America/Halifax:20250618T113000
DTSTAMP:20260421T230044
CREATED:20250121T174225Z
LAST-MODIFIED:20251216T233710Z
UID:10011904-1750242600-1750246200@www.lovemylibrary.ca
SUMMARY:Storytime
DESCRIPTION:Join us for a fun-filled story time at the library! There will be stories\, maybe a song or two along with a craft. Ages 2 – 4. \nIn person\, drop in. Please call (902) 883-9838 or email us at elmsdale@cehpubliclibrary.ca for more details.\n 
URL:https://www.lovemylibrary.ca/event/storytime-11/2025-06-18/
LOCATION:Elmsdale Library\, 15 Commerce Ct\, Elmsdale\, Nova Scotia\, Canada
CATEGORIES:Events For Kids,Location: Elmsdale
ATTACH;FMTTYPE=image/png:https://www.lovemylibrary.ca/wp-content/uploads/2024/12/Untitled-design.png
END:VEVENT
BEGIN:VEVENT
DTSTART;TZID=America/Halifax:20250618T110000
DTEND;TZID=America/Halifax:20250618T130000
DTSTAMP:20260421T230044
CREATED:20250514T211510Z
LAST-MODIFIED:20250514T211510Z
UID:10012034-1750244400-1750251600@www.lovemylibrary.ca
SUMMARY:Estate Planning Workshop
DESCRIPTION:Join us for a 2-hour workshop on Legal Info Nova Scotia’s free resources to make your simple Will\, Power of Attorney and Personal Directive. Planning ahead is the best way to prepare. A nutrition break will be available. \nIn Person. Registration is required. Space is limited. Please call 902-883-9838 for more details.
URL:https://www.lovemylibrary.ca/event/estate-planning-workshop/
LOCATION:Elmsdale Library\, 15 Commerce Ct\, Elmsdale\, Nova Scotia\, Canada
CATEGORIES:Events For Adults,Events For Seniors
ATTACH;FMTTYPE=image/png:https://www.lovemylibrary.ca/wp-content/uploads/2025/05/Untitled-design-19.png
END:VEVENT
BEGIN:VEVENT
DTSTART;TZID=America/Halifax:20250618T163000
DTEND;TZID=America/Halifax:20250618T173000
DTSTAMP:20260421T230044
CREATED:20250506T175012Z
LAST-MODIFIED:20250509T192558Z
UID:10011920-1750264200-1750267800@www.lovemylibrary.ca
SUMMARY:Teen Pride Party
DESCRIPTION:Head to the Teen Room for a Pride celebration! Get ready for the parade with buttons and bracelets and enjoy a rainbow snack. For ages 13-18 \nThis is a drop in program. No registration is required.
URL:https://www.lovemylibrary.ca/event/pride-party/
LOCATION:Truro Library\, 754 Prince St\, Truro\, Nova Scotia\, Canada
CATEGORIES:Events For Teens,Location: Truro
ATTACH;FMTTYPE=image/png:https://www.lovemylibrary.ca/wp-content/uploads/2025/05/Untitled-design-2025-05-06T145215.713.png
END:VEVENT
BEGIN:VEVENT
DTSTART;TZID=America/Halifax:20250618T163000
DTEND;TZID=America/Halifax:20250618T180000
DTSTAMP:20260421T230044
CREATED:20241213T203859Z
LAST-MODIFIED:20250509T192208Z
UID:10011953-1750264200-1750269600@www.lovemylibrary.ca
SUMMARY:Cram Café
DESCRIPTION:Drop by the Truro Library teen room for a peaceful place to study for your exams. Snacks\, fidgets\, and basic school supplies provided. For ages 13-18 \nThis is a drop in program. No registration is required.
URL:https://www.lovemylibrary.ca/event/exam-cram-cafe/2025-06-18/
LOCATION:Truro Library\, 754 Prince St\, Truro\, Nova Scotia\, Canada
CATEGORIES:Events For Teens,Location: Truro
ATTACH;FMTTYPE=image/png:https://www.lovemylibrary.ca/wp-content/uploads/2024/12/Untitled-design-2024-12-13T163934.363.png
END:VEVENT
BEGIN:VEVENT
DTSTART;TZID=America/Halifax:20250619T100000
DTEND;TZID=America/Halifax:20250619T113000
DTSTAMP:20260421T230044
CREATED:20241018T171043Z
LAST-MODIFIED:20250524T133029Z
UID:10012145-1750327200-1750332600@www.lovemylibrary.ca
SUMMARY:Tech Help
DESCRIPTION:Is your phone giving you trouble? Or maybe your tablet? Drop by the Maker Lab on Thursday mornings for one-on-one tech help on a first-come\, first-served basis! Happy to help with your simple tech needs. Open to all ages. \nThis is a drop in program. No registration is required.
URL:https://www.lovemylibrary.ca/event/tech-help-10/2025-06-19/
LOCATION:Truro Library\, 754 Prince St\, Truro\, Nova Scotia\, Canada
CATEGORIES:Events For Adults,Location: Truro
ATTACH;FMTTYPE=image/png:https://www.lovemylibrary.ca/wp-content/uploads/2024/10/Untitled-design-2024-10-18T141043.276.png
END:VEVENT
BEGIN:VEVENT
DTSTART;TZID=America/Halifax:20250619T143000
DTEND;TZID=America/Halifax:20250619T153000
DTSTAMP:20260421T230044
CREATED:20220530T170047Z
LAST-MODIFIED:20250605T190818Z
UID:10001080-1750343400-1750347000@www.lovemylibrary.ca
SUMMARY:Summer Reading Party
DESCRIPTION:We are getting ready for Summer Reading with a party to launch our Passport to Reading summer fun. Come on in\, sign up for Sumer Reading Club\, and have some cake. \n  \nThis is a drop in program. No registration is required.
URL:https://www.lovemylibrary.ca/event/summer-reading-launch-party/
LOCATION:Mount Uniacke Library\, 555\, Highway 1\, Mount Uniacke\, Nova Scotia\, Canada
CATEGORIES:Events For Kids,Location: Mount Uniacke
ATTACH;FMTTYPE=image/png:https://www.lovemylibrary.ca/wp-content/uploads/2022/05/Untitled-design-2025-05-23T162608.764.png
END:VEVENT
BEGIN:VEVENT
DTSTART;TZID=America/Halifax:20250619T143000
DTEND;TZID=America/Halifax:20250619T153000
DTSTAMP:20260421T230044
CREATED:20240517T180959Z
LAST-MODIFIED:20250523T192834Z
UID:10012098-1750343400-1750347000@www.lovemylibrary.ca
SUMMARY:Parade Prep
DESCRIPTION:Everything old is new again! We are getting ready for the parade and need your help. Come in\, roll up your sleeves\, and plan on getting creative while we get everything ready for Uniacke District Fireman’s Fair Parade. Ages 8-12 \nDrop in. No registration is required.
URL:https://www.lovemylibrary.ca/event/parade-prep-2/2025-06-19/
LOCATION:Mount Uniacke Library\, 555\, Highway 1\, Mount Uniacke\, Nova Scotia\, Canada
CATEGORIES:Events For Kids,Location: Mount Uniacke
ATTACH;FMTTYPE=image/png:https://www.lovemylibrary.ca/wp-content/uploads/2023/05/Untitled-design-87.png
END:VEVENT
BEGIN:VEVENT
DTSTART;TZID=America/Halifax:20250619T163000
DTEND;TZID=America/Halifax:20250619T180000
DTSTAMP:20260421T230044
CREATED:20241213T203859Z
LAST-MODIFIED:20250509T192208Z
UID:10011954-1750350600-1750356000@www.lovemylibrary.ca
SUMMARY:Cram Café
DESCRIPTION:Drop by the Truro Library teen room for a peaceful place to study for your exams. Snacks\, fidgets\, and basic school supplies provided. For ages 13-18 \nThis is a drop in program. No registration is required.
URL:https://www.lovemylibrary.ca/event/exam-cram-cafe/2025-06-19/
LOCATION:Truro Library\, 754 Prince St\, Truro\, Nova Scotia\, Canada
CATEGORIES:Events For Teens,Location: Truro
ATTACH;FMTTYPE=image/png:https://www.lovemylibrary.ca/wp-content/uploads/2024/12/Untitled-design-2024-12-13T163934.363.png
END:VEVENT
BEGIN:VEVENT
DTSTART;VALUE=DATE:20250620
DTEND;VALUE=DATE:20250621
DTSTAMP:20260421T230044
CREATED:20240221T183224Z
LAST-MODIFIED:20250523T194552Z
UID:10012111-1750377600-1750463999@www.lovemylibrary.ca
SUMMARY:Tech Help
DESCRIPTION:Need  help with a computer\, tablet or phone?  We can help. This is an adult program. \nPre register in person or by phone 902- 657-3064 or email: tatamago@cehpubliclibrary.ca
URL:https://www.lovemylibrary.ca/event/tech-help-6/2025-06-20/
LOCATION:Tatamagouche Library\, 170 Main Street\, Tatamagouche\, Nova Scotia\, Canada
CATEGORIES:Location: Tatamagouche
ATTACH;FMTTYPE=image/png:https://www.lovemylibrary.ca/wp-content/uploads/2022/03/Untitled-design-80.png
END:VEVENT
BEGIN:VEVENT
DTSTART;TZID=America/Halifax:20250620T100000
DTEND;TZID=America/Halifax:20250620T120000
DTSTAMP:20260421T230044
CREATED:20250417T174051Z
LAST-MODIFIED:20260415T173232Z
UID:10012022-1750413600-1750420800@www.lovemylibrary.ca
SUMMARY:One on One Tech Help
DESCRIPTION:Issues with your phone? Laptop? Social Media? Meet in-person with our digital literacy trainer to get your tech questions answered. \nDrop in – please call (902) 883-9838 or email us at elmsdale@cehpubliclibrary.ca for more details.
URL:https://www.lovemylibrary.ca/event/one-on-one-tech-help-7-2-2-2-2/2025-06-20/
LOCATION:Elmsdale Library\, 15 Commerce Ct\, Elmsdale\, Nova Scotia\, Canada
CATEGORIES:Events For Adults,Location: Elmsdale
ATTACH;FMTTYPE=image/png:https://www.lovemylibrary.ca/wp-content/uploads/2022/03/Untitled-design-80.png
END:VEVENT
BEGIN:VEVENT
DTSTART;TZID=America/Halifax:20250620T100000
DTEND;TZID=America/Halifax:20250620T163000
DTSTAMP:20260421T230044
CREATED:20250315T150414Z
LAST-MODIFIED:20250523T183118Z
UID:10012093-1750413600-1750437000@www.lovemylibrary.ca
SUMMARY:Employment Services
DESCRIPTION:Need help getting hired or promoted? Learn to communicate your value and skills. Valerie Manuel\, Career Practitioner with Nova Scotia Works and YMCA of Greater Halifax/Dartmouth will be available to assist you. Ages 18+. \nDrop in or Register: valerie.manuel@halifax.ymca.ca\n 
URL:https://www.lovemylibrary.ca/event/employment-services-3-2/2025-06-20/
LOCATION:Stewiacke Library\, 295 George Street\, Stewiacke\, Nova Scotia\, Canada
CATEGORIES:Events For Adults,Location: Middle Stewiacke
ATTACH;FMTTYPE=image/png:https://www.lovemylibrary.ca/wp-content/uploads/2024/12/Untitled-design-6.png
END:VEVENT
BEGIN:VEVENT
DTSTART;TZID=America/Halifax:20250620T103000
DTEND;TZID=America/Halifax:20250620T113000
DTSTAMP:20260421T230044
CREATED:20250527T170933Z
LAST-MODIFIED:20251120T190551Z
UID:10012225-1750415400-1750419000@www.lovemylibrary.ca
SUMMARY:Seniors Social Café!
DESCRIPTION:Come in for a coffee or tea and share a story or two with your friends. Light refreshments available. \nThis is a drop-in program. No registration is required.
URL:https://www.lovemylibrary.ca/event/seniors-social-cafe-4/2025-06-20/
LOCATION:Tatamagouche Library\, 170 Main Street\, Tatamagouche\, Nova Scotia\, Canada
CATEGORIES:Events For Seniors,Location: Tatamagouche
ATTACH;FMTTYPE=image/png:https://www.lovemylibrary.ca/wp-content/uploads/2022/08/Untitled-design-6.png
END:VEVENT
BEGIN:VEVENT
DTSTART;TZID=America/Halifax:20250620T130000
DTEND;TZID=America/Halifax:20250620T143000
DTSTAMP:20260421T230044
CREATED:20240916T151310Z
LAST-MODIFIED:20250809T171947Z
UID:10012090-1750424400-1750429800@www.lovemylibrary.ca
SUMMARY:Scrabble Squad
DESCRIPTION:What spells F-U-N? Playing Scrabble with friends! All adults welcome. \nThis is a drop-in program. No registration is required.
URL:https://www.lovemylibrary.ca/event/scrabble-squad-5/2025-06-20/
LOCATION:Stewiacke Library\, 295 George Street\, Stewiacke\, Nova Scotia\, Canada
CATEGORIES:Events For Adults,Events For Seniors,Location: Stewiacke
ATTACH;FMTTYPE=image/png:https://www.lovemylibrary.ca/wp-content/uploads/2022/05/Add-a-subheading-700-×-500-px-3.png
END:VEVENT
BEGIN:VEVENT
DTSTART;TZID=America/Halifax:20250620T143000
DTEND;TZID=America/Halifax:20250620T153000
DTSTAMP:20260421T230044
CREATED:20240517T180959Z
LAST-MODIFIED:20250523T192834Z
UID:10012099-1750429800-1750433400@www.lovemylibrary.ca
SUMMARY:Parade Prep
DESCRIPTION:Everything old is new again! We are getting ready for the parade and need your help. Come in\, roll up your sleeves\, and plan on getting creative while we get everything ready for Uniacke District Fireman’s Fair Parade. Ages 8-12 \nDrop in. No registration is required.
URL:https://www.lovemylibrary.ca/event/parade-prep-2/2025-06-20/
LOCATION:Mount Uniacke Library\, 555\, Highway 1\, Mount Uniacke\, Nova Scotia\, Canada
CATEGORIES:Events For Kids,Location: Mount Uniacke
ATTACH;FMTTYPE=image/png:https://www.lovemylibrary.ca/wp-content/uploads/2023/05/Untitled-design-87.png
END:VEVENT
BEGIN:VEVENT
DTSTART;TZID=America/Halifax:20250620T150000
DTEND;TZID=America/Halifax:20250620T170000
DTSTAMP:20260421T230044
CREATED:20240918T145000Z
LAST-MODIFIED:20250625T140829Z
UID:10011944-1750431600-1750438800@www.lovemylibrary.ca
SUMMARY:Maker Lab Open Hours
DESCRIPTION:Come on in and explore. Program robots\, create circuits\, build with magnetic tiles\, and more! All ages are welcome \nThis is a drop in program. No registration is required.
URL:https://www.lovemylibrary.ca/event/maker-lab-fun-time-7/2025-06-20/
LOCATION:Truro Library\, 754 Prince St\, Truro\, Nova Scotia\, Canada
ATTACH;FMTTYPE=image/png:https://www.lovemylibrary.ca/wp-content/uploads/2023/09/Untitled-design-2023-09-29T143321.527.png
END:VEVENT
BEGIN:VEVENT
DTSTART;TZID=America/Halifax:20250621T100000
DTEND;TZID=America/Halifax:20250621T120000
DTSTAMP:20260421T230044
CREATED:20240918T145518Z
LAST-MODIFIED:20250625T140742Z
UID:10011939-1750500000-1750507200@www.lovemylibrary.ca
SUMMARY:Maker Lab Open Hours
DESCRIPTION:Come on in and explore. Program robots\, create circuits\, build with magnetic tiles\, and more! All ages are welcome \nThis is a drop in program. No registration is required.
URL:https://www.lovemylibrary.ca/event/maker-lab-fun-time-8/2025-06-21/
LOCATION:Truro Library\, 754 Prince St\, Truro\, Nova Scotia\, Canada
CATEGORIES:Events For Kids,Location: Truro
ATTACH;FMTTYPE=image/png:https://www.lovemylibrary.ca/wp-content/uploads/2023/09/Untitled-design-2023-09-29T143321.527.png
END:VEVENT
BEGIN:VEVENT
DTSTART;TZID=America/Halifax:20250621T103000
DTEND;TZID=America/Halifax:20250621T110000
DTSTAMP:20260421T230044
CREATED:20240918T190337Z
LAST-MODIFIED:20250520T222943Z
UID:10012062-1750501800-1750503600@www.lovemylibrary.ca
SUMMARY:Storytime
DESCRIPTION:Enjoy a picture book read by Karri or Bernie and then participate in an activity. For pre-schoolers and home schoolers. \nThis is a drop-in program. No registration is required.
URL:https://www.lovemylibrary.ca/event/storytime-9/2025-06-21/
LOCATION:Mount Uniacke Library\, 555\, Highway 1\, Mount Uniacke\, Nova Scotia\, Canada
CATEGORIES:Events For Kids,Location: Mount Uniacke
ATTACH;FMTTYPE=image/png:https://www.lovemylibrary.ca/wp-content/uploads/2022/05/Untitled-design-2.png
END:VEVENT
BEGIN:VEVENT
DTSTART;TZID=America/Halifax:20250621T103000
DTEND;TZID=America/Halifax:20250621T110000
DTSTAMP:20260421T230044
CREATED:20241121T154110Z
LAST-MODIFIED:20260415T173841Z
UID:10011902-1750501800-1750503600@www.lovemylibrary.ca
SUMMARY:Toddler Time
DESCRIPTION:Come and enjoy story time at the library. A great way for your little one to make new friends. For children ages 0-2 \nThis is a drop-in program. Please call us at 902-883-9838 or email us at elmsdale@cehpubliclibrary.ca for more details
URL:https://www.lovemylibrary.ca/event/toddler-time-2-2/2025-06-21/
LOCATION:Elmsdale Library\, 15 Commerce Ct\, Elmsdale\, Nova Scotia\, Canada
CATEGORIES:Events For Kids,Location: Elmsdale
ATTACH;FMTTYPE=image/png:https://www.lovemylibrary.ca/wp-content/uploads/2022/03/Untitled-design-75.png
END:VEVENT
BEGIN:VEVENT
DTSTART;TZID=America/Halifax:20250621T110000
DTEND;TZID=America/Halifax:20250621T120000
DTSTAMP:20260421T230044
CREATED:20250506T175826Z
LAST-MODIFIED:20250506T175826Z
UID:10011921-1750503600-1750507200@www.lovemylibrary.ca
SUMMARY:Play and Explore: Dino Edition
DESCRIPTION:Explore\, play and craft everything dinosaurs! Take an exciting journey through the Mesozoic era\, learn about breathtaking prehistoric creatures and feel like a real paleontologist. All ages are welcome. \nThis is a drop in program. No registration is required.
URL:https://www.lovemylibrary.ca/event/play-and-explore-dino-edition/
LOCATION:Truro Library\, 754 Prince St\, Truro\, Nova Scotia\, Canada
CATEGORIES:Events For Kids,Location: Truro
ATTACH;FMTTYPE=image/png:https://www.lovemylibrary.ca/wp-content/uploads/2025/05/Untitled-design-2025-05-06T150038.783.png
END:VEVENT
END:VCALENDAR