BEGIN:VCALENDAR
VERSION:2.0
PRODID:-//Colchester East Hants Public Library - ECPv6.15.20//NONSGML v1.0//EN
CALSCALE:GREGORIAN
METHOD:PUBLISH
X-WR-CALNAME:Colchester East Hants Public Library
X-ORIGINAL-URL:https://www.lovemylibrary.ca
X-WR-CALDESC:Events for Colchester East Hants Public Library
REFRESH-INTERVAL;VALUE=DURATION:PT1H
X-Robots-Tag:noindex
X-PUBLISHED-TTL:PT1H
BEGIN:VTIMEZONE
TZID:America/Halifax
BEGIN:DAYLIGHT
TZOFFSETFROM:-0400
TZOFFSETTO:-0300
TZNAME:ADT
DTSTART:20240310T060000
END:DAYLIGHT
BEGIN:STANDARD
TZOFFSETFROM:-0300
TZOFFSETTO:-0400
TZNAME:AST
DTSTART:20241103T050000
END:STANDARD
BEGIN:DAYLIGHT
TZOFFSETFROM:-0400
TZOFFSETTO:-0300
TZNAME:ADT
DTSTART:20250309T060000
END:DAYLIGHT
BEGIN:STANDARD
TZOFFSETFROM:-0300
TZOFFSETTO:-0400
TZNAME:AST
DTSTART:20251102T050000
END:STANDARD
BEGIN:DAYLIGHT
TZOFFSETFROM:-0400
TZOFFSETTO:-0300
TZNAME:ADT
DTSTART:20260308T060000
END:DAYLIGHT
BEGIN:STANDARD
TZOFFSETFROM:-0300
TZOFFSETTO:-0400
TZNAME:AST
DTSTART:20261101T050000
END:STANDARD
END:VTIMEZONE
BEGIN:VEVENT
DTSTART;VALUE=DATE:20250702
DTEND;VALUE=DATE:20250831
DTSTAMP:20260421T192859
CREATED:20250704T180637Z
LAST-MODIFIED:20250704T180637Z
UID:10012393-1751414400-1756598399@www.lovemylibrary.ca
SUMMARY:Read Local Summer 2025: Adult Summer Reading Program
DESCRIPTION:Include NS authors and activities in your summer plans and earn ballots to win a great selection of prizes. Pick up a logbook at our Circulation and 2nd floor Info desks. \nFor adults. No registration required.
URL:https://www.lovemylibrary.ca/event/read-local-summer-2025-adult-summer-reading-program/
LOCATION:Truro Library\, 754 Prince St\, Truro\, Nova Scotia\, Canada
CATEGORIES:Events For Adults,Location: Elmsdale,Location: Mount Uniacke,Location: Stewiacke,Location: Tatamagouche,Location: Truro
ATTACH;FMTTYPE=image/png:https://www.lovemylibrary.ca/wp-content/uploads/2025/07/Read-Local-Summer-2025.png
END:VEVENT
BEGIN:VEVENT
DTSTART;VALUE=DATE:20250712
DTEND;VALUE=DATE:20250826
DTSTAMP:20260421T192859
CREATED:20250704T182531Z
LAST-MODIFIED:20250801T174914Z
UID:10012395-1752278400-1756166399@www.lovemylibrary.ca
SUMMARY:Fragments: An Art Exhibition by Hanna Petrikina
DESCRIPTION:In this series of three paintings\, Hanna Petrikina invites you to step into her lens and experience the world the way she does\, in fragments. Like random objects at a flea market that end up together by chance\, she saw patterns where others saw chaos. A stray piece of overheard folklore\, a desire to intentionally break the standard–that’s where her art begins. \nAll ages. In person. 2nd floor exhibition area. Drop-in.
URL:https://www.lovemylibrary.ca/event/fragments-an-art-exhibition-by-hanna-petrikina/
LOCATION:Truro Library\, 754 Prince St\, Truro\, Nova Scotia\, Canada
CATEGORIES:Events For Adults,Events For Kids,Events For Seniors,Events For Teens,Location: Truro
ATTACH;FMTTYPE=image/png:https://www.lovemylibrary.ca/wp-content/uploads/2025/07/Untitled-design-29.png
END:VEVENT
BEGIN:VEVENT
DTSTART;TZID=America/Halifax:20250728T060000
DTEND;TZID=America/Halifax:20250728T193000
DTSTAMP:20260421T192859
CREATED:20250717T170711Z
LAST-MODIFIED:20250717T170711Z
UID:10012447-1753682400-1753731000@www.lovemylibrary.ca
SUMMARY:Family Fort Night
DESCRIPTION:Stories are much better in a blanket fort! We provide the building supplies and snacks – you provide the pillow\, blanket\, or stuffed animal. \nRegister your family by emailing tatamago@cehpubliclibrary.ca.
URL:https://www.lovemylibrary.ca/event/family-fort-night-3/
LOCATION:Tatamagouche Library\, 170 Main Street\, Tatamagouche\, Nova Scotia\, Canada
CATEGORIES:Events For Kids,Location: Tatamagouche
ATTACH;FMTTYPE=image/png:https://www.lovemylibrary.ca/wp-content/uploads/2025/07/Untitled-design-44.png
END:VEVENT
BEGIN:VEVENT
DTSTART;TZID=America/Halifax:20250728T133000
DTEND;TZID=America/Halifax:20250728T163000
DTSTAMP:20260421T192859
CREATED:20250902T183625Z
LAST-MODIFIED:20260401T152006Z
UID:10012938-1753709400-1753720200@www.lovemylibrary.ca
SUMMARY:Scrabble Group
DESCRIPTION:What spells F-U-N? Playing Scrabble with friends! \nThis is a drop-in event. No registration is required.
URL:https://www.lovemylibrary.ca/event/scrabble-group-6-2-2/2025-07-28/
LOCATION:Truro Library\, 754 Prince St\, Truro\, Nova Scotia\, Canada
CATEGORIES:Events For Adults,Events For Seniors,Location: Truro
ATTACH;FMTTYPE=image/png:https://www.lovemylibrary.ca/wp-content/uploads/2022/05/Add-a-subheading-700-×-500-px-3.png
END:VEVENT
BEGIN:VEVENT
DTSTART;TZID=America/Halifax:20250728T143000
DTEND;TZID=America/Halifax:20250728T153000
DTSTAMP:20260421T192859
CREATED:20250616T182801Z
LAST-MODIFIED:20250616T182801Z
UID:10012364-1753713000-1753716600@www.lovemylibrary.ca
SUMMARY:Magic Show with Actual Wizard Vincenzo Ravina
DESCRIPTION:Award-winning Halifax magician Vincenzo Ravina will cast a spell with his weird and wonderful magic tricks. All ages are welcome \nThis is a drop in program. No registration is required.\n 
URL:https://www.lovemylibrary.ca/event/magic-show-with-actual-wizard-vincenzo-ravina/
LOCATION:Truro Library\, 754 Prince St\, Truro\, Nova Scotia\, Canada
CATEGORIES:Events For Kids,Location: Truro
ATTACH;FMTTYPE=image/png:https://www.lovemylibrary.ca/wp-content/uploads/2025/06/Untitled-design-2025-06-16T153038.613.png
END:VEVENT
BEGIN:VEVENT
DTSTART;TZID=America/Halifax:20250729T130000
DTEND;TZID=America/Halifax:20250729T143000
DTSTAMP:20260421T192859
CREATED:20250717T182517Z
LAST-MODIFIED:20250717T182517Z
UID:10012453-1753794000-1753799400@www.lovemylibrary.ca
SUMMARY:Summer Book club
DESCRIPTION:A chill book club for young adults to read\, relax\, and connect. We’ll pick one great summer read and meet to chat\, snack\, and share thoughts. No pressure—just good books and good vibes. In partnership with Canadian Mental Health Association. For ages 18-24 \nThis is a drop in program. No registration is required.
URL:https://www.lovemylibrary.ca/event/summer-book-club/2025-07-29/
LOCATION:Tatamagouche Library\, 170 Main Street\, Tatamagouche\, Nova Scotia\, Canada
CATEGORIES:Location: Tatamagouche
ATTACH;FMTTYPE=image/jpeg:https://www.lovemylibrary.ca/wp-content/uploads/2025/07/pexels-cottonbro-4841970-scaled.jpg
END:VEVENT
BEGIN:VEVENT
DTSTART;TZID=America/Halifax:20250729T130000
DTEND;TZID=America/Halifax:20250729T150000
DTSTAMP:20260421T192859
CREATED:20250614T172243Z
LAST-MODIFIED:20250614T172243Z
UID:10012309-1753794000-1753801200@www.lovemylibrary.ca
SUMMARY:Meal Planning and Recipe Inspiration
DESCRIPTION:Meal planning can seem intimidating\, and it can be hard to know where to start. Learn about the foundations for successful meal planning and leave with a plan that is flexible and realistic for you. You will receive a worksheet to help make a meal plan and a recipe booklet to start you on your journey. Event put on by Northern Zone Mobile Health and Wellness Team. This is an adult program. \nTo register: email stewiacke@cehpubliclibrary.ca
URL:https://www.lovemylibrary.ca/event/meal-planning-and-recipe-inspiration/
LOCATION:Stewiacke Library\, 295 George Street\, Stewiacke\, Nova Scotia\, Canada
CATEGORIES:Events For Adults,Location: Stewiacke
ATTACH;FMTTYPE=image/png:https://www.lovemylibrary.ca/wp-content/uploads/2025/06/Untitled-design-2025-06-14T142518.948.png
END:VEVENT
BEGIN:VEVENT
DTSTART;TZID=America/Halifax:20250729T150000
DTEND;TZID=America/Halifax:20250729T170000
DTSTAMP:20260421T192859
CREATED:20250419T163700Z
LAST-MODIFIED:20250929T191526Z
UID:10012383-1753801200-1753808400@www.lovemylibrary.ca
SUMMARY:Dungeons and Dragons
DESCRIPTION:“Join us for an epic Dungeons & Dragons game night! Roll dice\, slay monsters\, and embark on thrilling adventures with friends. Whether you’re a seasoned hero or a curious newbie\, there’s a spot for you at the table!” For ages 13-24 \n\nPre-Register in person or by phone: (902) 657-3064\, or email: tatamago@cehpubliclibrary.ca
URL:https://www.lovemylibrary.ca/event/dd-2/2025-07-29/
LOCATION:Tatamagouche Library\, 170 Main Street\, Tatamagouche\, Nova Scotia\, Canada
CATEGORIES:Events For Adults,Events For Teens,Location: Tatamagouche
ATTACH;FMTTYPE=image/png:https://www.lovemylibrary.ca/wp-content/uploads/2024/11/Untitled-design-1.png
END:VEVENT
BEGIN:VEVENT
DTSTART;TZID=America/Halifax:20250729T163000
DTEND;TZID=America/Halifax:20250729T193000
DTSTAMP:20260421T192859
CREATED:20250122T153804Z
LAST-MODIFIED:20250711T193449Z
UID:10012243-1753806600-1753817400@www.lovemylibrary.ca
SUMMARY:Collage Club
DESCRIPTION:Explore your creative side at the Elmsdale Library with the Collage Club! We’re busting out the scissors and glue and cutting up magazines and picture books to assemble a cool piece of art. You can also make postcards\, vision boards\, zines – whatever you want! Whether you’re a seasoned collage pro or just looking to try a new creative outlet\, come get creative! Ages 10+ \nIn Person\, drop in. Please call (902) 883-9383 or email us at elmsdale@cehpubliclibrary.ca for more details.
URL:https://www.lovemylibrary.ca/event/collage-club-3/2025-07-29/
LOCATION:Elmsdale Library\, 15 Commerce Ct\, Elmsdale\, Nova Scotia\, Canada
CATEGORIES:Events For Kids,Location: Elmsdale
ATTACH;FMTTYPE=image/png:https://www.lovemylibrary.ca/wp-content/uploads/2024/12/Untitled-design-1.png
END:VEVENT
BEGIN:VEVENT
DTSTART;TZID=America/Halifax:20250729T173000
DTEND;TZID=America/Halifax:20250729T200000
DTSTAMP:20260421T192859
CREATED:20250324T180428Z
LAST-MODIFIED:20250801T174610Z
UID:10012392-1753810200-1753819200@www.lovemylibrary.ca
SUMMARY:Heroes & Adventurers
DESCRIPTION:Role-playing game nights with extraordinary people! We provide the supplies\, you provide the imagination. No experience needed. All welcome! \nRegister to play by emailing: HAATruro@gmail.com Sorry\, no drop-in players at this time.
URL:https://www.lovemylibrary.ca/event/heroes-adventurers-14-2/2025-07-29/
LOCATION:Truro Library\, 754 Prince St\, Truro\, Nova Scotia\, Canada
CATEGORIES:Events For Adults,Events For Kids,Events For Seniors,Events For Teens,Location: Truro
ATTACH;FMTTYPE=image/png:https://www.lovemylibrary.ca/wp-content/uploads/2022/06/D-and-D.png
END:VEVENT
BEGIN:VEVENT
DTSTART;TZID=America/Halifax:20250729T183000
DTEND;TZID=America/Halifax:20250729T200000
DTSTAMP:20260421T192859
CREATED:20240919T175158Z
LAST-MODIFIED:20260415T142046Z
UID:10012326-1753813800-1753819200@www.lovemylibrary.ca
SUMMARY:Ewe-niacke Yarn Club
DESCRIPTION:Fiber art for all ages and abilities. Learn to knit or crochet\, bring a project you are working on\, or just come hang out with the club for some social time. All ages welcome. \nDrop in\, no registration required.
URL:https://www.lovemylibrary.ca/event/ewe-niacke-yarn-club-3-2-2-2/2025-07-29/
LOCATION:Mount Uniacke Library\, 555\, Highway 1\, Mount Uniacke\, Nova Scotia\, Canada
CATEGORIES:Crafting,Events For Adults,Events For Kids,Events For Seniors,Location: Mount Uniacke
ATTACH;FMTTYPE=image/png:https://www.lovemylibrary.ca/wp-content/uploads/2022/03/Untitled-design-89.png
END:VEVENT
BEGIN:VEVENT
DTSTART;TZID=America/Halifax:20250730T103000
DTEND;TZID=America/Halifax:20250730T113000
DTSTAMP:20260421T192859
CREATED:20250121T174225Z
LAST-MODIFIED:20251216T233710Z
UID:10012028-1753871400-1753875000@www.lovemylibrary.ca
SUMMARY:Storytime
DESCRIPTION:Join us for a fun-filled story time at the library! There will be stories\, maybe a song or two along with a craft. Ages 2 – 4. \nIn person\, drop in. Please call (902) 883-9838 or email us at elmsdale@cehpubliclibrary.ca for more details.\n 
URL:https://www.lovemylibrary.ca/event/storytime-11/2025-07-30/
LOCATION:Elmsdale Library\, 15 Commerce Ct\, Elmsdale\, Nova Scotia\, Canada
CATEGORIES:Events For Kids,Location: Elmsdale
ATTACH;FMTTYPE=image/png:https://www.lovemylibrary.ca/wp-content/uploads/2024/12/Untitled-design.png
END:VEVENT
BEGIN:VEVENT
DTSTART;TZID=America/Halifax:20250730T110000
DTEND;TZID=America/Halifax:20250730T120000
DTSTAMP:20260421T192859
CREATED:20250616T195017Z
LAST-MODIFIED:20250616T195017Z
UID:10012370-1753873200-1753876800@www.lovemylibrary.ca
SUMMARY:Magic Show with Actual Wizard Vincenzo Ravina
DESCRIPTION:Award-winning Halifax magician Vincenzo Ravina will cast a spell with his weird and wonderful magic tricks. All ages are welcome \nThis is a drop in program. No registration is required.\n 
URL:https://www.lovemylibrary.ca/event/magic-show-with-actual-wizard-vincenzo-ravina-2/
LOCATION:Tatamagouche Library\, 170 Main Street\, Tatamagouche\, Nova Scotia\, Canada
CATEGORIES:Events For Kids,Location: Tatamagouche
ATTACH;FMTTYPE=image/png:https://www.lovemylibrary.ca/wp-content/uploads/2025/06/Untitled-design-2025-06-16T153038.613.png
END:VEVENT
BEGIN:VEVENT
DTSTART;TZID=America/Halifax:20250730T143000
DTEND;TZID=America/Halifax:20250730T153000
DTSTAMP:20260421T192859
CREATED:20250616T184952Z
LAST-MODIFIED:20250616T184952Z
UID:10012366-1753885800-1753889400@www.lovemylibrary.ca
SUMMARY:International Day of Friendship
DESCRIPTION:There’s nothing better than a friend! Celebrate friendship with friendship bracelets\, stories about perfect pairs like Elephant and Piggie and Frog and Toad\, and more. Suitable for ages 4+ \nThis is a drop in program. No registration is required.
URL:https://www.lovemylibrary.ca/event/international-day-of-friendship/
LOCATION:Truro Library\, 754 Prince St\, Truro\, Nova Scotia\, Canada
CATEGORIES:Events For Kids,Location: Truro
ATTACH;FMTTYPE=image/png:https://www.lovemylibrary.ca/wp-content/uploads/2025/06/Untitled-design-2025-06-16T155223.024.png
END:VEVENT
BEGIN:VEVENT
DTSTART;TZID=America/Halifax:20250730T150000
DTEND;TZID=America/Halifax:20250730T160000
DTSTAMP:20260421T192859
CREATED:20250616T195132Z
LAST-MODIFIED:20250616T195132Z
UID:10012371-1753887600-1753891200@www.lovemylibrary.ca
SUMMARY:Magic Show with Actual Wizard Vincenzo Ravina
DESCRIPTION:Award-winning Halifax magician Vincenzo Ravina will cast a spell with his weird and wonderful magic tricks. All ages are welcome \nThis is a drop in program. No registration is required.\n 
URL:https://www.lovemylibrary.ca/event/magic-show-with-actual-wizard-vincenzo-ravina-3/
LOCATION:Stewiacke Community Centre\, Canada
CATEGORIES:Events For Kids,Location: Stewiacke
ATTACH;FMTTYPE=image/png:https://www.lovemylibrary.ca/wp-content/uploads/2025/06/Untitled-design-2025-06-16T153038.613.png
END:VEVENT
BEGIN:VEVENT
DTSTART;TZID=America/Halifax:20250731T103000
DTEND;TZID=America/Halifax:20250731T110000
DTSTAMP:20260421T192859
CREATED:20240726T165408Z
LAST-MODIFIED:20250624T174116Z
UID:10009163-1753957800-1753959600@www.lovemylibrary.ca
SUMMARY:CEHPL Puppet Show at Stewiacke Community Centre
DESCRIPTION:Get ready for Stewiacke Library’s most sensational puppet show\, featuring the one and only Scaredy Squirrel! Scaredy and his friends will knock your socks off All ages are welcome to participate. \nThis is a drop in program. No registration is required. Location: Stewiacke Community Centre
URL:https://www.lovemylibrary.ca/event/puppet-show-7/
LOCATION:Stewiacke Community Centre\, Canada
CATEGORIES:Events For Kids,Location: Stewiacke
ATTACH;FMTTYPE=image/png:https://www.lovemylibrary.ca/wp-content/uploads/2024/06/Untitled-design-2024-06-20T124520.390.png
END:VEVENT
BEGIN:VEVENT
DTSTART;TZID=America/Halifax:20250731T103000
DTEND;TZID=America/Halifax:20250731T113000
DTSTAMP:20260421T192859
CREATED:20250616T195339Z
LAST-MODIFIED:20250616T195339Z
UID:10012372-1753957800-1753961400@www.lovemylibrary.ca
SUMMARY:Magic Show with Actual Wizard Vincenzo Ravina
DESCRIPTION:Award-winning Halifax magician Vincenzo Ravina will cast a spell with his weird and wonderful magic tricks. All ages are welcome \nThis is a drop in program. No registration is required.\n 
URL:https://www.lovemylibrary.ca/event/magic-show-with-actual-wizard-vincenzo-ravina-4/
LOCATION:Elmsdale Library\, 15 Commerce Ct\, Elmsdale\, Nova Scotia\, Canada
CATEGORIES:Events For Kids,Location: Elmsdale
ATTACH;FMTTYPE=image/png:https://www.lovemylibrary.ca/wp-content/uploads/2025/06/Untitled-design-2025-06-16T153038.613.png
END:VEVENT
BEGIN:VEVENT
DTSTART;TZID=America/Halifax:20250731T130000
DTEND;TZID=America/Halifax:20250731T143000
DTSTAMP:20260421T192859
CREATED:20250213T182344Z
LAST-MODIFIED:20250614T180547Z
UID:10011166-1753966800-1753972200@www.lovemylibrary.ca
SUMMARY:Slime Party
DESCRIPTION:There’s no party like a slime party! Squishy\, oozy\, sticky\, sparkly – you know it\, you love it\, it’s time to get slimy!on required and spaces limited. \nPlease call 902-883-9838 or email us at elmsdale@cehpubliclibrary.ca for more details\n 
URL:https://www.lovemylibrary.ca/event/slime-time/
LOCATION:Elmsdale Library\, 15 Commerce Ct\, Elmsdale\, Nova Scotia\, Canada
CATEGORIES:Events For Kids,Location: Elmsdale
ATTACH;FMTTYPE=image/png:https://www.lovemylibrary.ca/wp-content/uploads/2025/02/Untitled-design-11.png
END:VEVENT
BEGIN:VEVENT
DTSTART;TZID=America/Halifax:20250731T143000
DTEND;TZID=America/Halifax:20250731T150000
DTSTAMP:20260421T192859
CREATED:20241105T230637Z
LAST-MODIFIED:20250616T194905Z
UID:10010167-1753972200-1753974000@www.lovemylibrary.ca
SUMMARY:Puppet Show
DESCRIPTION:Get ready for the Library’s most sensational summer puppet show\, featuring the one and only Scaredy Squirrel! Scaredy and his friends will knock your socks off. All ages are welcome \nThis is a drop in program.  No registration is required.
URL:https://www.lovemylibrary.ca/event/holiday-puppet-show/
LOCATION:Tatamagouche Library\, 170 Main Street\, Tatamagouche\, Nova Scotia\, Canada
CATEGORIES:Events For Kids,Location: Tatamagouche
ATTACH;FMTTYPE=image/png:https://www.lovemylibrary.ca/wp-content/uploads/2024/11/Untitled-design-2024-11-05T190634.742.png
END:VEVENT
BEGIN:VEVENT
DTSTART;TZID=America/Halifax:20250731T143000
DTEND;TZID=America/Halifax:20250731T153000
DTSTAMP:20260421T192859
CREATED:20250616T195448Z
LAST-MODIFIED:20250616T195448Z
UID:10012373-1753972200-1753975800@www.lovemylibrary.ca
SUMMARY:Magic Show with Actual Wizard Vincenzo Ravina
DESCRIPTION:Award-winning Halifax magician Vincenzo Ravina will cast a spell with his weird and wonderful magic tricks. All ages are welcome \nThis is a drop in program. No registration is required.\n 
URL:https://www.lovemylibrary.ca/event/magic-show-with-actual-wizard-vincenzo-ravina-5/
LOCATION:Mount Uniacke Library\, 555\, Highway 1\, Mount Uniacke\, Nova Scotia\, Canada
CATEGORIES:Events For Kids,Location: Mount Uniacke
ATTACH;FMTTYPE=image/png:https://www.lovemylibrary.ca/wp-content/uploads/2025/06/Untitled-design-2025-06-16T153038.613.png
END:VEVENT
BEGIN:VEVENT
DTSTART;TZID=America/Halifax:20250731T150000
DTEND;TZID=America/Halifax:20250731T153000
DTSTAMP:20260421T192859
CREATED:20250614T191811Z
LAST-MODIFIED:20250614T191811Z
UID:10012346-1753974000-1753975800@www.lovemylibrary.ca
SUMMARY:Amazing Race- Asia
DESCRIPTION:We have made it to Asia on our 5th stop in the Amazing Race-Passport to Reading journey. We are learning about Asia’s largest mammal and making toothpaste for them.
URL:https://www.lovemylibrary.ca/event/amazing-race-asia/
LOCATION:Mount Uniacke Library\, 555\, Highway 1\, Mount Uniacke\, Nova Scotia\, Canada
CATEGORIES:Events For Kids,Location: Mount Uniacke
ATTACH;FMTTYPE=image/png:https://www.lovemylibrary.ca/wp-content/uploads/2025/06/Untitled-design-2025-06-14T161618.129.png
END:VEVENT
BEGIN:VEVENT
DTSTART;VALUE=DATE:20250801
DTEND;VALUE=DATE:20260101
DTSTAMP:20260421T192859
CREATED:20250801T181420Z
LAST-MODIFIED:20250801T181504Z
UID:10012468-1754006400-1767225599@www.lovemylibrary.ca
SUMMARY:Offering Wireless Printing
DESCRIPTION:We now offer wireless printing directly from your personal device. Cost for printing services is 0.20 cents per black and white page\, and 0.50 cents per colour page.
URL:https://www.lovemylibrary.ca/event/offering-wireless-printing/
LOCATION:Truro Library\, 754 Prince St\, Truro\, Nova Scotia\, Canada
CATEGORIES:Location: Truro
ATTACH;FMTTYPE=image/png:https://www.lovemylibrary.ca/wp-content/uploads/2025/08/Untitled-design-31.png
END:VEVENT
BEGIN:VEVENT
DTSTART;TZID=America/Halifax:20250801T100000
DTEND;TZID=America/Halifax:20250801T120000
DTSTAMP:20260421T192859
CREATED:20250417T174051Z
LAST-MODIFIED:20260415T173232Z
UID:10012408-1754042400-1754049600@www.lovemylibrary.ca
SUMMARY:One on One Tech Help
DESCRIPTION:Issues with your phone? Laptop? Social Media? Meet in-person with our digital literacy trainer to get your tech questions answered. \nDrop in – please call (902) 883-9838 or email us at elmsdale@cehpubliclibrary.ca for more details.
URL:https://www.lovemylibrary.ca/event/one-on-one-tech-help-7-2-2-2-2/2025-08-01/
LOCATION:Elmsdale Library\, 15 Commerce Ct\, Elmsdale\, Nova Scotia\, Canada
CATEGORIES:Events For Adults,Location: Elmsdale
ATTACH;FMTTYPE=image/png:https://www.lovemylibrary.ca/wp-content/uploads/2022/03/Untitled-design-80.png
END:VEVENT
BEGIN:VEVENT
DTSTART;TZID=America/Halifax:20250801T103000
DTEND;TZID=America/Halifax:20250801T113000
DTSTAMP:20260421T192859
CREATED:20250527T170933Z
LAST-MODIFIED:20251120T190551Z
UID:10012433-1754044200-1754047800@www.lovemylibrary.ca
SUMMARY:Seniors Social Café!
DESCRIPTION:Come in for a coffee or tea and share a story or two with your friends. Light refreshments available. \nThis is a drop-in program. No registration is required.
URL:https://www.lovemylibrary.ca/event/seniors-social-cafe-4/2025-08-01/
LOCATION:Tatamagouche Library\, 170 Main Street\, Tatamagouche\, Nova Scotia\, Canada
CATEGORIES:Events For Seniors,Location: Tatamagouche
ATTACH;FMTTYPE=image/png:https://www.lovemylibrary.ca/wp-content/uploads/2022/08/Untitled-design-6.png
END:VEVENT
BEGIN:VEVENT
DTSTART;TZID=America/Halifax:20250801T110000
DTEND;TZID=America/Halifax:20250801T120000
DTSTAMP:20260421T192859
CREATED:20250614T174429Z
LAST-MODIFIED:20250614T174429Z
UID:10012316-1754046000-1754049600@www.lovemylibrary.ca
SUMMARY:Read-in Hour
DESCRIPTION:Need some peace and quiet to work through your Summer Reading Club books? We’ve got you covered! Join us every week for an SRC check-in and some dedicated reading time! For kids and teens. \nThis is a drop in program. Please call at 902-883-9838 or email us at elmsdale@cehpubliclibrary.ca for more details
URL:https://www.lovemylibrary.ca/event/read-in-hour/2025-08-01/
LOCATION:Elmsdale Library\, 15 Commerce Ct\, Elmsdale\, Nova Scotia\, Canada
CATEGORIES:Events For Kids,Events For Teens,Location: Elmsdale
ATTACH;FMTTYPE=image/png:https://www.lovemylibrary.ca/wp-content/uploads/2025/06/Untitled-design-2025-06-14T144655.122.png
END:VEVENT
BEGIN:VEVENT
DTSTART;TZID=America/Halifax:20250801T130000
DTEND;TZID=America/Halifax:20250801T143000
DTSTAMP:20260421T192859
CREATED:20240916T151310Z
LAST-MODIFIED:20250809T171947Z
UID:10012524-1754053200-1754058600@www.lovemylibrary.ca
SUMMARY:Scrabble Squad
DESCRIPTION:What spells F-U-N? Playing Scrabble with friends! All adults welcome. \nThis is a drop-in program. No registration is required.
URL:https://www.lovemylibrary.ca/event/scrabble-squad-5/2025-08-01/
LOCATION:Stewiacke Library\, 295 George Street\, Stewiacke\, Nova Scotia\, Canada
CATEGORIES:Events For Adults,Events For Seniors,Location: Stewiacke
ATTACH;FMTTYPE=image/png:https://www.lovemylibrary.ca/wp-content/uploads/2022/05/Add-a-subheading-700-×-500-px-3.png
END:VEVENT
BEGIN:VEVENT
DTSTART;TZID=America/Halifax:20250801T130000
DTEND;TZID=America/Halifax:20250801T150000
DTSTAMP:20260421T192859
CREATED:20250614T170342Z
LAST-MODIFIED:20250809T170449Z
UID:10012469-1754053200-1754060400@www.lovemylibrary.ca
SUMMARY:Fun Friday
DESCRIPTION:We will mix it up each Friday. You might enjoy a giant board game\, a sensory shenanigan or some process based art that you aren’t allowed to do at home. Make sure to wear your messy clothes! For ages 3+ \nThis is a drop in program. No registration is required.
URL:https://www.lovemylibrary.ca/event/fun-friday/2025-08-01/
LOCATION:Stewiacke Library\, 295 George Street\, Stewiacke\, Nova Scotia\, Canada
CATEGORIES:Events For Kids,Location: Stewiacke
ATTACH;FMTTYPE=image/png:https://www.lovemylibrary.ca/wp-content/uploads/2025/06/Untitled-design-2025-06-14T140614.096.png
END:VEVENT
BEGIN:VEVENT
DTSTART;TZID=America/Halifax:20250802T100000
DTEND;TZID=America/Halifax:20250802T120000
DTSTAMP:20260421T192859
CREATED:20250705T133726Z
LAST-MODIFIED:20250705T133837Z
UID:10011940-1754128800-1754136000@www.lovemylibrary.ca
SUMMARY:Maker Lab Open Hours
DESCRIPTION:Curious about the Maker Lab? Come on in and explore. Program robots\, create circuits\, build with magnetic tiles\, and more! All ages are welcome \nThis is a drop in program. No registration is required.
URL:https://www.lovemylibrary.ca/event/maker-lab-fun-time-8-2/2025-08-02/
LOCATION:Truro Library\, 754 Prince St\, Truro\, Nova Scotia\, Canada
CATEGORIES:Events For Kids,Location: Truro
ATTACH;FMTTYPE=image/png:https://www.lovemylibrary.ca/wp-content/uploads/2023/09/Untitled-design-2023-09-29T143321.527.png
END:VEVENT
BEGIN:VEVENT
DTSTART;TZID=America/Halifax:20250802T103000
DTEND;TZID=America/Halifax:20250802T110000
DTSTAMP:20260421T192859
CREATED:20241121T154110Z
LAST-MODIFIED:20260415T173841Z
UID:10012413-1754130600-1754132400@www.lovemylibrary.ca
SUMMARY:Toddler Time
DESCRIPTION:Come and enjoy story time at the library. A great way for your little one to make new friends. For children ages 0-2 \nThis is a drop-in program. Please call us at 902-883-9838 or email us at elmsdale@cehpubliclibrary.ca for more details
URL:https://www.lovemylibrary.ca/event/toddler-time-2-2/2025-08-02/
LOCATION:Elmsdale Library\, 15 Commerce Ct\, Elmsdale\, Nova Scotia\, Canada
CATEGORIES:Events For Kids,Location: Elmsdale
ATTACH;FMTTYPE=image/png:https://www.lovemylibrary.ca/wp-content/uploads/2022/03/Untitled-design-75.png
END:VEVENT
BEGIN:VEVENT
DTSTART;TZID=America/Halifax:20250802T140000
DTEND;TZID=America/Halifax:20250802T150000
DTSTAMP:20260421T192859
CREATED:20240916T151848Z
LAST-MODIFIED:20260117T201509Z
UID:10012529-1754143200-1754146800@www.lovemylibrary.ca
SUMMARY:Lego Club
DESCRIPTION:Build\, create\, and explore! Lego Club is the perfect place to let your imagination run wild—one brick at a time. For ages 5-99 \nThis is a drop-in program. No registration is required.
URL:https://www.lovemylibrary.ca/event/lego-club-5-2-2-2/2025-08-02/
LOCATION:Stewiacke Library\, 295 George Street\, Stewiacke\, Nova Scotia\, Canada
CATEGORIES:Events For Kids,Location: Stewiacke
ATTACH;FMTTYPE=image/png:https://www.lovemylibrary.ca/wp-content/uploads/2022/06/Untitled-design-20.png
END:VEVENT
END:VCALENDAR