BEGIN:VCALENDAR
VERSION:2.0
PRODID:-//Colchester East Hants Public Library - ECPv6.15.20//NONSGML v1.0//EN
CALSCALE:GREGORIAN
METHOD:PUBLISH
X-WR-CALNAME:Colchester East Hants Public Library
X-ORIGINAL-URL:https://www.lovemylibrary.ca
X-WR-CALDESC:Events for Colchester East Hants Public Library
REFRESH-INTERVAL;VALUE=DURATION:PT1H
X-Robots-Tag:noindex
X-PUBLISHED-TTL:PT1H
BEGIN:VTIMEZONE
TZID:America/Halifax
BEGIN:DAYLIGHT
TZOFFSETFROM:-0400
TZOFFSETTO:-0300
TZNAME:ADT
DTSTART:20240310T060000
END:DAYLIGHT
BEGIN:STANDARD
TZOFFSETFROM:-0300
TZOFFSETTO:-0400
TZNAME:AST
DTSTART:20241103T050000
END:STANDARD
BEGIN:DAYLIGHT
TZOFFSETFROM:-0400
TZOFFSETTO:-0300
TZNAME:ADT
DTSTART:20250309T060000
END:DAYLIGHT
BEGIN:STANDARD
TZOFFSETFROM:-0300
TZOFFSETTO:-0400
TZNAME:AST
DTSTART:20251102T050000
END:STANDARD
BEGIN:DAYLIGHT
TZOFFSETFROM:-0400
TZOFFSETTO:-0300
TZNAME:ADT
DTSTART:20260308T060000
END:DAYLIGHT
BEGIN:STANDARD
TZOFFSETFROM:-0300
TZOFFSETTO:-0400
TZNAME:AST
DTSTART:20261101T050000
END:STANDARD
END:VTIMEZONE
BEGIN:VEVENT
DTSTART;VALUE=DATE:20250702
DTEND;VALUE=DATE:20250831
DTSTAMP:20260421T181114
CREATED:20250704T180637Z
LAST-MODIFIED:20250704T180637Z
UID:10012393-1751414400-1756598399@www.lovemylibrary.ca
SUMMARY:Read Local Summer 2025: Adult Summer Reading Program
DESCRIPTION:Include NS authors and activities in your summer plans and earn ballots to win a great selection of prizes. Pick up a logbook at our Circulation and 2nd floor Info desks. \nFor adults. No registration required.
URL:https://www.lovemylibrary.ca/event/read-local-summer-2025-adult-summer-reading-program/
LOCATION:Truro Library\, 754 Prince St\, Truro\, Nova Scotia\, Canada
CATEGORIES:Events For Adults,Location: Elmsdale,Location: Mount Uniacke,Location: Stewiacke,Location: Tatamagouche,Location: Truro
ATTACH;FMTTYPE=image/png:https://www.lovemylibrary.ca/wp-content/uploads/2025/07/Read-Local-Summer-2025.png
END:VEVENT
BEGIN:VEVENT
DTSTART;VALUE=DATE:20250712
DTEND;VALUE=DATE:20250826
DTSTAMP:20260421T181114
CREATED:20250704T182531Z
LAST-MODIFIED:20250801T174914Z
UID:10012395-1752278400-1756166399@www.lovemylibrary.ca
SUMMARY:Fragments: An Art Exhibition by Hanna Petrikina
DESCRIPTION:In this series of three paintings\, Hanna Petrikina invites you to step into her lens and experience the world the way she does\, in fragments. Like random objects at a flea market that end up together by chance\, she saw patterns where others saw chaos. A stray piece of overheard folklore\, a desire to intentionally break the standard–that’s where her art begins. \nAll ages. In person. 2nd floor exhibition area. Drop-in.
URL:https://www.lovemylibrary.ca/event/fragments-an-art-exhibition-by-hanna-petrikina/
LOCATION:Truro Library\, 754 Prince St\, Truro\, Nova Scotia\, Canada
CATEGORIES:Events For Adults,Events For Kids,Events For Seniors,Events For Teens,Location: Truro
ATTACH;FMTTYPE=image/png:https://www.lovemylibrary.ca/wp-content/uploads/2025/07/Untitled-design-29.png
END:VEVENT
BEGIN:VEVENT
DTSTART;VALUE=DATE:20250801
DTEND;VALUE=DATE:20260101
DTSTAMP:20260421T181114
CREATED:20250801T181420Z
LAST-MODIFIED:20250801T181504Z
UID:10012468-1754006400-1767225599@www.lovemylibrary.ca
SUMMARY:Offering Wireless Printing
DESCRIPTION:We now offer wireless printing directly from your personal device. Cost for printing services is 0.20 cents per black and white page\, and 0.50 cents per colour page.
URL:https://www.lovemylibrary.ca/event/offering-wireless-printing/
LOCATION:Truro Library\, 754 Prince St\, Truro\, Nova Scotia\, Canada
CATEGORIES:Location: Truro
ATTACH;FMTTYPE=image/png:https://www.lovemylibrary.ca/wp-content/uploads/2025/08/Untitled-design-31.png
END:VEVENT
BEGIN:VEVENT
DTSTART;TZID=America/Halifax:20250811T100000
DTEND;TZID=America/Halifax:20250811T160000
DTSTAMP:20260421T181114
CREATED:20250705T144202Z
LAST-MODIFIED:20250705T144454Z
UID:10012402-1754906400-1754928000@www.lovemylibrary.ca
SUMMARY:Obstacle Course
DESCRIPTION:Bring your little ones in today for some hopping\, balancing\, tip-toeing\, and zig-zagging! All ages are welcome. \nThis is a drop in program. No registration is required.
URL:https://www.lovemylibrary.ca/event/obstacle-course-2/
LOCATION:Truro Library\, 754 Prince St\, Truro\, Nova Scotia\, Canada
CATEGORIES:Events For Kids,Location: Truro
ATTACH;FMTTYPE=image/png:https://www.lovemylibrary.ca/wp-content/uploads/2023/09/Untitled-design-2025-07-05T114510.638.png
END:VEVENT
BEGIN:VEVENT
DTSTART;TZID=America/Halifax:20250811T133000
DTEND;TZID=America/Halifax:20250811T163000
DTSTAMP:20260421T181114
CREATED:20250902T183625Z
LAST-MODIFIED:20260401T152006Z
UID:10012940-1754919000-1754929800@www.lovemylibrary.ca
SUMMARY:Scrabble Group
DESCRIPTION:What spells F-U-N? Playing Scrabble with friends! \nThis is a drop-in event. No registration is required.
URL:https://www.lovemylibrary.ca/event/scrabble-group-6-2-2/2025-08-11/
LOCATION:Truro Library\, 754 Prince St\, Truro\, Nova Scotia\, Canada
CATEGORIES:Events For Adults,Events For Seniors,Location: Truro
ATTACH;FMTTYPE=image/png:https://www.lovemylibrary.ca/wp-content/uploads/2022/05/Add-a-subheading-700-×-500-px-3.png
END:VEVENT
BEGIN:VEVENT
DTSTART;TZID=America/Halifax:20250812T130000
DTEND;TZID=America/Halifax:20250812T143000
DTSTAMP:20260421T181114
CREATED:20250717T182517Z
LAST-MODIFIED:20250717T182517Z
UID:10012455-1755003600-1755009000@www.lovemylibrary.ca
SUMMARY:Summer Book club
DESCRIPTION:A chill book club for young adults to read\, relax\, and connect. We’ll pick one great summer read and meet to chat\, snack\, and share thoughts. No pressure—just good books and good vibes. In partnership with Canadian Mental Health Association. For ages 18-24 \nThis is a drop in program. No registration is required.
URL:https://www.lovemylibrary.ca/event/summer-book-club/2025-08-12/
LOCATION:Tatamagouche Library\, 170 Main Street\, Tatamagouche\, Nova Scotia\, Canada
CATEGORIES:Location: Tatamagouche
ATTACH;FMTTYPE=image/jpeg:https://www.lovemylibrary.ca/wp-content/uploads/2025/07/pexels-cottonbro-4841970-scaled.jpg
END:VEVENT
BEGIN:VEVENT
DTSTART;TZID=America/Halifax:20250812T130000
DTEND;TZID=America/Halifax:20250812T150000
DTSTAMP:20260421T181114
CREATED:20250711T191941Z
LAST-MODIFIED:20250711T191941Z
UID:10012422-1755003600-1755010800@www.lovemylibrary.ca
SUMMARY:Passport to Reading
DESCRIPTION:Are you looking for a new challenge? Trying to find some new books? We’ve got you covered! Journey deep into our shelves and fill out your very own passport to reading! This is a program for children. \nPlease call at 902-883-9838 or email us at elmsdale@cehpubliclibrary.ca for more details
URL:https://www.lovemylibrary.ca/event/passport-to-reading/
LOCATION:Elmsdale Library\, 15 Commerce Ct\, Elmsdale\, Nova Scotia\, Canada
CATEGORIES:Events For Kids,Location: Elmsdale
ATTACH;FMTTYPE=image/png:https://www.lovemylibrary.ca/wp-content/uploads/2025/07/Untitled-design-2025-07-11T162248.277.png
END:VEVENT
BEGIN:VEVENT
DTSTART;TZID=America/Halifax:20250812T150000
DTEND;TZID=America/Halifax:20250812T170000
DTSTAMP:20260421T181114
CREATED:20250419T163700Z
LAST-MODIFIED:20250929T191526Z
UID:10012439-1755010800-1755018000@www.lovemylibrary.ca
SUMMARY:Dungeons and Dragons
DESCRIPTION:“Join us for an epic Dungeons & Dragons game night! Roll dice\, slay monsters\, and embark on thrilling adventures with friends. Whether you’re a seasoned hero or a curious newbie\, there’s a spot for you at the table!” For ages 13-24 \n\nPre-Register in person or by phone: (902) 657-3064\, or email: tatamago@cehpubliclibrary.ca
URL:https://www.lovemylibrary.ca/event/dd-2/2025-08-12/
LOCATION:Tatamagouche Library\, 170 Main Street\, Tatamagouche\, Nova Scotia\, Canada
CATEGORIES:Events For Adults,Events For Teens,Location: Tatamagouche
ATTACH;FMTTYPE=image/png:https://www.lovemylibrary.ca/wp-content/uploads/2024/11/Untitled-design-1.png
END:VEVENT
BEGIN:VEVENT
DTSTART;TZID=America/Halifax:20250812T173000
DTEND;TZID=America/Halifax:20250812T200000
DTSTAMP:20260421T181114
CREATED:20250324T180428Z
LAST-MODIFIED:20250801T174610Z
UID:10012464-1755019800-1755028800@www.lovemylibrary.ca
SUMMARY:Heroes & Adventurers
DESCRIPTION:Role-playing game nights with extraordinary people! We provide the supplies\, you provide the imagination. No experience needed. All welcome! \nRegister to play by emailing: HAATruro@gmail.com Sorry\, no drop-in players at this time.
URL:https://www.lovemylibrary.ca/event/heroes-adventurers-14-2/2025-08-12/
LOCATION:Truro Library\, 754 Prince St\, Truro\, Nova Scotia\, Canada
CATEGORIES:Events For Adults,Events For Kids,Events For Seniors,Events For Teens,Location: Truro
ATTACH;FMTTYPE=image/png:https://www.lovemylibrary.ca/wp-content/uploads/2022/06/D-and-D.png
END:VEVENT
BEGIN:VEVENT
DTSTART;TZID=America/Halifax:20250812T180000
DTEND;TZID=America/Halifax:20250812T193000
DTSTAMP:20260421T181114
CREATED:20250809T172749Z
LAST-MODIFIED:20250809T172749Z
UID:10012532-1755021600-1755027000@www.lovemylibrary.ca
SUMMARY:Simple Science
DESCRIPTION:Use simple household ingredients and bring hidden images to life.. \nAges 3+. In-person. Drop-in: no registration required.
URL:https://www.lovemylibrary.ca/event/simple-science/
LOCATION:Stewiacke Library\, 295 George Street\, Stewiacke\, Nova Scotia\, Canada
CATEGORIES:Events For Kids,Location: Stewiacke
ATTACH;FMTTYPE=image/png:https://www.lovemylibrary.ca/wp-content/uploads/2025/08/Untitled-design-34.png
END:VEVENT
BEGIN:VEVENT
DTSTART;TZID=America/Halifax:20250812T183000
DTEND;TZID=America/Halifax:20250812T193000
DTSTAMP:20260421T181114
CREATED:20250801T175636Z
LAST-MODIFIED:20250801T175723Z
UID:10012467-1755023400-1755027000@www.lovemylibrary.ca
SUMMARY:Artist's Studio
DESCRIPTION:Hanna Petrikina\, the artist behind the exhibit Fragments currently on display on the second floor exhibit area\, invites you to drop in to her open studio! Ask her about her art\, bring your own artworks or sketches to work alongside her\, or receive artistic advice. \nIn-Person\, Drop-In.
URL:https://www.lovemylibrary.ca/event/artists-studio/
LOCATION:Truro Library\, 754 Prince St\, Truro\, Nova Scotia\, Canada
CATEGORIES:Events For Adults,Location: Truro
ATTACH;FMTTYPE=image/png:https://www.lovemylibrary.ca/wp-content/uploads/2025/08/Untitled-design-30.png
END:VEVENT
BEGIN:VEVENT
DTSTART;TZID=America/Halifax:20250812T183000
DTEND;TZID=America/Halifax:20250812T200000
DTSTAMP:20260421T181114
CREATED:20240919T175158Z
LAST-MODIFIED:20260415T142046Z
UID:10012328-1755023400-1755028800@www.lovemylibrary.ca
SUMMARY:Ewe-niacke Yarn Club
DESCRIPTION:Fiber art for all ages and abilities. Learn to knit or crochet\, bring a project you are working on\, or just come hang out with the club for some social time. All ages welcome. \nDrop in\, no registration required.
URL:https://www.lovemylibrary.ca/event/ewe-niacke-yarn-club-3-2-2-2/2025-08-12/
LOCATION:Mount Uniacke Library\, 555\, Highway 1\, Mount Uniacke\, Nova Scotia\, Canada
CATEGORIES:Crafting,Events For Adults,Events For Kids,Events For Seniors,Location: Mount Uniacke
ATTACH;FMTTYPE=image/png:https://www.lovemylibrary.ca/wp-content/uploads/2022/03/Untitled-design-89.png
END:VEVENT
BEGIN:VEVENT
DTSTART;TZID=America/Halifax:20250813T103000
DTEND;TZID=America/Halifax:20250813T113000
DTSTAMP:20260421T181114
CREATED:20250121T174225Z
LAST-MODIFIED:20251216T233710Z
UID:10012423-1755081000-1755084600@www.lovemylibrary.ca
SUMMARY:Storytime
DESCRIPTION:Join us for a fun-filled story time at the library! There will be stories\, maybe a song or two along with a craft. Ages 2 – 4. \nIn person\, drop in. Please call (902) 883-9838 or email us at elmsdale@cehpubliclibrary.ca for more details.\n 
URL:https://www.lovemylibrary.ca/event/storytime-11/2025-08-13/
LOCATION:Elmsdale Library\, 15 Commerce Ct\, Elmsdale\, Nova Scotia\, Canada
CATEGORIES:Events For Kids,Location: Elmsdale
ATTACH;FMTTYPE=image/png:https://www.lovemylibrary.ca/wp-content/uploads/2024/12/Untitled-design.png
END:VEVENT
BEGIN:VEVENT
DTSTART;TZID=America/Halifax:20250813T103000
DTEND;TZID=America/Halifax:20250813T120000
DTSTAMP:20260421T181114
CREATED:20250705T134756Z
LAST-MODIFIED:20250705T134756Z
UID:10012401-1755081000-1755086400@www.lovemylibrary.ca
SUMMARY:Summer Reading Tent
DESCRIPTION:Need some extra time to reach your Summer Reading Club goal? Join us and our friends from United for Literacy under the reading tent. Hear stories or read on your own\, play literacy games\, and more! For ages 3-12 \nLocation: Civic Square. In the case of rain\, the event will take place inside the library.
URL:https://www.lovemylibrary.ca/event/summer-reading-tent/2025-08-13/
LOCATION:Truro Library\, 754 Prince St\, Truro\, Nova Scotia\, Canada
CATEGORIES:Events For Kids,Location: Truro
ATTACH;FMTTYPE=image/png:https://www.lovemylibrary.ca/wp-content/uploads/2025/07/Untitled-design-2025-07-05T105024.674.png
END:VEVENT
BEGIN:VEVENT
DTSTART;VALUE=DATE:20250814
DTEND;VALUE=DATE:20250815
DTSTAMP:20260421T181114
CREATED:20240516T194257Z
LAST-MODIFIED:20250711T192421Z
UID:10008240-1755129600-1755215999@www.lovemylibrary.ca
SUMMARY:Game Day
DESCRIPTION:Get your game on! Visit us at the library to play some board games and more! This is your chance to play some old favourites or learn a new one. Bring your friends! All ages \nThis is a drop in program. Please call at 902-883-9838 or email us at elmsdale@cehpubliclibrary.ca for more details
URL:https://www.lovemylibrary.ca/event/game-day-4/
LOCATION:Elmsdale Library\, 15 Commerce Ct\, Elmsdale\, Nova Scotia\, Canada
CATEGORIES:Events For Kids,Location: Elmsdale
ATTACH;FMTTYPE=image/png:https://www.lovemylibrary.ca/wp-content/uploads/2023/08/Untitled-design-97.png
END:VEVENT
BEGIN:VEVENT
DTSTART;TZID=America/Halifax:20250814T100000
DTEND;TZID=America/Halifax:20250814T120000
DTSTAMP:20260421T181114
CREATED:20250809T173207Z
LAST-MODIFIED:20250809T173257Z
UID:10012533-1755165600-1755172800@www.lovemylibrary.ca
SUMMARY:Squirt Gun Tie Dye Shirts
DESCRIPTION:It will be exactly as it sounds in the title. It will be messy\, so don’t wear anything you want to keep clean. \n*While supplies last. \nAges 5+. In Person. Drop-In: no registration required.
URL:https://www.lovemylibrary.ca/event/squirt-gun-tie-dye-shirts/
LOCATION:Stewiacke Library\, 295 George Street\, Stewiacke\, Nova Scotia\, Canada
CATEGORIES:Events For Kids,Events For Teens,Location: Stewiacke
ATTACH;FMTTYPE=image/png:https://www.lovemylibrary.ca/wp-content/uploads/2025/08/Untitled-design-35.png
END:VEVENT
BEGIN:VEVENT
DTSTART;TZID=America/Halifax:20250814T140000
DTEND;TZID=America/Halifax:20250814T150000
DTSTAMP:20260421T181114
CREATED:20250717T143934Z
LAST-MODIFIED:20250717T143934Z
UID:10012442-1755180000-1755183600@www.lovemylibrary.ca
SUMMARY:SRC summer end party
DESCRIPTION:Celebrate the end of summer with games\, snacks\, fun for the whole family! Join us for one last hoorah before the school year begins. For ages 3-14 \nThis is a drop in program. No registration is required.
URL:https://www.lovemylibrary.ca/event/src-summer-end-party/
LOCATION:Tatamagouche Library\, 170 Main Street\, Tatamagouche\, Nova Scotia\, Canada
CATEGORIES:Events For Kids,Location: Tatamagouche
ATTACH;FMTTYPE=image/png:https://www.lovemylibrary.ca/wp-content/uploads/2025/07/Untitled-design-2025-07-17T114247.515.png
END:VEVENT
BEGIN:VEVENT
DTSTART;TZID=America/Halifax:20250814T150000
DTEND;TZID=America/Halifax:20250814T153000
DTSTAMP:20260421T181114
CREATED:20250614T192000Z
LAST-MODIFIED:20250614T192000Z
UID:10012348-1755183600-1755185400@www.lovemylibrary.ca
SUMMARY:Amazing Race- Africa
DESCRIPTION:Our final stop in the Amazing Race- Passport to Reading is the continent of Africa. We are going to learn how to make and play a very old board game.
URL:https://www.lovemylibrary.ca/event/amazing-race-africa/
LOCATION:Mount Uniacke Library\, 555\, Highway 1\, Mount Uniacke\, Nova Scotia\, Canada
ATTACH;FMTTYPE=image/png:https://www.lovemylibrary.ca/wp-content/uploads/2025/06/Untitled-design-2025-06-14T161618.129.png
END:VEVENT
BEGIN:VEVENT
DTSTART;TZID=America/Halifax:20250815T100000
DTEND;TZID=America/Halifax:20250815T120000
DTSTAMP:20260421T181114
CREATED:20250417T174051Z
LAST-MODIFIED:20260415T173232Z
UID:10012410-1755252000-1755259200@www.lovemylibrary.ca
SUMMARY:One on One Tech Help
DESCRIPTION:Issues with your phone? Laptop? Social Media? Meet in-person with our digital literacy trainer to get your tech questions answered. \nDrop in – please call (902) 883-9838 or email us at elmsdale@cehpubliclibrary.ca for more details.
URL:https://www.lovemylibrary.ca/event/one-on-one-tech-help-7-2-2-2-2/2025-08-15/
LOCATION:Elmsdale Library\, 15 Commerce Ct\, Elmsdale\, Nova Scotia\, Canada
CATEGORIES:Events For Adults,Location: Elmsdale
ATTACH;FMTTYPE=image/png:https://www.lovemylibrary.ca/wp-content/uploads/2022/03/Untitled-design-80.png
END:VEVENT
BEGIN:VEVENT
DTSTART;TZID=America/Halifax:20250815T103000
DTEND;TZID=America/Halifax:20250815T113000
DTSTAMP:20260421T181114
CREATED:20250527T170933Z
LAST-MODIFIED:20251120T190551Z
UID:10012434-1755253800-1755257400@www.lovemylibrary.ca
SUMMARY:Seniors Social Café!
DESCRIPTION:Come in for a coffee or tea and share a story or two with your friends. Light refreshments available. \nThis is a drop-in program. No registration is required.
URL:https://www.lovemylibrary.ca/event/seniors-social-cafe-4/2025-08-15/
LOCATION:Tatamagouche Library\, 170 Main Street\, Tatamagouche\, Nova Scotia\, Canada
CATEGORIES:Events For Seniors,Location: Tatamagouche
ATTACH;FMTTYPE=image/png:https://www.lovemylibrary.ca/wp-content/uploads/2022/08/Untitled-design-6.png
END:VEVENT
BEGIN:VEVENT
DTSTART;TZID=America/Halifax:20250815T110000
DTEND;TZID=America/Halifax:20250815T120000
DTSTAMP:20260421T181114
CREATED:20250614T174429Z
LAST-MODIFIED:20250614T174429Z
UID:10012318-1755255600-1755259200@www.lovemylibrary.ca
SUMMARY:Read-in Hour
DESCRIPTION:Need some peace and quiet to work through your Summer Reading Club books? We’ve got you covered! Join us every week for an SRC check-in and some dedicated reading time! For kids and teens. \nThis is a drop in program. Please call at 902-883-9838 or email us at elmsdale@cehpubliclibrary.ca for more details
URL:https://www.lovemylibrary.ca/event/read-in-hour/2025-08-15/
LOCATION:Elmsdale Library\, 15 Commerce Ct\, Elmsdale\, Nova Scotia\, Canada
CATEGORIES:Events For Kids,Events For Teens,Location: Elmsdale
ATTACH;FMTTYPE=image/png:https://www.lovemylibrary.ca/wp-content/uploads/2025/06/Untitled-design-2025-06-14T144655.122.png
END:VEVENT
BEGIN:VEVENT
DTSTART;TZID=America/Halifax:20250815T130000
DTEND;TZID=America/Halifax:20250815T150000
DTSTAMP:20260421T181114
CREATED:20250614T170342Z
LAST-MODIFIED:20250809T170449Z
UID:10012471-1755262800-1755270000@www.lovemylibrary.ca
SUMMARY:Fun Friday
DESCRIPTION:We will mix it up each Friday. You might enjoy a giant board game\, a sensory shenanigan or some process based art that you aren’t allowed to do at home. Make sure to wear your messy clothes! For ages 3+ \nThis is a drop in program. No registration is required.
URL:https://www.lovemylibrary.ca/event/fun-friday/2025-08-15/
LOCATION:Stewiacke Library\, 295 George Street\, Stewiacke\, Nova Scotia\, Canada
CATEGORIES:Events For Kids,Location: Stewiacke
ATTACH;FMTTYPE=image/png:https://www.lovemylibrary.ca/wp-content/uploads/2025/06/Untitled-design-2025-06-14T140614.096.png
END:VEVENT
BEGIN:VEVENT
DTSTART;VALUE=DATE:20250816
DTEND;VALUE=DATE:20250817
DTSTAMP:20260421T181114
CREATED:20240717T171247Z
LAST-MODIFIED:20250813T173914Z
UID:10009071-1755302400-1755388799@www.lovemylibrary.ca
SUMMARY:Summer Reading Party
DESCRIPTION:We’re closing out the summer reading program with a big bang! Come in collect your prizes\, fill out your ballots\, and enjoy some fun activities and snacks. For children and teens. \nThis is a drop in program. Registration is not required. Please call 902-883-9838 or email us at elmsdale@cehpubliclibrary.ca for more details
URL:https://www.lovemylibrary.ca/event/summer-reading-party/
LOCATION:Elmsdale Library\, 15 Commerce Ct\, Elmsdale\, Nova Scotia\, Canada
CATEGORIES:Events For Kids,Events For Teens,Location: Elmsdale
ATTACH;FMTTYPE=image/png:https://www.lovemylibrary.ca/wp-content/uploads/2025/06/Untitled-design-2025-06-13T163806.731.png
END:VEVENT
BEGIN:VEVENT
DTSTART;TZID=America/Halifax:20250816T100000
DTEND;TZID=America/Halifax:20250816T120000
DTSTAMP:20260421T181114
CREATED:20250705T133726Z
LAST-MODIFIED:20250705T133837Z
UID:10012398-1755338400-1755345600@www.lovemylibrary.ca
SUMMARY:Maker Lab Open Hours
DESCRIPTION:Curious about the Maker Lab? Come on in and explore. Program robots\, create circuits\, build with magnetic tiles\, and more! All ages are welcome \nThis is a drop in program. No registration is required.
URL:https://www.lovemylibrary.ca/event/maker-lab-fun-time-8-2/2025-08-16/
LOCATION:Truro Library\, 754 Prince St\, Truro\, Nova Scotia\, Canada
CATEGORIES:Events For Kids,Location: Truro
ATTACH;FMTTYPE=image/png:https://www.lovemylibrary.ca/wp-content/uploads/2023/09/Untitled-design-2023-09-29T143321.527.png
END:VEVENT
BEGIN:VEVENT
DTSTART;TZID=America/Halifax:20250816T103000
DTEND;TZID=America/Halifax:20250816T110000
DTSTAMP:20260421T181115
CREATED:20241121T154110Z
LAST-MODIFIED:20260415T173841Z
UID:10012414-1755340200-1755342000@www.lovemylibrary.ca
SUMMARY:Toddler Time
DESCRIPTION:Come and enjoy story time at the library. A great way for your little one to make new friends. For children ages 0-2 \nThis is a drop-in program. Please call us at 902-883-9838 or email us at elmsdale@cehpubliclibrary.ca for more details
URL:https://www.lovemylibrary.ca/event/toddler-time-2-2/2025-08-16/
LOCATION:Elmsdale Library\, 15 Commerce Ct\, Elmsdale\, Nova Scotia\, Canada
CATEGORIES:Events For Kids,Location: Elmsdale
ATTACH;FMTTYPE=image/png:https://www.lovemylibrary.ca/wp-content/uploads/2022/03/Untitled-design-75.png
END:VEVENT
BEGIN:VEVENT
DTSTART;TZID=America/Halifax:20250816T140000
DTEND;TZID=America/Halifax:20250816T150000
DTSTAMP:20260421T181115
CREATED:20240916T151848Z
LAST-MODIFIED:20260117T201509Z
UID:10012530-1755352800-1755356400@www.lovemylibrary.ca
SUMMARY:Lego Club
DESCRIPTION:Build\, create\, and explore! Lego Club is the perfect place to let your imagination run wild—one brick at a time. For ages 5-99 \nThis is a drop-in program. No registration is required.
URL:https://www.lovemylibrary.ca/event/lego-club-5-2-2-2/2025-08-16/
LOCATION:Stewiacke Library\, 295 George Street\, Stewiacke\, Nova Scotia\, Canada
CATEGORIES:Events For Kids,Location: Stewiacke
ATTACH;FMTTYPE=image/png:https://www.lovemylibrary.ca/wp-content/uploads/2022/06/Untitled-design-20.png
END:VEVENT
BEGIN:VEVENT
DTSTART;TZID=America/Halifax:20250816T150000
DTEND;TZID=America/Halifax:20250816T160000
DTSTAMP:20260421T181115
CREATED:20250809T173605Z
LAST-MODIFIED:20250809T173605Z
UID:10012534-1755356400-1755360000@www.lovemylibrary.ca
SUMMARY:SCR Wrap Up Party
DESCRIPTION:Craft and snack as we reminisce about the fun we had at SRC in 2025. \nAll Ages. In Person. Drop in: no registration necessary.
URL:https://www.lovemylibrary.ca/event/scr-wrap-up-party/
LOCATION:Stewiacke Library\, 295 George Street\, Stewiacke\, Nova Scotia\, Canada
CATEGORIES:Events For Kids,Location: Stewiacke
ATTACH;FMTTYPE=image/png:https://www.lovemylibrary.ca/wp-content/uploads/2025/08/Untitled-design-2025-07-17T114247.515.png
END:VEVENT
END:VCALENDAR