BEGIN:VCALENDAR
VERSION:2.0
PRODID:-//Colchester East Hants Public Library - ECPv6.15.20//NONSGML v1.0//EN
CALSCALE:GREGORIAN
METHOD:PUBLISH
X-ORIGINAL-URL:https://www.lovemylibrary.ca
X-WR-CALDESC:Events for Colchester East Hants Public Library
REFRESH-INTERVAL;VALUE=DURATION:PT1H
X-Robots-Tag:noindex
X-PUBLISHED-TTL:PT1H
BEGIN:VTIMEZONE
TZID:America/Halifax
BEGIN:DAYLIGHT
TZOFFSETFROM:-0400
TZOFFSETTO:-0300
TZNAME:ADT
DTSTART:20240310T060000
END:DAYLIGHT
BEGIN:STANDARD
TZOFFSETFROM:-0300
TZOFFSETTO:-0400
TZNAME:AST
DTSTART:20241103T050000
END:STANDARD
BEGIN:DAYLIGHT
TZOFFSETFROM:-0400
TZOFFSETTO:-0300
TZNAME:ADT
DTSTART:20250309T060000
END:DAYLIGHT
BEGIN:STANDARD
TZOFFSETFROM:-0300
TZOFFSETTO:-0400
TZNAME:AST
DTSTART:20251102T050000
END:STANDARD
BEGIN:DAYLIGHT
TZOFFSETFROM:-0400
TZOFFSETTO:-0300
TZNAME:ADT
DTSTART:20260308T060000
END:DAYLIGHT
BEGIN:STANDARD
TZOFFSETFROM:-0300
TZOFFSETTO:-0400
TZNAME:AST
DTSTART:20261101T050000
END:STANDARD
END:VTIMEZONE
BEGIN:VEVENT
DTSTART;VALUE=DATE:20250702
DTEND;VALUE=DATE:20250831
DTSTAMP:20260421T193220
CREATED:20250704T180637Z
LAST-MODIFIED:20250704T180637Z
UID:10012393-1751414400-1756598399@www.lovemylibrary.ca
SUMMARY:Read Local Summer 2025: Adult Summer Reading Program
DESCRIPTION:Include NS authors and activities in your summer plans and earn ballots to win a great selection of prizes. Pick up a logbook at our Circulation and 2nd floor Info desks. \nFor adults. No registration required.
URL:https://www.lovemylibrary.ca/event/read-local-summer-2025-adult-summer-reading-program/
LOCATION:Truro Library\, 754 Prince St\, Truro\, Nova Scotia\, Canada
CATEGORIES:Events For Adults,Location: Elmsdale,Location: Mount Uniacke,Location: Stewiacke,Location: Tatamagouche,Location: Truro
ATTACH;FMTTYPE=image/png:https://www.lovemylibrary.ca/wp-content/uploads/2025/07/Read-Local-Summer-2025.png
END:VEVENT
BEGIN:VEVENT
DTSTART;VALUE=DATE:20250712
DTEND;VALUE=DATE:20250826
DTSTAMP:20260421T193220
CREATED:20250704T182531Z
LAST-MODIFIED:20250801T174914Z
UID:10012395-1752278400-1756166399@www.lovemylibrary.ca
SUMMARY:Fragments: An Art Exhibition by Hanna Petrikina
DESCRIPTION:In this series of three paintings\, Hanna Petrikina invites you to step into her lens and experience the world the way she does\, in fragments. Like random objects at a flea market that end up together by chance\, she saw patterns where others saw chaos. A stray piece of overheard folklore\, a desire to intentionally break the standard–that’s where her art begins. \nAll ages. In person. 2nd floor exhibition area. Drop-in.
URL:https://www.lovemylibrary.ca/event/fragments-an-art-exhibition-by-hanna-petrikina/
LOCATION:Truro Library\, 754 Prince St\, Truro\, Nova Scotia\, Canada
CATEGORIES:Events For Adults,Events For Kids,Events For Seniors,Events For Teens,Location: Truro
ATTACH;FMTTYPE=image/png:https://www.lovemylibrary.ca/wp-content/uploads/2025/07/Untitled-design-29.png
END:VEVENT
BEGIN:VEVENT
DTSTART;VALUE=DATE:20250801
DTEND;VALUE=DATE:20260101
DTSTAMP:20260421T193220
CREATED:20250801T181420Z
LAST-MODIFIED:20250801T181504Z
UID:10012468-1754006400-1767225599@www.lovemylibrary.ca
SUMMARY:Offering Wireless Printing
DESCRIPTION:We now offer wireless printing directly from your personal device. Cost for printing services is 0.20 cents per black and white page\, and 0.50 cents per colour page.
URL:https://www.lovemylibrary.ca/event/offering-wireless-printing/
LOCATION:Truro Library\, 754 Prince St\, Truro\, Nova Scotia\, Canada
CATEGORIES:Location: Truro
ATTACH;FMTTYPE=image/png:https://www.lovemylibrary.ca/wp-content/uploads/2025/08/Untitled-design-31.png
END:VEVENT
BEGIN:VEVENT
DTSTART;TZID=America/Halifax:20250818T133000
DTEND;TZID=America/Halifax:20250818T163000
DTSTAMP:20260421T193220
CREATED:20250902T183625Z
LAST-MODIFIED:20260401T152006Z
UID:10012941-1755523800-1755534600@www.lovemylibrary.ca
SUMMARY:Scrabble Group
DESCRIPTION:What spells F-U-N? Playing Scrabble with friends! \nThis is a drop-in event. No registration is required.
URL:https://www.lovemylibrary.ca/event/scrabble-group-6-2-2/2025-08-18/
LOCATION:Truro Library\, 754 Prince St\, Truro\, Nova Scotia\, Canada
CATEGORIES:Events For Adults,Events For Seniors,Location: Truro
ATTACH;FMTTYPE=image/png:https://www.lovemylibrary.ca/wp-content/uploads/2022/05/Add-a-subheading-700-×-500-px-3.png
END:VEVENT
BEGIN:VEVENT
DTSTART;TZID=America/Halifax:20250819T103000
DTEND;TZID=America/Halifax:20250819T113000
DTSTAMP:20260421T193220
CREATED:20250616T184635Z
LAST-MODIFIED:20250801T135455Z
UID:10012365-1755599400-1755603000@www.lovemylibrary.ca
SUMMARY:Scientists in School: Things that Fly
DESCRIPTION:Have you ever wished you could fly like a bird or hover like a dragonfly? Let’s explore all the extraordinary animals that fly. Learn about birds by identifying their unique calls.  Analyze the characteristics of different insect wings. Mimic how animals soar by experimenting with a glider. Create a butterfly and discover how they move their bodies. Join us as we investigate the many wonderful creatures with wings. For ages 4-12 \nThis program was set to run on July 29th\, but has been rescheduled to August 19th. To register – email info@cehpubliclibrary.ca
URL:https://www.lovemylibrary.ca/event/scientists-in-school-things-that-fly/
LOCATION:Truro Library\, 754 Prince St\, Truro\, Nova Scotia\, Canada
CATEGORIES:Events For Kids,Location: Truro
ATTACH;FMTTYPE=image/png:https://www.lovemylibrary.ca/wp-content/uploads/2025/06/Untitled-design-2025-06-16T154908.432.png
END:VEVENT
BEGIN:VEVENT
DTSTART;TZID=America/Halifax:20250819T103000
DTEND;TZID=America/Halifax:20250819T113000
DTSTAMP:20260421T193220
CREATED:20250717T144628Z
LAST-MODIFIED:20250809T142904Z
UID:10012443-1755599400-1755603000@www.lovemylibrary.ca
SUMMARY:Sing & Shine with Julia Tynes – A Celebration of Pop\, Soul & Rock & Roll!
DESCRIPTION:Join award-winning African Nova Scotian singer-songwriter and entertainer Julia Tynes for an interactive music experience full of singing\, learning\, and joyful expression. With her signature energy and soulful vocals\, Julia leads children and families on a musical journey through classics like “Rockin’ Robin\,” kid-friendly Motown hits\, and today’s pop anthems by artists like Taylor Swift and Bruno Mars. Participants are invited to clap along\, move their bodies\, and sing out loud as they explore melody\, groove\, and performance. \nThis vibrant program introduces audiences to the rich cultural roots of pop through soul\, jazz\, and rock and roll\, while celebrating the lasting contributions of Black artists throughout history. Julia also shares a few of her own original songs and stories\, empowering everyone to use their voices and build confidence through music. Whether you’re a toddler\, a tween\, or just young at heart\, come ready to sing\, dance\, and shine! \nThis is a drop in program. No registration is required.
URL:https://www.lovemylibrary.ca/event/sing-shine-with-julia-tynes-a-celebration-of-pop-soul-rock-roll/
LOCATION:Elmsdale Library\, 15 Commerce Ct\, Elmsdale\, Nova Scotia\, Canada
CATEGORIES:Location: Elmsdale
ATTACH;FMTTYPE=image/png:https://www.lovemylibrary.ca/wp-content/uploads/2025/07/Untitled-design-2025-07-05T124552.980.png
END:VEVENT
BEGIN:VEVENT
DTSTART;TZID=America/Halifax:20250819T130000
DTEND;TZID=America/Halifax:20250819T143000
DTSTAMP:20260421T193220
CREATED:20250717T182517Z
LAST-MODIFIED:20250717T182517Z
UID:10012456-1755608400-1755613800@www.lovemylibrary.ca
SUMMARY:Summer Book club
DESCRIPTION:A chill book club for young adults to read\, relax\, and connect. We’ll pick one great summer read and meet to chat\, snack\, and share thoughts. No pressure—just good books and good vibes. In partnership with Canadian Mental Health Association. For ages 18-24 \nThis is a drop in program. No registration is required.
URL:https://www.lovemylibrary.ca/event/summer-book-club/2025-08-19/
LOCATION:Tatamagouche Library\, 170 Main Street\, Tatamagouche\, Nova Scotia\, Canada
CATEGORIES:Location: Tatamagouche
ATTACH;FMTTYPE=image/jpeg:https://www.lovemylibrary.ca/wp-content/uploads/2025/07/pexels-cottonbro-4841970-scaled.jpg
END:VEVENT
BEGIN:VEVENT
DTSTART;TZID=America/Halifax:20250819T130000
DTEND;TZID=America/Halifax:20250819T150000
DTSTAMP:20260421T193220
CREATED:20250711T190741Z
LAST-MODIFIED:20250711T193218Z
UID:10012427-1755608400-1755615600@www.lovemylibrary.ca
SUMMARY:Craft Time
DESCRIPTION:SchoolsPlus is visiting the library and they have a fun craft for you to make. Come on in out of the hot sun and have some fun! \nThis is a drop in program. Please call at 902-883-9838 or email us at elmsdale@cehpubliclibrary.ca for more details
URL:https://www.lovemylibrary.ca/event/craft-time/2025-08-19/
LOCATION:Elmsdale Library\, 15 Commerce Ct\, Elmsdale\, Nova Scotia\, Canada
CATEGORIES:Location: Elmsdale
ATTACH;FMTTYPE=image/png:https://www.lovemylibrary.ca/wp-content/uploads/2023/11/Untitled-design-57.png
END:VEVENT
BEGIN:VEVENT
DTSTART;TZID=America/Halifax:20250819T140000
DTEND;TZID=America/Halifax:20250819T150000
DTSTAMP:20260421T193220
CREATED:20250717T144733Z
LAST-MODIFIED:20250717T144733Z
UID:10012444-1755612000-1755615600@www.lovemylibrary.ca
SUMMARY:Sing & Shine with Julia Tynes – A Celebration of Pop\, Soul & Rock & Roll!
DESCRIPTION:Join award-winning African Nova Scotian singer-songwriter and entertainer Julia Tynes for an interactive music experience full of singing\, learning\, and joyful expression. With her signature energy and soulful vocals\, Julia leads children and families on a musical journey through classics like “Rockin’ Robin\,” kid-friendly Motown hits\, and today’s pop anthems by artists like Taylor Swift and Bruno Mars. Participants are invited to clap along\, move their bodies\, and sing out loud as they explore melody\, groove\, and performance. \nThis vibrant program introduces audiences to the rich cultural roots of pop through soul\, jazz\, and rock and roll\, while celebrating the lasting contributions of Black artists throughout history. Julia also shares a few of her own original songs and stories\, empowering everyone to use their voices and build confidence through music. Whether you’re a toddler\, a tween\, or just young at heart\, come ready to sing\, dance\, and shine! \nThis is a drop in program. No registration is required.
URL:https://www.lovemylibrary.ca/event/sing-shine-with-julia-tynes-a-celebration-of-pop-soul-rock-roll-2/
LOCATION:Mount Uniacke Library\, 555\, Highway 1\, Mount Uniacke\, Nova Scotia\, Canada
CATEGORIES:Location: Mount Uniacke
ATTACH;FMTTYPE=image/png:https://www.lovemylibrary.ca/wp-content/uploads/2025/07/Untitled-design-2025-07-05T124552.980.png
END:VEVENT
BEGIN:VEVENT
DTSTART;TZID=America/Halifax:20250819T150000
DTEND;TZID=America/Halifax:20250819T170000
DTSTAMP:20260421T193220
CREATED:20250419T163700Z
LAST-MODIFIED:20250929T191526Z
UID:10012440-1755615600-1755622800@www.lovemylibrary.ca
SUMMARY:Dungeons and Dragons
DESCRIPTION:“Join us for an epic Dungeons & Dragons game night! Roll dice\, slay monsters\, and embark on thrilling adventures with friends. Whether you’re a seasoned hero or a curious newbie\, there’s a spot for you at the table!” For ages 13-24 \n\nPre-Register in person or by phone: (902) 657-3064\, or email: tatamago@cehpubliclibrary.ca
URL:https://www.lovemylibrary.ca/event/dd-2/2025-08-19/
LOCATION:Tatamagouche Library\, 170 Main Street\, Tatamagouche\, Nova Scotia\, Canada
CATEGORIES:Events For Adults,Events For Teens,Location: Tatamagouche
ATTACH;FMTTYPE=image/png:https://www.lovemylibrary.ca/wp-content/uploads/2024/11/Untitled-design-1.png
END:VEVENT
BEGIN:VEVENT
DTSTART;TZID=America/Halifax:20250819T173000
DTEND;TZID=America/Halifax:20250819T200000
DTSTAMP:20260421T193220
CREATED:20250324T180428Z
LAST-MODIFIED:20250801T174610Z
UID:10012465-1755624600-1755633600@www.lovemylibrary.ca
SUMMARY:Heroes & Adventurers
DESCRIPTION:Role-playing game nights with extraordinary people! We provide the supplies\, you provide the imagination. No experience needed. All welcome! \nRegister to play by emailing: HAATruro@gmail.com Sorry\, no drop-in players at this time.
URL:https://www.lovemylibrary.ca/event/heroes-adventurers-14-2/2025-08-19/
LOCATION:Truro Library\, 754 Prince St\, Truro\, Nova Scotia\, Canada
CATEGORIES:Events For Adults,Events For Kids,Events For Seniors,Events For Teens,Location: Truro
ATTACH;FMTTYPE=image/png:https://www.lovemylibrary.ca/wp-content/uploads/2022/06/D-and-D.png
END:VEVENT
BEGIN:VEVENT
DTSTART;TZID=America/Halifax:20250819T183000
DTEND;TZID=America/Halifax:20250819T200000
DTSTAMP:20260421T193220
CREATED:20240919T175158Z
LAST-MODIFIED:20260415T142046Z
UID:10012329-1755628200-1755633600@www.lovemylibrary.ca
SUMMARY:Ewe-niacke Yarn Club
DESCRIPTION:Fiber art for all ages and abilities. Learn to knit or crochet\, bring a project you are working on\, or just come hang out with the club for some social time. All ages welcome. \nDrop in\, no registration required.
URL:https://www.lovemylibrary.ca/event/ewe-niacke-yarn-club-3-2-2-2/2025-08-19/
LOCATION:Mount Uniacke Library\, 555\, Highway 1\, Mount Uniacke\, Nova Scotia\, Canada
CATEGORIES:Crafting,Events For Adults,Events For Kids,Events For Seniors,Location: Mount Uniacke
ATTACH;FMTTYPE=image/png:https://www.lovemylibrary.ca/wp-content/uploads/2022/03/Untitled-design-89.png
END:VEVENT
BEGIN:VEVENT
DTSTART;TZID=America/Halifax:20250820T103000
DTEND;TZID=America/Halifax:20250820T113000
DTSTAMP:20260421T193220
CREATED:20250523T194134Z
LAST-MODIFIED:20251120T190650Z
UID:10012437-1755685800-1755689400@www.lovemylibrary.ca
SUMMARY:Parents and Tots Story Time and Crafts
DESCRIPTION:Come along and enjoy an hour of fun filled story time and craft.  For ages 0+ \nDrop-in\, no registration required.
URL:https://www.lovemylibrary.ca/event/tots-and-moms-social-time-3-2-2-2-2-2/2025-08-20/
LOCATION:Tatamagouche Library\, 170 Main Street\, Tatamagouche\, Nova Scotia\, Canada
CATEGORIES:Events For Kids,Location: Tatamagouche
ATTACH;FMTTYPE=image/png:https://www.lovemylibrary.ca/wp-content/uploads/2022/03/Untitled-design-75.png
END:VEVENT
BEGIN:VEVENT
DTSTART;TZID=America/Halifax:20250820T110000
DTEND;TZID=America/Halifax:20250820T120000
DTSTAMP:20260421T193220
CREATED:20250717T144849Z
LAST-MODIFIED:20250717T144849Z
UID:10012445-1755687600-1755691200@www.lovemylibrary.ca
SUMMARY:Sing & Shine with Julia Tynes – A Celebration of Pop\, Soul & Rock & Roll!
DESCRIPTION:Join award-winning African Nova Scotian singer-songwriter and entertainer Julia Tynes for an interactive music experience full of singing\, learning\, and joyful expression. With her signature energy and soulful vocals\, Julia leads children and families on a musical journey through classics like “Rockin’ Robin\,” kid-friendly Motown hits\, and today’s pop anthems by artists like Taylor Swift and Bruno Mars. Participants are invited to clap along\, move their bodies\, and sing out loud as they explore melody\, groove\, and performance. \nThis vibrant program introduces audiences to the rich cultural roots of pop through soul\, jazz\, and rock and roll\, while celebrating the lasting contributions of Black artists throughout history. Julia also shares a few of her own original songs and stories\, empowering everyone to use their voices and build confidence through music. Whether you’re a toddler\, a tween\, or just young at heart\, come ready to sing\, dance\, and shine! \nThis is a drop in program. No registration is required.
URL:https://www.lovemylibrary.ca/event/sing-shine-with-julia-tynes-a-celebration-of-pop-soul-rock-roll-3/
LOCATION:Tatamagouche Library\, 170 Main Street\, Tatamagouche\, Nova Scotia\, Canada
CATEGORIES:Location: Tatamagouche
ATTACH;FMTTYPE=image/png:https://www.lovemylibrary.ca/wp-content/uploads/2025/07/Untitled-design-2025-07-05T124552.980.png
END:VEVENT
BEGIN:VEVENT
DTSTART;TZID=America/Halifax:20250820T140000
DTEND;TZID=America/Halifax:20250820T160000
DTSTAMP:20260421T193220
CREATED:20250417T181643Z
LAST-MODIFIED:20260415T173925Z
UID:10012236-1755698400-1755705600@www.lovemylibrary.ca
SUMMARY:Social Café
DESCRIPTION:Are you retired\, new to the area\, or just looking to connect with some new people? We would love to see you and welcome you to the library! Light refreshments available. \nIn person\, drop in. For more details call us at (902) 883-9838 or email us at elmsdale@cehpubliclibrary.ca
URL:https://www.lovemylibrary.ca/event/social-cafe-5/2025-08-20/
LOCATION:Elmsdale Library\, 15 Commerce Ct\, Elmsdale\, Nova Scotia\, Canada
CATEGORIES:Events For Adults,Events For Seniors,Location: Elmsdale
ATTACH;FMTTYPE=image/png:https://www.lovemylibrary.ca/wp-content/uploads/2025/04/Untitled-design-2023-06-19T111314.785.png
END:VEVENT
BEGIN:VEVENT
DTSTART;TZID=America/Halifax:20250820T143000
DTEND;TZID=America/Halifax:20250820T153000
DTSTAMP:20260421T193220
CREATED:20250717T145006Z
LAST-MODIFIED:20250717T145006Z
UID:10012446-1755700200-1755703800@www.lovemylibrary.ca
SUMMARY:Sing & Shine with Julia Tynes – A Celebration of Pop\, Soul & Rock & Roll!
DESCRIPTION:Join award-winning African Nova Scotian singer-songwriter and entertainer Julia Tynes for an interactive music experience full of singing\, learning\, and joyful expression. With her signature energy and soulful vocals\, Julia leads children and families on a musical journey through classics like “Rockin’ Robin\,” kid-friendly Motown hits\, and today’s pop anthems by artists like Taylor Swift and Bruno Mars. Participants are invited to clap along\, move their bodies\, and sing out loud as they explore melody\, groove\, and performance. \nThis vibrant program introduces audiences to the rich cultural roots of pop through soul\, jazz\, and rock and roll\, while celebrating the lasting contributions of Black artists throughout history. Julia also shares a few of her own original songs and stories\, empowering everyone to use their voices and build confidence through music. Whether you’re a toddler\, a tween\, or just young at heart\, come ready to sing\, dance\, and shine! \nThis is a drop in program. No registration is required.
URL:https://www.lovemylibrary.ca/event/sing-shine-with-julia-tynes-a-celebration-of-pop-soul-rock-roll-4/
LOCATION:Stewiacke Community Centre\, Canada
CATEGORIES:Location: Stewiacke
ATTACH;FMTTYPE=image/png:https://www.lovemylibrary.ca/wp-content/uploads/2025/07/Untitled-design-2025-07-05T124552.980.png
END:VEVENT
BEGIN:VEVENT
DTSTART;TZID=America/Halifax:20250821T140000
DTEND;TZID=America/Halifax:20250821T160000
DTSTAMP:20260421T193220
CREATED:20250705T154248Z
LAST-MODIFIED:20250705T154248Z
UID:10012407-1755784800-1755792000@www.lovemylibrary.ca
SUMMARY:Back to School Party – Sing & Shine with Julia Tynes!
DESCRIPTION:Join award-winning African Nova Scotian singer-songwriter and entertainer Julia Tynes from 2:00pm-3:00pm for an interactive music experience full of singing\, learning\, and joyful expression. There will also be games\, a cake\, and more to celebrate the end of an amazing summer. Location: Civic Square. In the case of rain\, the party will take place inside the library. \nThis is a drop in program. No registration is required.
URL:https://www.lovemylibrary.ca/event/back-to-school-party-sing-shine-with-julia-tynes/
LOCATION:Truro Library\, 754 Prince St\, Truro\, Nova Scotia\, Canada
CATEGORIES:Events For Kids,Location: Truro
ATTACH;FMTTYPE=image/png:https://www.lovemylibrary.ca/wp-content/uploads/2025/07/Untitled-design-2025-07-05T124552.980.png
END:VEVENT
BEGIN:VEVENT
DTSTART;TZID=America/Halifax:20250822T100000
DTEND;TZID=America/Halifax:20250822T120000
DTSTAMP:20260421T193220
CREATED:20250417T174051Z
LAST-MODIFIED:20260415T173232Z
UID:10012411-1755856800-1755864000@www.lovemylibrary.ca
SUMMARY:One on One Tech Help
DESCRIPTION:Issues with your phone? Laptop? Social Media? Meet in-person with our digital literacy trainer to get your tech questions answered. \nDrop in – please call (902) 883-9838 or email us at elmsdale@cehpubliclibrary.ca for more details.
URL:https://www.lovemylibrary.ca/event/one-on-one-tech-help-7-2-2-2-2/2025-08-22/
LOCATION:Elmsdale Library\, 15 Commerce Ct\, Elmsdale\, Nova Scotia\, Canada
CATEGORIES:Events For Adults,Location: Elmsdale
ATTACH;FMTTYPE=image/png:https://www.lovemylibrary.ca/wp-content/uploads/2022/03/Untitled-design-80.png
END:VEVENT
BEGIN:VEVENT
DTSTART;TZID=America/Halifax:20250822T150000
DTEND;TZID=America/Halifax:20250822T153000
DTSTAMP:20260421T193220
CREATED:20250614T192712Z
LAST-MODIFIED:20250614T192712Z
UID:10012350-1755874800-1755876600@www.lovemylibrary.ca
SUMMARY:End of Summer Fun
DESCRIPTION:The summer is coming to an end. Join Kim and Karri for a fun activity to celebrate the end of Sumer Reading Club and Summer break. For school aged children. \n 
URL:https://www.lovemylibrary.ca/event/end-of-summer-fun/
LOCATION:Mount Uniacke Library\, 555\, Highway 1\, Mount Uniacke\, Nova Scotia\, Canada
CATEGORIES:Events For Kids,Location: Mount Uniacke
ATTACH;FMTTYPE=image/png:https://www.lovemylibrary.ca/wp-content/uploads/2025/06/Untitled-design-2025-06-14T162945.117.png
END:VEVENT
BEGIN:VEVENT
DTSTART;TZID=America/Halifax:20250823T100000
DTEND;TZID=America/Halifax:20250823T120000
DTSTAMP:20260421T193220
CREATED:20250705T133726Z
LAST-MODIFIED:20250705T133837Z
UID:10012399-1755943200-1755950400@www.lovemylibrary.ca
SUMMARY:Maker Lab Open Hours
DESCRIPTION:Curious about the Maker Lab? Come on in and explore. Program robots\, create circuits\, build with magnetic tiles\, and more! All ages are welcome \nThis is a drop in program. No registration is required.
URL:https://www.lovemylibrary.ca/event/maker-lab-fun-time-8-2/2025-08-23/
LOCATION:Truro Library\, 754 Prince St\, Truro\, Nova Scotia\, Canada
CATEGORIES:Events For Kids,Location: Truro
ATTACH;FMTTYPE=image/png:https://www.lovemylibrary.ca/wp-content/uploads/2023/09/Untitled-design-2023-09-29T143321.527.png
END:VEVENT
BEGIN:VEVENT
DTSTART;TZID=America/Halifax:20250823T123000
DTEND;TZID=America/Halifax:20250823T140000
DTSTAMP:20260421T193220
CREATED:20250515T123416Z
LAST-MODIFIED:20250919T182042Z
UID:10012428-1755952200-1755957600@www.lovemylibrary.ca
SUMMARY:Video Game Club
DESCRIPTION:Join us once a month to play games like Mario Kart and Super Smash Bros\, sample some indie games\, trade Pokémon\, and catch the latest in gaming news – all at your local library! For tweens/teens \nIn-Person\, drop in – For more information\, please call 902-883-9838 or email us at elmsdale@cehpubliclibrary.ca
URL:https://www.lovemylibrary.ca/event/video-game-club-3-2/2025-08-23/
LOCATION:Elmsdale Library\, 15 Commerce Ct\, Elmsdale\, Nova Scotia\, Canada
CATEGORIES:Events For Kids,Events For Teens,Location: Elmsdale
ATTACH;FMTTYPE=image/png:https://www.lovemylibrary.ca/wp-content/uploads/2023/04/Untitled-design-30.png
END:VEVENT
END:VCALENDAR