BEGIN:VCALENDAR
VERSION:2.0
PRODID:-//Colchester East Hants Public Library - ECPv6.15.20//NONSGML v1.0//EN
CALSCALE:GREGORIAN
METHOD:PUBLISH
X-ORIGINAL-URL:https://www.lovemylibrary.ca
X-WR-CALDESC:Events for Colchester East Hants Public Library
REFRESH-INTERVAL;VALUE=DURATION:PT1H
X-Robots-Tag:noindex
X-PUBLISHED-TTL:PT1H
BEGIN:VTIMEZONE
TZID:America/Halifax
BEGIN:DAYLIGHT
TZOFFSETFROM:-0400
TZOFFSETTO:-0300
TZNAME:ADT
DTSTART:20240310T060000
END:DAYLIGHT
BEGIN:STANDARD
TZOFFSETFROM:-0300
TZOFFSETTO:-0400
TZNAME:AST
DTSTART:20241103T050000
END:STANDARD
BEGIN:DAYLIGHT
TZOFFSETFROM:-0400
TZOFFSETTO:-0300
TZNAME:ADT
DTSTART:20250309T060000
END:DAYLIGHT
BEGIN:STANDARD
TZOFFSETFROM:-0300
TZOFFSETTO:-0400
TZNAME:AST
DTSTART:20251102T050000
END:STANDARD
BEGIN:DAYLIGHT
TZOFFSETFROM:-0400
TZOFFSETTO:-0300
TZNAME:ADT
DTSTART:20260308T060000
END:DAYLIGHT
BEGIN:STANDARD
TZOFFSETFROM:-0300
TZOFFSETTO:-0400
TZNAME:AST
DTSTART:20261101T050000
END:STANDARD
END:VTIMEZONE
BEGIN:VEVENT
DTSTART;VALUE=DATE:20250801
DTEND;VALUE=DATE:20260101
DTSTAMP:20260420T031247
CREATED:20250801T181420Z
LAST-MODIFIED:20250801T181504Z
UID:10012468-1754006400-1767225599@www.lovemylibrary.ca
SUMMARY:Offering Wireless Printing
DESCRIPTION:We now offer wireless printing directly from your personal device. Cost for printing services is 0.20 cents per black and white page\, and 0.50 cents per colour page.
URL:https://www.lovemylibrary.ca/event/offering-wireless-printing/
LOCATION:Truro Library\, 754 Prince St\, Truro\, Nova Scotia\, Canada
CATEGORIES:Location: Truro
ATTACH;FMTTYPE=image/png:https://www.lovemylibrary.ca/wp-content/uploads/2025/08/Untitled-design-31.png
END:VEVENT
BEGIN:VEVENT
DTSTART;VALUE=DATE:20250902
DTEND;VALUE=DATE:20251101
DTSTAMP:20260420T031247
CREATED:20241121T160434Z
LAST-MODIFIED:20260119T175716Z
UID:10010202-1756771200-1761955140@www.lovemylibrary.ca
SUMMARY:Tech Help by Appointment
DESCRIPTION:Bring your own device or use one of our computers. This program covers: eReaders/ebooks\, basic computer navigation\, basic app use\, basic cellphone use\, basic tablet use\, general internet instruction\, research and using library electronic resources. All ages are welcome. \nRegister: stewiacke@cehpubliclibrary.ca
URL:https://www.lovemylibrary.ca/event/tech-help-by-appointment-4/
LOCATION:Stewiacke Library\, 295 George Street\, Stewiacke\, Nova Scotia\, Canada
CATEGORIES:Events For Adults,Location: Stewiacke
ATTACH;FMTTYPE=image/jpeg:https://www.lovemylibrary.ca/wp-content/uploads/2021/08/11.jpg
END:VEVENT
BEGIN:VEVENT
DTSTART;VALUE=DATE:20250912
DTEND;VALUE=DATE:20251031
DTSTAMP:20260420T031247
CREATED:20250829T193543Z
LAST-MODIFIED:20250905T184655Z
UID:10012888-1757635200-1761868799@www.lovemylibrary.ca
SUMMARY:Msit No'kmaq\, All My Relations: Art Exhibit by Lorne Julien
DESCRIPTION:Lorne Julien is a proud Mi’kmaw artist and member of Millbrook First Nation\, We’kopekitk\, Nova Scotia. He specializes in contemporary Indigenous acrylic paintings and murals. He believes that incorporating Indigenous art in public spaces is a simple act of reconciliation and moving forward in a spirit of mutual respect and understanding. His intention is to inspire hope and balance within the universe. This series of paintings features animals of significance to Mi’kmaw people and highlights connection to the natural world. it is made possible through funding by Arts Nova Scotia’s Mi’kmaq Arts Grant. \nDrop-in
URL:https://www.lovemylibrary.ca/event/msit-nokmaq-all-my-relations-art-exhibit-by-lorne-julien/
LOCATION:Truro Library\, 754 Prince St\, Truro\, Nova Scotia\, Canada
CATEGORIES:Events For Adults,Events For Kids,Events For Seniors,Events For Teens,Location: Truro
ATTACH;FMTTYPE=image/png:https://www.lovemylibrary.ca/wp-content/uploads/2025/08/Untitled-design-40.png
END:VEVENT
BEGIN:VEVENT
DTSTART;VALUE=DATE:20251002
DTEND;VALUE=DATE:20251101
DTSTAMP:20260420T031247
CREATED:20250522T135134Z
LAST-MODIFIED:20250922T124003Z
UID:10012078-1759363200-1761955199@www.lovemylibrary.ca
SUMMARY:Scavenger Hunt - Travel Edition
DESCRIPTION:Which of these Images have you used on vacation? \nAll Ages. In-person. Drop in: No registration required.
URL:https://www.lovemylibrary.ca/event/scavenger-hunt-travel-edition/
LOCATION:Stewiacke Library\, 295 George Street\, Stewiacke\, Nova Scotia\, Canada
CATEGORIES:Events For Adults,Events For Kids,Events For Seniors,Events For Teens,Location: Stewiacke
ATTACH;FMTTYPE=image/png:https://www.lovemylibrary.ca/wp-content/uploads/2025/05/Untitled-design-52.png
END:VEVENT
BEGIN:VEVENT
DTSTART;TZID=America/Halifax:20251014T100000
DTEND;TZID=America/Halifax:20251014T110000
DTSTAMP:20260420T031247
CREATED:20250919T170413Z
LAST-MODIFIED:20251008T205530Z
UID:10013317-1760436000-1760439600@www.lovemylibrary.ca
SUMMARY:Baby\, Me\, & Mother Goose
DESCRIPTION:All babies 3-18 months are welcome to come for rhymes\, songs\, and stories! In partnership with Maggie’s Place. Call Maggie’s Place at 902-895-0200 to register. \nCall Maggie’s Place at 902-895-0200 to register.
URL:https://www.lovemylibrary.ca/event/baby-me-mother-goose-2-2-2-2-2-2-2-2/2025-10-14/
LOCATION:Maggie’s Place\, 1027 Prince Street\, Truro\, Nova Scotia\, B2N 1H7\, Canada
CATEGORIES:Events For Kids,Location: Truro
ATTACH;FMTTYPE=image/png:https://www.lovemylibrary.ca/wp-content/uploads/2022/03/Untitled-design-75.png
END:VEVENT
BEGIN:VEVENT
DTSTART;TZID=America/Halifax:20251014T110000
DTEND;TZID=America/Halifax:20251014T120000
DTSTAMP:20260420T031247
CREATED:20250905T181042Z
LAST-MODIFIED:20260401T152058Z
UID:10013479-1760439600-1760443200@www.lovemylibrary.ca
SUMMARY:Conversational English
DESCRIPTION:Is English your 2nd language? Or maybe your 4th? Our Conversational English program is for those who would like to practice their English in a fun and friendly environment. In partnership with YREACH. \nThis is a drop-in event. No registration is required.
URL:https://www.lovemylibrary.ca/event/conversational-english-10-2/2025-10-14/
LOCATION:Truro Library\, 754 Prince St\, Truro\, Nova Scotia\, Canada
CATEGORIES:Events For Adults,Location: Truro
ATTACH;FMTTYPE=image/jpeg:https://www.lovemylibrary.ca/wp-content/uploads/2021/08/13.jpg
END:VEVENT
BEGIN:VEVENT
DTSTART;TZID=America/Halifax:20251014T150000
DTEND;TZID=America/Halifax:20251014T163000
DTSTAMP:20260420T031247
CREATED:20250820T135426Z
LAST-MODIFIED:20260203T193209Z
UID:10013207-1760454000-1760459400@www.lovemylibrary.ca
SUMMARY:Teen Room Drop In
DESCRIPTION:Come hang out! Grab a snack\, play our Nintendo Switch\, challenge your friends to a board game\, build with Lego\, or make art!  Ages 13-18 \nThis is a drop-in program. No registration is required.
URL:https://www.lovemylibrary.ca/event/teen-room-drop-in-5-2/2025-10-14/
LOCATION:Truro Library\, 754 Prince St\, Truro\, Nova Scotia\, Canada
CATEGORIES:Events For Teens,Location: Truro
ATTACH;FMTTYPE=image/png:https://www.lovemylibrary.ca/wp-content/uploads/2022/10/Untitled-design-53.png
END:VEVENT
BEGIN:VEVENT
DTSTART;TZID=America/Halifax:20251014T150000
DTEND;TZID=America/Halifax:20251014T163000
DTSTAMP:20260420T031247
CREATED:20260323T191525Z
LAST-MODIFIED:20260414T171217Z
UID:10014563-1760454000-1760459400@www.lovemylibrary.ca
SUMMARY:Teen Room Drop In
DESCRIPTION:Come hang out after school! Grab a snack\, play our Nintendo Switch\, challenge your friends to a board game\, build with Lego\, or make art. Ages 13-18 \nThis is a drop-in program. No registration is required.
URL:https://www.lovemylibrary.ca/event/teen-room-drop-in-6/2025-10-14/
LOCATION:Truro Library\, 754 Prince St\, Truro\, Nova Scotia\, Canada
CATEGORIES:Events For Teens,Location: Truro
ATTACH;FMTTYPE=image/png:https://www.lovemylibrary.ca/wp-content/uploads/2022/10/Untitled-design-53.png
END:VEVENT
BEGIN:VEVENT
DTSTART;TZID=America/Halifax:20251014T150000
DTEND;TZID=America/Halifax:20251014T170000
DTSTAMP:20260420T031247
CREATED:20250419T163700Z
LAST-MODIFIED:20250929T191526Z
UID:10013248-1760454000-1760461200@www.lovemylibrary.ca
SUMMARY:Dungeons and Dragons
DESCRIPTION:“Join us for an epic Dungeons & Dragons game night! Roll dice\, slay monsters\, and embark on thrilling adventures with friends. Whether you’re a seasoned hero or a curious newbie\, there’s a spot for you at the table!” For ages 13-24 \n\nPre-Register in person or by phone: (902) 657-3064\, or email: tatamago@cehpubliclibrary.ca
URL:https://www.lovemylibrary.ca/event/dd-2/2025-10-14/
LOCATION:Tatamagouche Library\, 170 Main Street\, Tatamagouche\, Nova Scotia\, Canada
CATEGORIES:Events For Adults,Events For Teens,Location: Tatamagouche
ATTACH;FMTTYPE=image/png:https://www.lovemylibrary.ca/wp-content/uploads/2024/11/Untitled-design-1.png
END:VEVENT
BEGIN:VEVENT
DTSTART;TZID=America/Halifax:20251014T170000
DTEND;TZID=America/Halifax:20251014T180000
DTSTAMP:20260420T031247
CREATED:20250818T190711Z
LAST-MODIFIED:20250929T191536Z
UID:10012915-1760461200-1760464800@www.lovemylibrary.ca
SUMMARY:Paws to Read ®
DESCRIPTION:The Paws to Read program offers kids a safe environment to practice reading aloud to an attentive and adorable audience. Children build confidence and reading skills in one-on-one sessions with therapy dogs. Participants attend 5 weekly half-hour sessions with a trained therapy dog volunteer and a certified handler. For children in grades 1-5 \nIn-Person. Registration is required. For details\, please call us at (902) 883-9838 or email us at elmsdale@cehpubliclibrary.ca
URL:https://www.lovemylibrary.ca/event/paws-to-read-3/2025-10-14/
LOCATION:Elmsdale Library\, 15 Commerce Ct\, Elmsdale\, Nova Scotia\, Canada
CATEGORIES:Events For Kids,Location: Elmsdale
ATTACH;FMTTYPE=image/png:https://www.lovemylibrary.ca/wp-content/uploads/2023/09/Untitled-design-2023-09-11T151119.554.png
END:VEVENT
BEGIN:VEVENT
DTSTART;TZID=America/Halifax:20251014T183000
DTEND;TZID=America/Halifax:20251014T200000
DTSTAMP:20260420T031247
CREATED:20240919T175158Z
LAST-MODIFIED:20260415T142046Z
UID:10012761-1760466600-1760472000@www.lovemylibrary.ca
SUMMARY:Ewe-niacke Yarn Club
DESCRIPTION:Fiber art for all ages and abilities. Learn to knit or crochet\, bring a project you are working on\, or just come hang out with the club for some social time. All ages welcome. \nDrop in\, no registration required.
URL:https://www.lovemylibrary.ca/event/ewe-niacke-yarn-club-3-2-2-2/2025-10-14/
LOCATION:Mount Uniacke Library\, 555\, Highway 1\, Mount Uniacke\, Nova Scotia\, Canada
CATEGORIES:Crafting,Events For Adults,Events For Kids,Events For Seniors,Location: Mount Uniacke
ATTACH;FMTTYPE=image/png:https://www.lovemylibrary.ca/wp-content/uploads/2022/03/Untitled-design-89.png
END:VEVENT
BEGIN:VEVENT
DTSTART;TZID=America/Halifax:20251015T103000
DTEND;TZID=America/Halifax:20251015T110000
DTSTAMP:20260420T031247
CREATED:20250818T192158Z
LAST-MODIFIED:20251114T201518Z
UID:10012698-1760524200-1760526000@www.lovemylibrary.ca
SUMMARY:Storytime
DESCRIPTION:Enjoy a picture book read by Karri or Bernie and then participate in an activity.  Please note there will be no Storytime on December 24\, 27\, and 31. For pre-schoolers and home schoolers. \nThis is a drop-in program. No registration is required.
URL:https://www.lovemylibrary.ca/event/storytime-9-2/2025-10-15/
LOCATION:Mount Uniacke Library\, 555\, Highway 1\, Mount Uniacke\, Nova Scotia\, Canada
CATEGORIES:Events For Kids,Location: Mount Uniacke
ATTACH;FMTTYPE=image/png:https://www.lovemylibrary.ca/wp-content/uploads/2022/05/Untitled-design-2.png
END:VEVENT
BEGIN:VEVENT
DTSTART;TZID=America/Halifax:20251015T103000
DTEND;TZID=America/Halifax:20251015T110000
DTSTAMP:20260420T031247
CREATED:20251219T193920Z
LAST-MODIFIED:20260415T141101Z
UID:10013719-1760524200-1760526000@www.lovemylibrary.ca
SUMMARY:Storytime
DESCRIPTION:Enjoy a picture book read by Karri or Bernie and then participate in an activity.  Please note there will be no Storytime on January 24\,28\,and 31. For pre-schoolers and home schoolers. \nThis is a drop-in program. No registration is required.
URL:https://www.lovemylibrary.ca/event/storytime-12/2025-10-15/
LOCATION:Mount Uniacke Library\, 555\, Highway 1\, Mount Uniacke\, Nova Scotia\, Canada
CATEGORIES:Events For Kids,Location: Mount Uniacke
ATTACH;FMTTYPE=image/png:https://www.lovemylibrary.ca/wp-content/uploads/2022/05/Untitled-design-2.png
END:VEVENT
BEGIN:VEVENT
DTSTART;TZID=America/Halifax:20251015T103000
DTEND;TZID=America/Halifax:20251015T113000
DTSTAMP:20260420T031247
CREATED:20250523T194134Z
LAST-MODIFIED:20251120T190650Z
UID:10013244-1760524200-1760527800@www.lovemylibrary.ca
SUMMARY:Parents and Tots Story Time and Crafts
DESCRIPTION:Come along and enjoy an hour of fun filled story time and craft.  For ages 0+ \nDrop-in\, no registration required.
URL:https://www.lovemylibrary.ca/event/tots-and-moms-social-time-3-2-2-2-2-2/2025-10-15/
LOCATION:Tatamagouche Library\, 170 Main Street\, Tatamagouche\, Nova Scotia\, Canada
CATEGORIES:Events For Kids,Location: Tatamagouche
ATTACH;FMTTYPE=image/png:https://www.lovemylibrary.ca/wp-content/uploads/2022/03/Untitled-design-75.png
END:VEVENT
BEGIN:VEVENT
DTSTART;TZID=America/Halifax:20251015T130000
DTEND;TZID=America/Halifax:20251015T150000
DTSTAMP:20260420T031247
CREATED:20250905T181307Z
LAST-MODIFIED:20260401T152139Z
UID:10013177-1760533200-1760540400@www.lovemylibrary.ca
SUMMARY:Makers in the Maker Lab
DESCRIPTION:Calling all Makers! Drop by for a relaxing afternoon to hang out with fellow crafters. Bring along your ongoing projects like knitting\, crochet\, needlework\, painting or other hands on crafts. \nNo registration\, drop in.
URL:https://www.lovemylibrary.ca/event/makers-in-the-maker-lab-14-2-2/2025-10-15/
LOCATION:Truro Library\, 754 Prince St\, Truro\, Nova Scotia\, Canada
CATEGORIES:Crafting,Events For Adults,Events For Seniors,Location: Truro
ATTACH;FMTTYPE=image/png:https://www.lovemylibrary.ca/wp-content/uploads/2025/09/Info-Calendar-Images-1.png
END:VEVENT
BEGIN:VEVENT
DTSTART;TZID=America/Halifax:20251015T140000
DTEND;TZID=America/Halifax:20251015T160000
DTSTAMP:20260420T031247
CREATED:20250417T181643Z
LAST-MODIFIED:20260415T173925Z
UID:10012656-1760536800-1760544000@www.lovemylibrary.ca
SUMMARY:Social Café
DESCRIPTION:Are you retired\, new to the area\, or just looking to connect with some new people? We would love to see you and welcome you to the library! Light refreshments available. \nIn person\, drop in. For more details call us at (902) 883-9838 or email us at elmsdale@cehpubliclibrary.ca
URL:https://www.lovemylibrary.ca/event/social-cafe-5/2025-10-15/
LOCATION:Elmsdale Library\, 15 Commerce Ct\, Elmsdale\, Nova Scotia\, Canada
CATEGORIES:Events For Adults,Events For Seniors,Location: Elmsdale
ATTACH;FMTTYPE=image/png:https://www.lovemylibrary.ca/wp-content/uploads/2025/04/Untitled-design-2023-06-19T111314.785.png
END:VEVENT
BEGIN:VEVENT
DTSTART;TZID=America/Halifax:20251015T150000
DTEND;TZID=America/Halifax:20251015T163000
DTSTAMP:20260420T031247
CREATED:20250820T135426Z
LAST-MODIFIED:20260203T193209Z
UID:10013208-1760540400-1760545800@www.lovemylibrary.ca
SUMMARY:Teen Room Drop In
DESCRIPTION:Come hang out! Grab a snack\, play our Nintendo Switch\, challenge your friends to a board game\, build with Lego\, or make art!  Ages 13-18 \nThis is a drop-in program. No registration is required.
URL:https://www.lovemylibrary.ca/event/teen-room-drop-in-5-2/2025-10-15/
LOCATION:Truro Library\, 754 Prince St\, Truro\, Nova Scotia\, Canada
CATEGORIES:Events For Teens,Location: Truro
ATTACH;FMTTYPE=image/png:https://www.lovemylibrary.ca/wp-content/uploads/2022/10/Untitled-design-53.png
END:VEVENT
BEGIN:VEVENT
DTSTART;TZID=America/Halifax:20251015T150000
DTEND;TZID=America/Halifax:20251015T163000
DTSTAMP:20260420T031247
CREATED:20260323T191525Z
LAST-MODIFIED:20260414T171217Z
UID:10014564-1760540400-1760545800@www.lovemylibrary.ca
SUMMARY:Teen Room Drop In
DESCRIPTION:Come hang out after school! Grab a snack\, play our Nintendo Switch\, challenge your friends to a board game\, build with Lego\, or make art. Ages 13-18 \nThis is a drop-in program. No registration is required.
URL:https://www.lovemylibrary.ca/event/teen-room-drop-in-6/2025-10-15/
LOCATION:Truro Library\, 754 Prince St\, Truro\, Nova Scotia\, Canada
CATEGORIES:Events For Teens,Location: Truro
ATTACH;FMTTYPE=image/png:https://www.lovemylibrary.ca/wp-content/uploads/2022/10/Untitled-design-53.png
END:VEVENT
BEGIN:VEVENT
DTSTART;TZID=America/Halifax:20251015T160000
DTEND;TZID=America/Halifax:20251015T170000
DTSTAMP:20260420T031247
CREATED:20251015T210513Z
LAST-MODIFIED:20251015T210537Z
UID:10013351-1760544000-1760547600@www.lovemylibrary.ca
SUMMARY:Halloween Costume Swap
DESCRIPTION:Looking for a new Halloween costume? Come over and check out our selection. All ages. \nIn-person. Drop in\, no registration required.
URL:https://www.lovemylibrary.ca/event/halloween-costume-swap/
LOCATION:Tatamagouche Library\, 170 Main Street\, Tatamagouche\, Nova Scotia\, Canada
CATEGORIES:Events For Adults,Events For Kids,Events For Seniors,Events For Teens
END:VEVENT
BEGIN:VEVENT
DTSTART;TZID=America/Halifax:20251015T163000
DTEND;TZID=America/Halifax:20251015T183000
DTSTAMP:20260420T031247
CREATED:20250919T173416Z
LAST-MODIFIED:20250919T173416Z
UID:10013217-1760545800-1760553000@www.lovemylibrary.ca
SUMMARY:Teen Movie: Halloween Edition
DESCRIPTION:We’re showing a movie and you get to choose from five creepy options. Starting October 1st\, cast your votes when the Teen Room is open and then come for the movie on October 15th and be prepared to be scared! Snacks provided. Ages 13-18 \nThis is a drop in program. No registration is required.\n 
URL:https://www.lovemylibrary.ca/event/teen-movie-halloween-edition/
LOCATION:Truro Library\, 754 Prince St\, Truro\, Nova Scotia\, Canada
CATEGORIES:Events For Teens,Location: Truro
ATTACH;FMTTYPE=image/png:https://www.lovemylibrary.ca/wp-content/uploads/2025/09/Untitled-design-2025-09-19T143801.119.png
END:VEVENT
BEGIN:VEVENT
DTSTART;TZID=America/Halifax:20251015T183000
DTEND;TZID=America/Halifax:20251015T200000
DTSTAMP:20260420T031247
CREATED:20250918T140848Z
LAST-MODIFIED:20251008T180223Z
UID:10013308-1760553000-1760558400@www.lovemylibrary.ca
SUMMARY:Aging in Place Workshop Series
DESCRIPTION:A weekly\, four-part series in partnership with Remember When HealthCare exploring the following topics: Care Options & Funding in NS\, Transitions from Hospital to Home\, Preparing the Home for Aging and Building a Support System. \nAdults. In person. Drop in\, no registration required.
URL:https://www.lovemylibrary.ca/event/aging-in-place-workshop-series/2025-10-15/
LOCATION:Truro Library\, 754 Prince St\, Truro\, Nova Scotia\, Canada
CATEGORIES:Events For Adults,Events For Seniors,Location: Truro
ATTACH;FMTTYPE=image/png:https://www.lovemylibrary.ca/wp-content/uploads/2025/09/Untitled-design-46.png
END:VEVENT
BEGIN:VEVENT
DTSTART;TZID=America/Halifax:20251016T103000
DTEND;TZID=America/Halifax:20251016T110000
DTSTAMP:20260420T031247
CREATED:20250815T135736Z
LAST-MODIFIED:20260117T200751Z
UID:10013257-1760610600-1760612400@www.lovemylibrary.ca
SUMMARY:Baby Rhyme Time
DESCRIPTION:Bring your little one to Baby Rhyme Time—a fun\, interactive session filled with songs\, rhymes\, and snuggly story moments. Perfect for babies and their caregivers! Infant-2 years old with a caregiver \nThis is a drop in program. No registration is required.
URL:https://www.lovemylibrary.ca/event/baby-rhyme-time-7-2-2-2-2/2025-10-16/
LOCATION:Stewiacke Library\, 295 George Street\, Stewiacke\, Nova Scotia\, Canada
CATEGORIES:Events For Kids,Location: Stewiacke
ATTACH;FMTTYPE=image/png:https://www.lovemylibrary.ca/wp-content/uploads/2022/03/Untitled-design-75.png
END:VEVENT
BEGIN:VEVENT
DTSTART;TZID=America/Halifax:20251016T103000
DTEND;TZID=America/Halifax:20251016T123000
DTSTAMP:20260420T031247
CREATED:20250905T184306Z
LAST-MODIFIED:20260401T152251Z
UID:10013222-1760610600-1760617800@www.lovemylibrary.ca
SUMMARY:Drop-in Housing Outreach Services with Housing Outreach Society
DESCRIPTION:Workers from the Truro Housing Outreach Society will be at the library to offer housing and outreach support services for folks experiencing homelessness and/or housing insecurity. This can include access to survival supplies\, client case management and care plans\, assistance with rental and subsidy applications\, sending paperwork to agencies\, and interfacing with landlords. \nAdults. In-person. Drop-in: no registration required.
URL:https://www.lovemylibrary.ca/event/drop-in-housing-outreach-services-with-housing-outreach-society/2025-10-16/
LOCATION:Truro Library\, 754 Prince St\, Truro\, Nova Scotia\, Canada
CATEGORIES:Events For Adults,Location: Truro
ATTACH;FMTTYPE=image/png:https://www.lovemylibrary.ca/wp-content/uploads/2025/08/Untitled-design-39.png
END:VEVENT
BEGIN:VEVENT
DTSTART;TZID=America/Halifax:20251016T110000
DTEND;TZID=America/Halifax:20251016T112000
DTSTAMP:20260420T031247
CREATED:20250820T135034Z
LAST-MODIFIED:20260414T165957Z
UID:10012796-1760612400-1760613600@www.lovemylibrary.ca
SUMMARY:Tales for Tots
DESCRIPTION:Join us Thursday mornings in the Big Brothers Big Sisters Room for stories\, songs\, and activities that are just right for terrific toddlers! \n18 months-4 years with a parent/caregiver. \nDrop-in\, no registration required.
URL:https://www.lovemylibrary.ca/event/tales-for-tots-2-2-2-2-2/2025-10-16/
LOCATION:Truro Library\, 754 Prince St\, Truro\, Nova Scotia\, Canada
CATEGORIES:Events For Kids,Location: Truro
ATTACH;FMTTYPE=image/png:https://www.lovemylibrary.ca/wp-content/uploads/2022/03/Untitled-design-81.png
END:VEVENT
BEGIN:VEVENT
DTSTART;TZID=America/Halifax:20251016T130000
DTEND;TZID=America/Halifax:20251016T170000
DTSTAMP:20260420T031247
CREATED:20250919T181952Z
LAST-MODIFIED:20250919T181952Z
UID:10013236-1760619600-1760634000@www.lovemylibrary.ca
SUMMARY:Leaf Stamping Art
DESCRIPTION:Fall is in the air! Time to create! Come on in and make your own art using leaves and paint. This program is open to all ages. \nPlease call 902-883-9838 or email at elmsdale@cehpubliclibrary.ca for more details
URL:https://www.lovemylibrary.ca/event/leaf-stamping-art/
LOCATION:Elmsdale Library\, 15 Commerce Ct\, Elmsdale\, Nova Scotia\, Canada
CATEGORIES:Crafting,Location: Elmsdale
ATTACH;FMTTYPE=image/png:https://www.lovemylibrary.ca/wp-content/uploads/2025/09/Untitled-design-2025-09-19T152333.208.png
END:VEVENT
BEGIN:VEVENT
DTSTART;TZID=America/Halifax:20251016T150000
DTEND;TZID=America/Halifax:20251016T163000
DTSTAMP:20260420T031247
CREATED:20250820T135426Z
LAST-MODIFIED:20260203T193209Z
UID:10013209-1760626800-1760632200@www.lovemylibrary.ca
SUMMARY:Teen Room Drop In
DESCRIPTION:Come hang out! Grab a snack\, play our Nintendo Switch\, challenge your friends to a board game\, build with Lego\, or make art!  Ages 13-18 \nThis is a drop-in program. No registration is required.
URL:https://www.lovemylibrary.ca/event/teen-room-drop-in-5-2/2025-10-16/
LOCATION:Truro Library\, 754 Prince St\, Truro\, Nova Scotia\, Canada
CATEGORIES:Events For Teens,Location: Truro
ATTACH;FMTTYPE=image/png:https://www.lovemylibrary.ca/wp-content/uploads/2022/10/Untitled-design-53.png
END:VEVENT
BEGIN:VEVENT
DTSTART;TZID=America/Halifax:20251016T150000
DTEND;TZID=America/Halifax:20251016T170000
DTSTAMP:20260420T031247
CREATED:20250919T170857Z
LAST-MODIFIED:20251016T175823Z
UID:10013195-1760626800-1760634000@www.lovemylibrary.ca
SUMMARY:Fun in the Maker Lab
DESCRIPTION:Join us in the Maker Lab for a weekly craft and explore our usual Maker Lab activities\, such as LEGO\, magnetic tiles\, robotics\, and more! \nThis is a drop-in and no registration is required.
URL:https://www.lovemylibrary.ca/event/maker-lab-fun-time-6-2/2025-10-16/
LOCATION:Truro Library\, 754 Prince St\, Truro\, Nova Scotia\, Canada
CATEGORIES:Events For Kids,Location: Truro,STEAM
ATTACH;FMTTYPE=image/png:https://www.lovemylibrary.ca/wp-content/uploads/2023/09/Untitled-design-2023-09-29T143321.527.png
END:VEVENT
BEGIN:VEVENT
DTSTART;TZID=America/Halifax:20251016T153000
DTEND;TZID=America/Halifax:20251016T160000
DTSTAMP:20260420T031247
CREATED:20250524T153144Z
LAST-MODIFIED:20250919T192649Z
UID:10012150-1760628600-1760630400@www.lovemylibrary.ca
SUMMARY:Tween Trivia - All Things Spooky Edition
DESCRIPTION:In honour of Halloween all questions will be “Spooky”. Ages 8-12 \nVirtual and in-person. Register: stewiacke@cehpubliclibrary.ca\n 
URL:https://www.lovemylibrary.ca/event/tween-trivia-television-and-movie-quotes-2-0/
LOCATION:Stewiacke Library\, 295 George Street\, Stewiacke\, Nova Scotia\, Canada
CATEGORIES:Events For Teens,Location: Stewiacke,Location: Virtual
ATTACH;FMTTYPE=image/png:https://www.lovemylibrary.ca/wp-content/uploads/2025/05/Untitled-design-2025-08-18T121400.019.png
END:VEVENT
BEGIN:VEVENT
DTSTART;TZID=America/Halifax:20251016T153000
DTEND;TZID=America/Halifax:20251016T160000
DTSTAMP:20260420T031247
CREATED:20251218T143433Z
LAST-MODIFIED:20251218T143433Z
UID:10013697-1760628600-1760630400@www.lovemylibrary.ca
SUMMARY:Tween Trivia - Muppets Edition
DESCRIPTION:Get ready for laughs\, songs\, and felt-astic fun! This edition is packed with silly questions\, cool facts\, and surprising challenges all about the Muppet gang. Whether you’re a superfan or just love jokes and chaos\, this trivia game will test your knowledge and tickle your funny bone. Perfect for parties\, classrooms\, or family game night—because it’s not easy being green\, but it is easy having fun with the Muppets! Ages 8-12 \nVirtual and in-person. Register: stewiacke@cehpubliclibrary.ca\n 
URL:https://www.lovemylibrary.ca/event/tween-trivia-muppets-edition/
LOCATION:Stewiacke Library\, 295 George Street\, Stewiacke\, Nova Scotia\, Canada
CATEGORIES:Events For Teens,Location: Stewiacke,Location: Virtual
ATTACH;FMTTYPE=image/png:https://www.lovemylibrary.ca/wp-content/uploads/2025/05/Untitled-design-2025-08-18T121400.019.png
END:VEVENT
BEGIN:VEVENT
DTSTART;TZID=America/Halifax:20251017T100000
DTEND;TZID=America/Halifax:20251017T120000
DTSTAMP:20260420T031247
CREATED:20250417T174051Z
LAST-MODIFIED:20260415T173232Z
UID:10013229-1760695200-1760702400@www.lovemylibrary.ca
SUMMARY:One on One Tech Help
DESCRIPTION:Issues with your phone? Laptop? Social Media? Meet in-person with our digital literacy trainer to get your tech questions answered. \nDrop in – please call (902) 883-9838 or email us at elmsdale@cehpubliclibrary.ca for more details.
URL:https://www.lovemylibrary.ca/event/one-on-one-tech-help-7-2-2-2-2/2025-10-17/
LOCATION:Elmsdale Library\, 15 Commerce Ct\, Elmsdale\, Nova Scotia\, Canada
CATEGORIES:Events For Adults,Location: Elmsdale
ATTACH;FMTTYPE=image/png:https://www.lovemylibrary.ca/wp-content/uploads/2022/03/Untitled-design-80.png
END:VEVENT
END:VCALENDAR