BEGIN:VCALENDAR
VERSION:2.0
PRODID:-//Colchester East Hants Public Library - ECPv6.15.20//NONSGML v1.0//EN
CALSCALE:GREGORIAN
METHOD:PUBLISH
X-WR-CALNAME:Colchester East Hants Public Library
X-ORIGINAL-URL:https://www.lovemylibrary.ca
X-WR-CALDESC:Events for Colchester East Hants Public Library
REFRESH-INTERVAL;VALUE=DURATION:PT1H
X-Robots-Tag:noindex
X-PUBLISHED-TTL:PT1H
BEGIN:VTIMEZONE
TZID:America/Halifax
BEGIN:DAYLIGHT
TZOFFSETFROM:-0400
TZOFFSETTO:-0300
TZNAME:ADT
DTSTART:20240310T060000
END:DAYLIGHT
BEGIN:STANDARD
TZOFFSETFROM:-0300
TZOFFSETTO:-0400
TZNAME:AST
DTSTART:20241103T050000
END:STANDARD
BEGIN:DAYLIGHT
TZOFFSETFROM:-0400
TZOFFSETTO:-0300
TZNAME:ADT
DTSTART:20250309T060000
END:DAYLIGHT
BEGIN:STANDARD
TZOFFSETFROM:-0300
TZOFFSETTO:-0400
TZNAME:AST
DTSTART:20251102T050000
END:STANDARD
BEGIN:DAYLIGHT
TZOFFSETFROM:-0400
TZOFFSETTO:-0300
TZNAME:ADT
DTSTART:20260308T060000
END:DAYLIGHT
BEGIN:STANDARD
TZOFFSETFROM:-0300
TZOFFSETTO:-0400
TZNAME:AST
DTSTART:20261101T050000
END:STANDARD
BEGIN:DAYLIGHT
TZOFFSETFROM:-0400
TZOFFSETTO:-0300
TZNAME:ADT
DTSTART:20270314T060000
END:DAYLIGHT
BEGIN:STANDARD
TZOFFSETFROM:-0300
TZOFFSETTO:-0400
TZNAME:AST
DTSTART:20271107T050000
END:STANDARD
END:VTIMEZONE
BEGIN:VEVENT
DTSTART;VALUE=DATE:20250801
DTEND;VALUE=DATE:20260101
DTSTAMP:20260421T195501
CREATED:20250801T181420Z
LAST-MODIFIED:20250801T181504Z
UID:10012468-1754006400-1767225599@www.lovemylibrary.ca
SUMMARY:Offering Wireless Printing
DESCRIPTION:We now offer wireless printing directly from your personal device. Cost for printing services is 0.20 cents per black and white page\, and 0.50 cents per colour page.
URL:https://www.lovemylibrary.ca/event/offering-wireless-printing/
LOCATION:Truro Library\, 754 Prince St\, Truro\, Nova Scotia\, Canada
CATEGORIES:Location: Truro
ATTACH;FMTTYPE=image/png:https://www.lovemylibrary.ca/wp-content/uploads/2025/08/Untitled-design-31.png
END:VEVENT
BEGIN:VEVENT
DTSTART;VALUE=DATE:20251129
DTEND;VALUE=DATE:20251230
DTSTAMP:20260421T195501
CREATED:20251129T162904Z
LAST-MODIFIED:20251129T162904Z
UID:10013587-1764374400-1767052799@www.lovemylibrary.ca
SUMMARY:From the Pages of...: Art Exhibit by Truro Art Society
DESCRIPTION:Truro Art Society presents “From the Pages of…\,” an exhibit of works that draw inspiration from books\, perfectly at home in the Library. Explore where literature and art collide! \nAll ages. In person. Drop- in. 2nd Floor Exhibit Area.
URL:https://www.lovemylibrary.ca/event/from-the-pages-of-art-exhibit-by-truro-art-society/
LOCATION:Truro Library\, 754 Prince St\, Truro\, Nova Scotia\, Canada
CATEGORIES:Location: Truro
ATTACH;FMTTYPE=image/png:https://www.lovemylibrary.ca/wp-content/uploads/2025/10/Untitled-design-2025-11-29T121417.788.png
END:VEVENT
BEGIN:VEVENT
DTSTART;VALUE=DATE:20251201
DTEND;VALUE=DATE:20260101
DTSTAMP:20260421T195501
CREATED:20221019T180730Z
LAST-MODIFIED:20251114T185900Z
UID:10001837-1764547200-1767225599@www.lovemylibrary.ca
SUMMARY:Holiday Take and Make Crafts
DESCRIPTION:Special take-and-make craft kits are available for pick up in-branch. While supplies last. \nDrop-in\, no registration required.
URL:https://www.lovemylibrary.ca/event/take-and-make-crafts-6/
LOCATION:Elmsdale Library\, 15 Commerce Ct\, Elmsdale\, Nova Scotia\, Canada
CATEGORIES:Crafting,Events For Adults,Events For Kids,Location: Elmsdale
ATTACH;FMTTYPE=image/png:https://www.lovemylibrary.ca/wp-content/uploads/2022/03/Untitled-design-57.png
END:VEVENT
BEGIN:VEVENT
DTSTART;VALUE=DATE:20251202
DTEND;VALUE=DATE:20260601
DTSTAMP:20260421T195501
CREATED:20250818T193306Z
LAST-MODIFIED:20260415T142120Z
UID:10012341-1764633600-1780271999@www.lovemylibrary.ca
SUMMARY:Technically Speaking
DESCRIPTION:Is your tablet confusing? Having trouble downloading an app to your phone or don’t know what an app means? Want to learn more about TikTok? Drop into the library with your questions and we can help. All ages are welcome. \nNo registration is required.
URL:https://www.lovemylibrary.ca/event/technically-speaking-9-2-2/
LOCATION:Mount Uniacke Library\, 555\, Highway 1\, Mount Uniacke\, Nova Scotia\, Canada
CATEGORIES:Events For Adults,Location: Mount Uniacke
ATTACH;FMTTYPE=image/png:https://www.lovemylibrary.ca/wp-content/uploads/2023/04/Untitled-design-65.png
END:VEVENT
BEGIN:VEVENT
DTSTART;TZID=America/Halifax:20251229T133000
DTEND;TZID=America/Halifax:20251229T163000
DTSTAMP:20260421T195501
CREATED:20250902T183625Z
LAST-MODIFIED:20260401T152006Z
UID:10013577-1767015000-1767025800@www.lovemylibrary.ca
SUMMARY:Scrabble Group
DESCRIPTION:What spells F-U-N? Playing Scrabble with friends! \nThis is a drop-in event. No registration is required.
URL:https://www.lovemylibrary.ca/event/scrabble-group-6-2-2/2025-12-29/
LOCATION:Truro Library\, 754 Prince St\, Truro\, Nova Scotia\, Canada
CATEGORIES:Events For Adults,Events For Seniors,Location: Truro
ATTACH;FMTTYPE=image/png:https://www.lovemylibrary.ca/wp-content/uploads/2022/05/Add-a-subheading-700-×-500-px-3.png
END:VEVENT
BEGIN:VEVENT
DTSTART;TZID=America/Halifax:20251230T110000
DTEND;TZID=America/Halifax:20251230T120000
DTSTAMP:20260421T195501
CREATED:20250905T181042Z
LAST-MODIFIED:20260401T152058Z
UID:10013813-1767092400-1767096000@www.lovemylibrary.ca
SUMMARY:Conversational English
DESCRIPTION:Is English your 2nd language? Or maybe your 4th? Our Conversational English program is for those who would like to practice their English in a fun and friendly environment. In partnership with YREACH. \nThis is a drop-in event. No registration is required.
URL:https://www.lovemylibrary.ca/event/conversational-english-10-2/2025-12-30/
LOCATION:Truro Library\, 754 Prince St\, Truro\, Nova Scotia\, Canada
CATEGORIES:Events For Adults,Location: Truro
ATTACH;FMTTYPE=image/jpeg:https://www.lovemylibrary.ca/wp-content/uploads/2021/08/13.jpg
END:VEVENT
BEGIN:VEVENT
DTSTART;TZID=America/Halifax:20251230T150000
DTEND;TZID=America/Halifax:20251230T163000
DTSTAMP:20260421T195501
CREATED:20250820T135426Z
LAST-MODIFIED:20260203T193209Z
UID:10013889-1767106800-1767112200@www.lovemylibrary.ca
SUMMARY:Teen Room Drop In
DESCRIPTION:Come hang out! Grab a snack\, play our Nintendo Switch\, challenge your friends to a board game\, build with Lego\, or make art!  Ages 13-18 \nThis is a drop-in program. No registration is required.
URL:https://www.lovemylibrary.ca/event/teen-room-drop-in-5-2/2025-12-30/
LOCATION:Truro Library\, 754 Prince St\, Truro\, Nova Scotia\, Canada
CATEGORIES:Events For Teens,Location: Truro
ATTACH;FMTTYPE=image/png:https://www.lovemylibrary.ca/wp-content/uploads/2022/10/Untitled-design-53.png
END:VEVENT
BEGIN:VEVENT
DTSTART;TZID=America/Halifax:20251230T150000
DTEND;TZID=America/Halifax:20251230T163000
DTSTAMP:20260421T195501
CREATED:20260323T191525Z
LAST-MODIFIED:20260414T171217Z
UID:10014595-1767106800-1767112200@www.lovemylibrary.ca
SUMMARY:Teen Room Drop In
DESCRIPTION:Come hang out after school! Grab a snack\, play our Nintendo Switch\, challenge your friends to a board game\, build with Lego\, or make art. Ages 13-18 \nThis is a drop-in program. No registration is required.
URL:https://www.lovemylibrary.ca/event/teen-room-drop-in-6/2025-12-30/
LOCATION:Truro Library\, 754 Prince St\, Truro\, Nova Scotia\, Canada
CATEGORIES:Events For Teens,Location: Truro
ATTACH;FMTTYPE=image/png:https://www.lovemylibrary.ca/wp-content/uploads/2022/10/Untitled-design-53.png
END:VEVENT
BEGIN:VEVENT
DTSTART;TZID=America/Halifax:20251230T183000
DTEND;TZID=America/Halifax:20251230T200000
DTSTAMP:20260421T195501
CREATED:20240919T175158Z
LAST-MODIFIED:20260415T142046Z
UID:10013381-1767119400-1767124800@www.lovemylibrary.ca
SUMMARY:Ewe-niacke Yarn Club
DESCRIPTION:Fiber art for all ages and abilities. Learn to knit or crochet\, bring a project you are working on\, or just come hang out with the club for some social time. All ages welcome. \nDrop in\, no registration required.
URL:https://www.lovemylibrary.ca/event/ewe-niacke-yarn-club-3-2-2-2/2025-12-30/
LOCATION:Mount Uniacke Library\, 555\, Highway 1\, Mount Uniacke\, Nova Scotia\, Canada
CATEGORIES:Crafting,Events For Adults,Events For Kids,Events For Seniors,Location: Mount Uniacke
ATTACH;FMTTYPE=image/png:https://www.lovemylibrary.ca/wp-content/uploads/2022/03/Untitled-design-89.png
END:VEVENT
BEGIN:VEVENT
DTSTART;TZID=America/Halifax:20251231T100000
DTEND;TZID=America/Halifax:20251231T150000
DTSTAMP:20260421T195501
CREATED:20251212T145806Z
LAST-MODIFIED:20251212T145806Z
UID:10013593-1767175200-1767193200@www.lovemylibrary.ca
SUMMARY:Tech Help
DESCRIPTION:Experiencing tech troubles with your phone\, tablet\, or computer? Would you like to learn how to access FREE ebooks\, audiobooks\, movies\, and music online using your library card? Give us a call today! \nTo book an appointment\, please call us at 902-883-9838 or email us at elmsdale@cehpubliclibrary.ca
URL:https://www.lovemylibrary.ca/event/tech-help-9/2025-12-31/
LOCATION:Elmsdale Library\, 15 Commerce Ct\, Elmsdale\, Nova Scotia\, Canada
CATEGORIES:Location: Elmsdale
ATTACH;FMTTYPE=image/png:https://www.lovemylibrary.ca/wp-content/uploads/2025/12/Untitled-design-2025-12-12T105758.198.png
END:VEVENT
BEGIN:VEVENT
DTSTART;TZID=America/Halifax:20251231T103000
DTEND;TZID=America/Halifax:20251231T110000
DTSTAMP:20260421T195501
CREATED:20251219T193920Z
LAST-MODIFIED:20260415T141101Z
UID:10013741-1767177000-1767178800@www.lovemylibrary.ca
SUMMARY:Storytime
DESCRIPTION:Enjoy a picture book read by Karri or Bernie and then participate in an activity.  Please note there will be no Storytime on January 24\,28\,and 31. For pre-schoolers and home schoolers. \nThis is a drop-in program. No registration is required.
URL:https://www.lovemylibrary.ca/event/storytime-12/2025-12-31/
LOCATION:Mount Uniacke Library\, 555\, Highway 1\, Mount Uniacke\, Nova Scotia\, Canada
CATEGORIES:Events For Kids,Location: Mount Uniacke
ATTACH;FMTTYPE=image/png:https://www.lovemylibrary.ca/wp-content/uploads/2022/05/Untitled-design-2.png
END:VEVENT
BEGIN:VEVENT
DTSTART;TZID=America/Halifax:20251231T130000
DTEND;TZID=America/Halifax:20251231T150000
DTSTAMP:20260421T195501
CREATED:20250905T181307Z
LAST-MODIFIED:20260401T152139Z
UID:10013823-1767186000-1767193200@www.lovemylibrary.ca
SUMMARY:Makers in the Maker Lab
DESCRIPTION:Calling all Makers! Drop by for a relaxing afternoon to hang out with fellow crafters. Bring along your ongoing projects like knitting\, crochet\, needlework\, painting or other hands on crafts. \nNo registration\, drop in.
URL:https://www.lovemylibrary.ca/event/makers-in-the-maker-lab-14-2-2/2025-12-31/
LOCATION:Truro Library\, 754 Prince St\, Truro\, Nova Scotia\, Canada
CATEGORIES:Crafting,Events For Adults,Events For Seniors,Location: Truro
ATTACH;FMTTYPE=image/png:https://www.lovemylibrary.ca/wp-content/uploads/2025/09/Info-Calendar-Images-1.png
END:VEVENT
BEGIN:VEVENT
DTSTART;TZID=America/Halifax:20251231T150000
DTEND;TZID=America/Halifax:20251231T163000
DTSTAMP:20260421T195501
CREATED:20250820T135426Z
LAST-MODIFIED:20260203T193209Z
UID:10013890-1767193200-1767198600@www.lovemylibrary.ca
SUMMARY:Teen Room Drop In
DESCRIPTION:Come hang out! Grab a snack\, play our Nintendo Switch\, challenge your friends to a board game\, build with Lego\, or make art!  Ages 13-18 \nThis is a drop-in program. No registration is required.
URL:https://www.lovemylibrary.ca/event/teen-room-drop-in-5-2/2025-12-31/
LOCATION:Truro Library\, 754 Prince St\, Truro\, Nova Scotia\, Canada
CATEGORIES:Events For Teens,Location: Truro
ATTACH;FMTTYPE=image/png:https://www.lovemylibrary.ca/wp-content/uploads/2022/10/Untitled-design-53.png
END:VEVENT
BEGIN:VEVENT
DTSTART;TZID=America/Halifax:20251231T150000
DTEND;TZID=America/Halifax:20251231T163000
DTSTAMP:20260421T195501
CREATED:20260323T191525Z
LAST-MODIFIED:20260414T171217Z
UID:10014596-1767193200-1767198600@www.lovemylibrary.ca
SUMMARY:Teen Room Drop In
DESCRIPTION:Come hang out after school! Grab a snack\, play our Nintendo Switch\, challenge your friends to a board game\, build with Lego\, or make art. Ages 13-18 \nThis is a drop-in program. No registration is required.
URL:https://www.lovemylibrary.ca/event/teen-room-drop-in-6/2025-12-31/
LOCATION:Truro Library\, 754 Prince St\, Truro\, Nova Scotia\, Canada
CATEGORIES:Events For Teens,Location: Truro
ATTACH;FMTTYPE=image/png:https://www.lovemylibrary.ca/wp-content/uploads/2022/10/Untitled-design-53.png
END:VEVENT
BEGIN:VEVENT
DTSTART;VALUE=DATE:20260101
DTEND;VALUE=DATE:20260430
DTSTAMP:20260421T195501
CREATED:20260102T193054Z
LAST-MODIFIED:20260401T153101Z
UID:10013493-1767225600-1777507199@www.lovemylibrary.ca
SUMMARY:Tech Help: Drop-in Sessions & One-on-One Appointments
DESCRIPTION:Experiencing tech troubles with your phone\, tablet\, computer\, or the library computers? Would you like to learn how to access FREE eBooks\, audiobooks\, movies\, and music online using your library card? Our Digital Literacy Trainer is here to answer your tech questions! \nTo book an appointment\, or for more information\, please visit our front desk\, email digital.literacytrainers@gmail.com\, or call (902) 895-4183\n\n\nMonday-10:00-12:00pm drop-in (Maker Lab)\n\n\n1:00-4:00 appointments (Teen Room) \n\n\n\n\nTuesday-3:00-6:00pm appointments    \n\n\n6:00-8:00pm drop-in  \n\n\nWednesday –10:00-11:30am drop-in (Maker Lab) \n\n\n12:00-2:00pm appointments (Teen Room) \n\n\n\n\nSaturday  –2:00-3:00pm appointments  \n\n\n3:00-5:00pm drop-ins
URL:https://www.lovemylibrary.ca/event/tech-help-drop-in-session-2/
LOCATION:Truro Library\, 754 Prince St\, Truro\, Nova Scotia\, Canada
CATEGORIES:Events For Adults,Events For Seniors,Location: Truro
ATTACH;FMTTYPE=image/png:https://www.lovemylibrary.ca/wp-content/uploads/2025/09/Untitled-design-41.png
END:VEVENT
BEGIN:VEVENT
DTSTART;TZID=America/Halifax:20260101T100000
DTEND;TZID=America/Halifax:20260101T150000
DTSTAMP:20260421T195501
CREATED:20251212T145806Z
LAST-MODIFIED:20251212T145806Z
UID:10013594-1767261600-1767279600@www.lovemylibrary.ca
SUMMARY:Tech Help
DESCRIPTION:Experiencing tech troubles with your phone\, tablet\, or computer? Would you like to learn how to access FREE ebooks\, audiobooks\, movies\, and music online using your library card? Give us a call today! \nTo book an appointment\, please call us at 902-883-9838 or email us at elmsdale@cehpubliclibrary.ca
URL:https://www.lovemylibrary.ca/event/tech-help-9/2026-01-01/
LOCATION:Elmsdale Library\, 15 Commerce Ct\, Elmsdale\, Nova Scotia\, Canada
CATEGORIES:Location: Elmsdale
ATTACH;FMTTYPE=image/png:https://www.lovemylibrary.ca/wp-content/uploads/2025/12/Untitled-design-2025-12-12T105758.198.png
END:VEVENT
BEGIN:VEVENT
DTSTART;TZID=America/Halifax:20260101T103000
DTEND;TZID=America/Halifax:20260101T123000
DTSTAMP:20260421T195501
CREATED:20250905T184306Z
LAST-MODIFIED:20260401T152251Z
UID:10013833-1767263400-1767270600@www.lovemylibrary.ca
SUMMARY:Drop-in Housing Outreach Services with Housing Outreach Society
DESCRIPTION:Workers from the Truro Housing Outreach Society will be at the library to offer housing and outreach support services for folks experiencing homelessness and/or housing insecurity. This can include access to survival supplies\, client case management and care plans\, assistance with rental and subsidy applications\, sending paperwork to agencies\, and interfacing with landlords. \nAdults. In-person. Drop-in: no registration required.
URL:https://www.lovemylibrary.ca/event/drop-in-housing-outreach-services-with-housing-outreach-society/2026-01-01/
LOCATION:Truro Library\, 754 Prince St\, Truro\, Nova Scotia\, Canada
CATEGORIES:Events For Adults,Location: Truro
ATTACH;FMTTYPE=image/png:https://www.lovemylibrary.ca/wp-content/uploads/2025/08/Untitled-design-39.png
END:VEVENT
BEGIN:VEVENT
DTSTART;TZID=America/Halifax:20260101T110000
DTEND;TZID=America/Halifax:20260101T112000
DTSTAMP:20260421T195501
CREATED:20250820T135034Z
LAST-MODIFIED:20260414T165957Z
UID:10013881-1767265200-1767266400@www.lovemylibrary.ca
SUMMARY:Tales for Tots
DESCRIPTION:Join us Thursday mornings in the Big Brothers Big Sisters Room for stories\, songs\, and activities that are just right for terrific toddlers! \n18 months-4 years with a parent/caregiver. \nDrop-in\, no registration required.
URL:https://www.lovemylibrary.ca/event/tales-for-tots-2-2-2-2-2/2026-01-01/
LOCATION:Truro Library\, 754 Prince St\, Truro\, Nova Scotia\, Canada
CATEGORIES:Events For Kids,Location: Truro
ATTACH;FMTTYPE=image/png:https://www.lovemylibrary.ca/wp-content/uploads/2022/03/Untitled-design-81.png
END:VEVENT
BEGIN:VEVENT
DTSTART;TZID=America/Halifax:20260101T150000
DTEND;TZID=America/Halifax:20260101T163000
DTSTAMP:20260421T195501
CREATED:20250820T135426Z
LAST-MODIFIED:20260203T193209Z
UID:10013891-1767279600-1767285000@www.lovemylibrary.ca
SUMMARY:Teen Room Drop In
DESCRIPTION:Come hang out! Grab a snack\, play our Nintendo Switch\, challenge your friends to a board game\, build with Lego\, or make art!  Ages 13-18 \nThis is a drop-in program. No registration is required.
URL:https://www.lovemylibrary.ca/event/teen-room-drop-in-5-2/2026-01-01/
LOCATION:Truro Library\, 754 Prince St\, Truro\, Nova Scotia\, Canada
CATEGORIES:Events For Teens,Location: Truro
ATTACH;FMTTYPE=image/png:https://www.lovemylibrary.ca/wp-content/uploads/2022/10/Untitled-design-53.png
END:VEVENT
BEGIN:VEVENT
DTSTART;TZID=America/Halifax:20260102T100000
DTEND;TZID=America/Halifax:20260102T120000
DTSTAMP:20260421T195501
CREATED:20250417T174051Z
LAST-MODIFIED:20260415T173232Z
UID:10013619-1767348000-1767355200@www.lovemylibrary.ca
SUMMARY:One on One Tech Help
DESCRIPTION:Issues with your phone? Laptop? Social Media? Meet in-person with our digital literacy trainer to get your tech questions answered. \nDrop in – please call (902) 883-9838 or email us at elmsdale@cehpubliclibrary.ca for more details.
URL:https://www.lovemylibrary.ca/event/one-on-one-tech-help-7-2-2-2-2/2026-01-02/
LOCATION:Elmsdale Library\, 15 Commerce Ct\, Elmsdale\, Nova Scotia\, Canada
CATEGORIES:Events For Adults,Location: Elmsdale
ATTACH;FMTTYPE=image/png:https://www.lovemylibrary.ca/wp-content/uploads/2022/03/Untitled-design-80.png
END:VEVENT
BEGIN:VEVENT
DTSTART;TZID=America/Halifax:20260103T103000
DTEND;TZID=America/Halifax:20260103T110000
DTSTAMP:20260421T195501
CREATED:20251219T193920Z
LAST-MODIFIED:20260415T141101Z
UID:10013742-1767436200-1767438000@www.lovemylibrary.ca
SUMMARY:Storytime
DESCRIPTION:Enjoy a picture book read by Karri or Bernie and then participate in an activity.  Please note there will be no Storytime on January 24\,28\,and 31. For pre-schoolers and home schoolers. \nThis is a drop-in program. No registration is required.
URL:https://www.lovemylibrary.ca/event/storytime-12/2026-01-03/
LOCATION:Mount Uniacke Library\, 555\, Highway 1\, Mount Uniacke\, Nova Scotia\, Canada
CATEGORIES:Events For Kids,Location: Mount Uniacke
ATTACH;FMTTYPE=image/png:https://www.lovemylibrary.ca/wp-content/uploads/2022/05/Untitled-design-2.png
END:VEVENT
BEGIN:VEVENT
DTSTART;TZID=America/Halifax:20260103T140000
DTEND;TZID=America/Halifax:20260103T150000
DTSTAMP:20260421T195501
CREATED:20240916T151848Z
LAST-MODIFIED:20260117T201509Z
UID:10013681-1767448800-1767452400@www.lovemylibrary.ca
SUMMARY:Lego Club
DESCRIPTION:Build\, create\, and explore! Lego Club is the perfect place to let your imagination run wild—one brick at a time. For ages 5-99 \nThis is a drop-in program. No registration is required.
URL:https://www.lovemylibrary.ca/event/lego-club-5-2-2-2/2026-01-03/
LOCATION:Stewiacke Library\, 295 George Street\, Stewiacke\, Nova Scotia\, Canada
CATEGORIES:Events For Kids,Location: Stewiacke
ATTACH;FMTTYPE=image/png:https://www.lovemylibrary.ca/wp-content/uploads/2022/06/Untitled-design-20.png
END:VEVENT
END:VCALENDAR