BEGIN:VCALENDAR
VERSION:2.0
PRODID:-//Colchester East Hants Public Library - ECPv6.15.20//NONSGML v1.0//EN
CALSCALE:GREGORIAN
METHOD:PUBLISH
X-ORIGINAL-URL:https://www.lovemylibrary.ca
X-WR-CALDESC:Events for Colchester East Hants Public Library
REFRESH-INTERVAL;VALUE=DURATION:PT1H
X-Robots-Tag:noindex
X-PUBLISHED-TTL:PT1H
BEGIN:VTIMEZONE
TZID:America/Halifax
BEGIN:DAYLIGHT
TZOFFSETFROM:-0400
TZOFFSETTO:-0300
TZNAME:ADT
DTSTART:20250309T060000
END:DAYLIGHT
BEGIN:STANDARD
TZOFFSETFROM:-0300
TZOFFSETTO:-0400
TZNAME:AST
DTSTART:20251102T050000
END:STANDARD
BEGIN:DAYLIGHT
TZOFFSETFROM:-0400
TZOFFSETTO:-0300
TZNAME:ADT
DTSTART:20260308T060000
END:DAYLIGHT
BEGIN:STANDARD
TZOFFSETFROM:-0300
TZOFFSETTO:-0400
TZNAME:AST
DTSTART:20261101T050000
END:STANDARD
BEGIN:DAYLIGHT
TZOFFSETFROM:-0400
TZOFFSETTO:-0300
TZNAME:ADT
DTSTART:20270314T060000
END:DAYLIGHT
BEGIN:STANDARD
TZOFFSETFROM:-0300
TZOFFSETTO:-0400
TZNAME:AST
DTSTART:20271107T050000
END:STANDARD
END:VTIMEZONE
BEGIN:VEVENT
DTSTART;TZID=America/Halifax:20260523T103000
DTEND;TZID=America/Halifax:20260523T110000
DTSTAMP:20260421T210444
CREATED:20241121T154110Z
LAST-MODIFIED:20260415T173841Z
UID:10014457-1779532200-1779534000@www.lovemylibrary.ca
SUMMARY:Toddler Time
DESCRIPTION:Come and enjoy story time at the library. A great way for your little one to make new friends. For children ages 0-2 \nThis is a drop-in program. Please call us at 902-883-9838 or email us at elmsdale@cehpubliclibrary.ca for more details
URL:https://www.lovemylibrary.ca/event/toddler-time-2-2/2026-05-23/
LOCATION:Elmsdale Library\, 15 Commerce Ct\, Elmsdale\, Nova Scotia\, Canada
CATEGORIES:Events For Kids,Location: Elmsdale
ATTACH;FMTTYPE=image/png:https://www.lovemylibrary.ca/wp-content/uploads/2022/03/Untitled-design-75.png
END:VEVENT
BEGIN:VEVENT
DTSTART;TZID=America/Halifax:20260526T133000
DTEND;TZID=America/Halifax:20260526T153000
DTSTAMP:20260421T210444
CREATED:20260317T160855Z
LAST-MODIFIED:20260317T160855Z
UID:10014465-1779802200-1779809400@www.lovemylibrary.ca
SUMMARY:Caregiver Education Series
DESCRIPTION:A series for family members and care partners of people recently diagnosed with dementia. Participants learn about symptoms of dementia\, coping strategies\, future planning and community resources. \nPlease call 1-800-611-6345 to register
URL:https://www.lovemylibrary.ca/event/caregiver-education-series/2026-05-26/
LOCATION:Elmsdale Library\, 15 Commerce Ct\, Elmsdale\, Nova Scotia\, Canada
CATEGORIES:Events For Adults,Location: Elmsdale
ATTACH;FMTTYPE=image/png:https://www.lovemylibrary.ca/wp-content/uploads/2026/03/Untitled-design-2026-03-17T130950.868.png
END:VEVENT
BEGIN:VEVENT
DTSTART;TZID=America/Halifax:20260526T163000
DTEND;TZID=America/Halifax:20260526T193000
DTSTAMP:20260421T210444
CREATED:20260415T174437Z
LAST-MODIFIED:20260415T174437Z
UID:10014826-1779813000-1779823800@www.lovemylibrary.ca
SUMMARY:Collage Club
DESCRIPTION:Explore your creative side at the Elmsdale Library with the Collage Club! We’re busting out the scissors and glue and cutting up magazines and picture books to assemble a cool piece of art. You can also make postcards\, vision boards\, zines – whatever you want! Whether you’re a seasoned collage pro or just looking to try a new creative outlet\, come get creative! Ages 10+ \nIn Person\, drop in. Please call (902) 883-9383 or email us at elmsdale@cehpubliclibrary.ca for more details.
URL:https://www.lovemylibrary.ca/event/collage-club-3-2-2/2026-05-26/
LOCATION:Elmsdale Library\, 15 Commerce Ct\, Elmsdale\, Nova Scotia\, Canada
CATEGORIES:Events For Kids,Location: Elmsdale
ATTACH;FMTTYPE=image/png:https://www.lovemylibrary.ca/wp-content/uploads/2024/12/Untitled-design-1.png
END:VEVENT
BEGIN:VEVENT
DTSTART;TZID=America/Halifax:20260527T140000
DTEND;TZID=America/Halifax:20260527T160000
DTSTAMP:20260421T210444
CREATED:20250417T181643Z
LAST-MODIFIED:20260415T173925Z
UID:10014450-1779890400-1779897600@www.lovemylibrary.ca
SUMMARY:Social Café
DESCRIPTION:Are you retired\, new to the area\, or just looking to connect with some new people? We would love to see you and welcome you to the library! Light refreshments available. \nIn person\, drop in. For more details call us at (902) 883-9838 or email us at elmsdale@cehpubliclibrary.ca
URL:https://www.lovemylibrary.ca/event/social-cafe-5/2026-05-27/
LOCATION:Elmsdale Library\, 15 Commerce Ct\, Elmsdale\, Nova Scotia\, Canada
CATEGORIES:Events For Adults,Events For Seniors,Location: Elmsdale
ATTACH;FMTTYPE=image/png:https://www.lovemylibrary.ca/wp-content/uploads/2025/04/Untitled-design-2023-06-19T111314.785.png
END:VEVENT
BEGIN:VEVENT
DTSTART;TZID=America/Halifax:20260529T100000
DTEND;TZID=America/Halifax:20260529T120000
DTSTAMP:20260421T210444
CREATED:20250417T174051Z
LAST-MODIFIED:20260415T173232Z
UID:10014816-1780048800-1780056000@www.lovemylibrary.ca
SUMMARY:One on One Tech Help
DESCRIPTION:Issues with your phone? Laptop? Social Media? Meet in-person with our digital literacy trainer to get your tech questions answered. \nDrop in – please call (902) 883-9838 or email us at elmsdale@cehpubliclibrary.ca for more details.
URL:https://www.lovemylibrary.ca/event/one-on-one-tech-help-7-2-2-2-2/2026-05-29/
LOCATION:Elmsdale Library\, 15 Commerce Ct\, Elmsdale\, Nova Scotia\, Canada
CATEGORIES:Events For Adults,Location: Elmsdale
ATTACH;FMTTYPE=image/png:https://www.lovemylibrary.ca/wp-content/uploads/2022/03/Untitled-design-80.png
END:VEVENT
BEGIN:VEVENT
DTSTART;TZID=America/Halifax:20260530T123000
DTEND;TZID=America/Halifax:20260530T140000
DTSTAMP:20260421T210444
CREATED:20260217T223357Z
LAST-MODIFIED:20260415T174928Z
UID:10014827-1780144200-1780149600@www.lovemylibrary.ca
SUMMARY:Video Game Club
DESCRIPTION:Join us once a month to play games like Mario Kart and Super Smash Bros\, sample some indie games\, trade Pokémon\, and catch the latest in gaming news – all at your local library! For tweens/teens \nIn-Person\, drop in – For more information\, please call 902-883-9838 or email us at elmsdale@cehpubliclibrary.ca
URL:https://www.lovemylibrary.ca/event/video-game-club-3-2-2-2/2026-05-30/
LOCATION:Elmsdale Library\, 15 Commerce Ct\, Elmsdale\, Nova Scotia\, Canada
CATEGORIES:Events For Kids,Events For Teens,Location: Elmsdale
ATTACH;FMTTYPE=image/png:https://www.lovemylibrary.ca/wp-content/uploads/2023/04/Untitled-design-30.png
END:VEVENT
BEGIN:VEVENT
DTSTART;TZID=America/Halifax:20260602T133000
DTEND;TZID=America/Halifax:20260602T153000
DTSTAMP:20260421T210444
CREATED:20260317T160855Z
LAST-MODIFIED:20260317T160855Z
UID:10014466-1780407000-1780414200@www.lovemylibrary.ca
SUMMARY:Caregiver Education Series
DESCRIPTION:A series for family members and care partners of people recently diagnosed with dementia. Participants learn about symptoms of dementia\, coping strategies\, future planning and community resources. \nPlease call 1-800-611-6345 to register
URL:https://www.lovemylibrary.ca/event/caregiver-education-series/2026-06-02/
LOCATION:Elmsdale Library\, 15 Commerce Ct\, Elmsdale\, Nova Scotia\, Canada
CATEGORIES:Events For Adults,Location: Elmsdale
ATTACH;FMTTYPE=image/png:https://www.lovemylibrary.ca/wp-content/uploads/2026/03/Untitled-design-2026-03-17T130950.868.png
END:VEVENT
BEGIN:VEVENT
DTSTART;TZID=America/Halifax:20260603T103000
DTEND;TZID=America/Halifax:20260603T113000
DTSTAMP:20260421T210444
CREATED:20251216T233455Z
LAST-MODIFIED:20260415T173321Z
UID:10014817-1780482600-1780486200@www.lovemylibrary.ca
SUMMARY:Storytime
DESCRIPTION:Join us for a fun-filled Storytime at the library! There will be stories\, maybe a song or two along with a craft For children 2-4. \nThis is a drop in program. No registration is required. Please call 902-883-9838 or email us at elmsdale@cehpubliclibrary.ca for more details
URL:https://www.lovemylibrary.ca/event/snowy-storytime/2026-06-03/
LOCATION:Elmsdale Library\, 15 Commerce Ct\, Elmsdale\, Nova Scotia\, Canada
CATEGORIES:Events For Kids,Location: Elmsdale
ATTACH;FMTTYPE=image/png:https://www.lovemylibrary.ca/wp-content/uploads/2025/09/Untitled-design-55.png
END:VEVENT
BEGIN:VEVENT
DTSTART;TZID=America/Halifax:20260606T103000
DTEND;TZID=America/Halifax:20260606T110000
DTSTAMP:20260421T210444
CREATED:20241121T154110Z
LAST-MODIFIED:20260415T173841Z
UID:10014819-1780741800-1780743600@www.lovemylibrary.ca
SUMMARY:Toddler Time
DESCRIPTION:Come and enjoy story time at the library. A great way for your little one to make new friends. For children ages 0-2 \nThis is a drop-in program. Please call us at 902-883-9838 or email us at elmsdale@cehpubliclibrary.ca for more details
URL:https://www.lovemylibrary.ca/event/toddler-time-2-2/2026-06-06/
LOCATION:Elmsdale Library\, 15 Commerce Ct\, Elmsdale\, Nova Scotia\, Canada
CATEGORIES:Events For Kids,Location: Elmsdale
ATTACH;FMTTYPE=image/png:https://www.lovemylibrary.ca/wp-content/uploads/2022/03/Untitled-design-75.png
END:VEVENT
BEGIN:VEVENT
DTSTART;TZID=America/Halifax:20260609T133000
DTEND;TZID=America/Halifax:20260609T153000
DTSTAMP:20260421T210444
CREATED:20260317T160855Z
LAST-MODIFIED:20260317T160855Z
UID:10014467-1781011800-1781019000@www.lovemylibrary.ca
SUMMARY:Caregiver Education Series
DESCRIPTION:A series for family members and care partners of people recently diagnosed with dementia. Participants learn about symptoms of dementia\, coping strategies\, future planning and community resources. \nPlease call 1-800-611-6345 to register
URL:https://www.lovemylibrary.ca/event/caregiver-education-series/2026-06-09/
LOCATION:Elmsdale Library\, 15 Commerce Ct\, Elmsdale\, Nova Scotia\, Canada
CATEGORIES:Events For Adults,Location: Elmsdale
ATTACH;FMTTYPE=image/png:https://www.lovemylibrary.ca/wp-content/uploads/2026/03/Untitled-design-2026-03-17T130950.868.png
END:VEVENT
BEGIN:VEVENT
DTSTART;TZID=America/Halifax:20260610T140000
DTEND;TZID=America/Halifax:20260610T160000
DTSTAMP:20260421T210444
CREATED:20250417T181643Z
LAST-MODIFIED:20260415T173925Z
UID:10014821-1781100000-1781107200@www.lovemylibrary.ca
SUMMARY:Social Café
DESCRIPTION:Are you retired\, new to the area\, or just looking to connect with some new people? We would love to see you and welcome you to the library! Light refreshments available. \nIn person\, drop in. For more details call us at (902) 883-9838 or email us at elmsdale@cehpubliclibrary.ca
URL:https://www.lovemylibrary.ca/event/social-cafe-5/2026-06-10/
LOCATION:Elmsdale Library\, 15 Commerce Ct\, Elmsdale\, Nova Scotia\, Canada
CATEGORIES:Events For Adults,Events For Seniors,Location: Elmsdale
ATTACH;FMTTYPE=image/png:https://www.lovemylibrary.ca/wp-content/uploads/2025/04/Untitled-design-2023-06-19T111314.785.png
END:VEVENT
BEGIN:VEVENT
DTSTART;TZID=America/Halifax:20260616T133000
DTEND;TZID=America/Halifax:20260616T153000
DTSTAMP:20260421T210444
CREATED:20260317T160855Z
LAST-MODIFIED:20260317T160855Z
UID:10014468-1781616600-1781623800@www.lovemylibrary.ca
SUMMARY:Caregiver Education Series
DESCRIPTION:A series for family members and care partners of people recently diagnosed with dementia. Participants learn about symptoms of dementia\, coping strategies\, future planning and community resources. \nPlease call 1-800-611-6345 to register
URL:https://www.lovemylibrary.ca/event/caregiver-education-series/2026-06-16/
LOCATION:Elmsdale Library\, 15 Commerce Ct\, Elmsdale\, Nova Scotia\, Canada
CATEGORIES:Events For Adults,Location: Elmsdale
ATTACH;FMTTYPE=image/png:https://www.lovemylibrary.ca/wp-content/uploads/2026/03/Untitled-design-2026-03-17T130950.868.png
END:VEVENT
BEGIN:VEVENT
DTSTART;TZID=America/Halifax:20260617T103000
DTEND;TZID=America/Halifax:20260617T113000
DTSTAMP:20260421T210444
CREATED:20251216T233455Z
LAST-MODIFIED:20260415T173321Z
UID:10014818-1781692200-1781695800@www.lovemylibrary.ca
SUMMARY:Storytime
DESCRIPTION:Join us for a fun-filled Storytime at the library! There will be stories\, maybe a song or two along with a craft For children 2-4. \nThis is a drop in program. No registration is required. Please call 902-883-9838 or email us at elmsdale@cehpubliclibrary.ca for more details
URL:https://www.lovemylibrary.ca/event/snowy-storytime/2026-06-17/
LOCATION:Elmsdale Library\, 15 Commerce Ct\, Elmsdale\, Nova Scotia\, Canada
CATEGORIES:Events For Kids,Location: Elmsdale
ATTACH;FMTTYPE=image/png:https://www.lovemylibrary.ca/wp-content/uploads/2025/09/Untitled-design-55.png
END:VEVENT
BEGIN:VEVENT
DTSTART;TZID=America/Halifax:20260620T103000
DTEND;TZID=America/Halifax:20260620T110000
DTSTAMP:20260421T210444
CREATED:20241121T154110Z
LAST-MODIFIED:20260415T173841Z
UID:10014820-1781951400-1781953200@www.lovemylibrary.ca
SUMMARY:Toddler Time
DESCRIPTION:Come and enjoy story time at the library. A great way for your little one to make new friends. For children ages 0-2 \nThis is a drop-in program. Please call us at 902-883-9838 or email us at elmsdale@cehpubliclibrary.ca for more details
URL:https://www.lovemylibrary.ca/event/toddler-time-2-2/2026-06-20/
LOCATION:Elmsdale Library\, 15 Commerce Ct\, Elmsdale\, Nova Scotia\, Canada
CATEGORIES:Events For Kids,Location: Elmsdale
ATTACH;FMTTYPE=image/png:https://www.lovemylibrary.ca/wp-content/uploads/2022/03/Untitled-design-75.png
END:VEVENT
BEGIN:VEVENT
DTSTART;TZID=America/Halifax:20260623T133000
DTEND;TZID=America/Halifax:20260623T153000
DTSTAMP:20260421T210444
CREATED:20260317T160855Z
LAST-MODIFIED:20260317T160855Z
UID:10014469-1782221400-1782228600@www.lovemylibrary.ca
SUMMARY:Caregiver Education Series
DESCRIPTION:A series for family members and care partners of people recently diagnosed with dementia. Participants learn about symptoms of dementia\, coping strategies\, future planning and community resources. \nPlease call 1-800-611-6345 to register
URL:https://www.lovemylibrary.ca/event/caregiver-education-series/2026-06-23/
LOCATION:Elmsdale Library\, 15 Commerce Ct\, Elmsdale\, Nova Scotia\, Canada
CATEGORIES:Events For Adults,Location: Elmsdale
ATTACH;FMTTYPE=image/png:https://www.lovemylibrary.ca/wp-content/uploads/2026/03/Untitled-design-2026-03-17T130950.868.png
END:VEVENT
BEGIN:VEVENT
DTSTART;TZID=America/Halifax:20260624T140000
DTEND;TZID=America/Halifax:20260624T160000
DTSTAMP:20260421T210444
CREATED:20250417T181643Z
LAST-MODIFIED:20260415T173925Z
UID:10014822-1782309600-1782316800@www.lovemylibrary.ca
SUMMARY:Social Café
DESCRIPTION:Are you retired\, new to the area\, or just looking to connect with some new people? We would love to see you and welcome you to the library! Light refreshments available. \nIn person\, drop in. For more details call us at (902) 883-9838 or email us at elmsdale@cehpubliclibrary.ca
URL:https://www.lovemylibrary.ca/event/social-cafe-5/2026-06-24/
LOCATION:Elmsdale Library\, 15 Commerce Ct\, Elmsdale\, Nova Scotia\, Canada
CATEGORIES:Events For Adults,Events For Seniors,Location: Elmsdale
ATTACH;FMTTYPE=image/png:https://www.lovemylibrary.ca/wp-content/uploads/2025/04/Untitled-design-2023-06-19T111314.785.png
END:VEVENT
BEGIN:VEVENT
DTSTART;TZID=America/Halifax:20260630T133000
DTEND;TZID=America/Halifax:20260630T153000
DTSTAMP:20260421T210444
CREATED:20260317T160855Z
LAST-MODIFIED:20260317T160855Z
UID:10014470-1782826200-1782833400@www.lovemylibrary.ca
SUMMARY:Caregiver Education Series
DESCRIPTION:A series for family members and care partners of people recently diagnosed with dementia. Participants learn about symptoms of dementia\, coping strategies\, future planning and community resources. \nPlease call 1-800-611-6345 to register
URL:https://www.lovemylibrary.ca/event/caregiver-education-series/2026-06-30/
LOCATION:Elmsdale Library\, 15 Commerce Ct\, Elmsdale\, Nova Scotia\, Canada
CATEGORIES:Events For Adults,Location: Elmsdale
ATTACH;FMTTYPE=image/png:https://www.lovemylibrary.ca/wp-content/uploads/2026/03/Untitled-design-2026-03-17T130950.868.png
END:VEVENT
BEGIN:VEVENT
DTSTART;TZID=America/Halifax:20260707T133000
DTEND;TZID=America/Halifax:20260707T153000
DTSTAMP:20260421T210444
CREATED:20260317T160855Z
LAST-MODIFIED:20260317T160855Z
UID:10014471-1783431000-1783438200@www.lovemylibrary.ca
SUMMARY:Caregiver Education Series
DESCRIPTION:A series for family members and care partners of people recently diagnosed with dementia. Participants learn about symptoms of dementia\, coping strategies\, future planning and community resources. \nPlease call 1-800-611-6345 to register
URL:https://www.lovemylibrary.ca/event/caregiver-education-series/2026-07-07/
LOCATION:Elmsdale Library\, 15 Commerce Ct\, Elmsdale\, Nova Scotia\, Canada
CATEGORIES:Events For Adults,Location: Elmsdale
ATTACH;FMTTYPE=image/png:https://www.lovemylibrary.ca/wp-content/uploads/2026/03/Untitled-design-2026-03-17T130950.868.png
END:VEVENT
BEGIN:VEVENT
DTSTART;TZID=America/Halifax:20260714T133000
DTEND;TZID=America/Halifax:20260714T153000
DTSTAMP:20260421T210444
CREATED:20260317T160855Z
LAST-MODIFIED:20260317T160855Z
UID:10014472-1784035800-1784043000@www.lovemylibrary.ca
SUMMARY:Caregiver Education Series
DESCRIPTION:A series for family members and care partners of people recently diagnosed with dementia. Participants learn about symptoms of dementia\, coping strategies\, future planning and community resources. \nPlease call 1-800-611-6345 to register
URL:https://www.lovemylibrary.ca/event/caregiver-education-series/2026-07-14/
LOCATION:Elmsdale Library\, 15 Commerce Ct\, Elmsdale\, Nova Scotia\, Canada
CATEGORIES:Events For Adults,Location: Elmsdale
ATTACH;FMTTYPE=image/png:https://www.lovemylibrary.ca/wp-content/uploads/2026/03/Untitled-design-2026-03-17T130950.868.png
END:VEVENT
BEGIN:VEVENT
DTSTART;TZID=America/Halifax:20260721T133000
DTEND;TZID=America/Halifax:20260721T153000
DTSTAMP:20260421T210444
CREATED:20260317T160855Z
LAST-MODIFIED:20260317T160855Z
UID:10014473-1784640600-1784647800@www.lovemylibrary.ca
SUMMARY:Caregiver Education Series
DESCRIPTION:A series for family members and care partners of people recently diagnosed with dementia. Participants learn about symptoms of dementia\, coping strategies\, future planning and community resources. \nPlease call 1-800-611-6345 to register
URL:https://www.lovemylibrary.ca/event/caregiver-education-series/2026-07-21/
LOCATION:Elmsdale Library\, 15 Commerce Ct\, Elmsdale\, Nova Scotia\, Canada
CATEGORIES:Events For Adults,Location: Elmsdale
ATTACH;FMTTYPE=image/png:https://www.lovemylibrary.ca/wp-content/uploads/2026/03/Untitled-design-2026-03-17T130950.868.png
END:VEVENT
BEGIN:VEVENT
DTSTART;TZID=America/Halifax:20260728T133000
DTEND;TZID=America/Halifax:20260728T153000
DTSTAMP:20260421T210444
CREATED:20260317T160855Z
LAST-MODIFIED:20260317T160855Z
UID:10014474-1785245400-1785252600@www.lovemylibrary.ca
SUMMARY:Caregiver Education Series
DESCRIPTION:A series for family members and care partners of people recently diagnosed with dementia. Participants learn about symptoms of dementia\, coping strategies\, future planning and community resources. \nPlease call 1-800-611-6345 to register
URL:https://www.lovemylibrary.ca/event/caregiver-education-series/2026-07-28/
LOCATION:Elmsdale Library\, 15 Commerce Ct\, Elmsdale\, Nova Scotia\, Canada
CATEGORIES:Events For Adults,Location: Elmsdale
ATTACH;FMTTYPE=image/png:https://www.lovemylibrary.ca/wp-content/uploads/2026/03/Untitled-design-2026-03-17T130950.868.png
END:VEVENT
BEGIN:VEVENT
DTSTART;TZID=America/Halifax:20260804T133000
DTEND;TZID=America/Halifax:20260804T153000
DTSTAMP:20260421T210444
CREATED:20260317T160855Z
LAST-MODIFIED:20260317T160855Z
UID:10014475-1785850200-1785857400@www.lovemylibrary.ca
SUMMARY:Caregiver Education Series
DESCRIPTION:A series for family members and care partners of people recently diagnosed with dementia. Participants learn about symptoms of dementia\, coping strategies\, future planning and community resources. \nPlease call 1-800-611-6345 to register
URL:https://www.lovemylibrary.ca/event/caregiver-education-series/2026-08-04/
LOCATION:Elmsdale Library\, 15 Commerce Ct\, Elmsdale\, Nova Scotia\, Canada
CATEGORIES:Events For Adults,Location: Elmsdale
ATTACH;FMTTYPE=image/png:https://www.lovemylibrary.ca/wp-content/uploads/2026/03/Untitled-design-2026-03-17T130950.868.png
END:VEVENT
BEGIN:VEVENT
DTSTART;TZID=America/Halifax:20260811T133000
DTEND;TZID=America/Halifax:20260811T153000
DTSTAMP:20260421T210444
CREATED:20260317T160855Z
LAST-MODIFIED:20260317T160855Z
UID:10014476-1786455000-1786462200@www.lovemylibrary.ca
SUMMARY:Caregiver Education Series
DESCRIPTION:A series for family members and care partners of people recently diagnosed with dementia. Participants learn about symptoms of dementia\, coping strategies\, future planning and community resources. \nPlease call 1-800-611-6345 to register
URL:https://www.lovemylibrary.ca/event/caregiver-education-series/2026-08-11/
LOCATION:Elmsdale Library\, 15 Commerce Ct\, Elmsdale\, Nova Scotia\, Canada
CATEGORIES:Events For Adults,Location: Elmsdale
ATTACH;FMTTYPE=image/png:https://www.lovemylibrary.ca/wp-content/uploads/2026/03/Untitled-design-2026-03-17T130950.868.png
END:VEVENT
BEGIN:VEVENT
DTSTART;TZID=America/Halifax:20260818T133000
DTEND;TZID=America/Halifax:20260818T153000
DTSTAMP:20260421T210444
CREATED:20260317T160855Z
LAST-MODIFIED:20260317T160855Z
UID:10014477-1787059800-1787067000@www.lovemylibrary.ca
SUMMARY:Caregiver Education Series
DESCRIPTION:A series for family members and care partners of people recently diagnosed with dementia. Participants learn about symptoms of dementia\, coping strategies\, future planning and community resources. \nPlease call 1-800-611-6345 to register
URL:https://www.lovemylibrary.ca/event/caregiver-education-series/2026-08-18/
LOCATION:Elmsdale Library\, 15 Commerce Ct\, Elmsdale\, Nova Scotia\, Canada
CATEGORIES:Events For Adults,Location: Elmsdale
ATTACH;FMTTYPE=image/png:https://www.lovemylibrary.ca/wp-content/uploads/2026/03/Untitled-design-2026-03-17T130950.868.png
END:VEVENT
BEGIN:VEVENT
DTSTART;TZID=America/Halifax:20260825T133000
DTEND;TZID=America/Halifax:20260825T153000
DTSTAMP:20260421T210444
CREATED:20260317T160855Z
LAST-MODIFIED:20260317T160855Z
UID:10014478-1787664600-1787671800@www.lovemylibrary.ca
SUMMARY:Caregiver Education Series
DESCRIPTION:A series for family members and care partners of people recently diagnosed with dementia. Participants learn about symptoms of dementia\, coping strategies\, future planning and community resources. \nPlease call 1-800-611-6345 to register
URL:https://www.lovemylibrary.ca/event/caregiver-education-series/2026-08-25/
LOCATION:Elmsdale Library\, 15 Commerce Ct\, Elmsdale\, Nova Scotia\, Canada
CATEGORIES:Events For Adults,Location: Elmsdale
ATTACH;FMTTYPE=image/png:https://www.lovemylibrary.ca/wp-content/uploads/2026/03/Untitled-design-2026-03-17T130950.868.png
END:VEVENT
BEGIN:VEVENT
DTSTART;TZID=America/Halifax:20260901T133000
DTEND;TZID=America/Halifax:20260901T153000
DTSTAMP:20260421T210444
CREATED:20260317T160855Z
LAST-MODIFIED:20260317T160855Z
UID:10014479-1788269400-1788276600@www.lovemylibrary.ca
SUMMARY:Caregiver Education Series
DESCRIPTION:A series for family members and care partners of people recently diagnosed with dementia. Participants learn about symptoms of dementia\, coping strategies\, future planning and community resources. \nPlease call 1-800-611-6345 to register
URL:https://www.lovemylibrary.ca/event/caregiver-education-series/2026-09-01/
LOCATION:Elmsdale Library\, 15 Commerce Ct\, Elmsdale\, Nova Scotia\, Canada
CATEGORIES:Events For Adults,Location: Elmsdale
ATTACH;FMTTYPE=image/png:https://www.lovemylibrary.ca/wp-content/uploads/2026/03/Untitled-design-2026-03-17T130950.868.png
END:VEVENT
BEGIN:VEVENT
DTSTART;TZID=America/Halifax:20260908T133000
DTEND;TZID=America/Halifax:20260908T153000
DTSTAMP:20260421T210444
CREATED:20260317T160855Z
LAST-MODIFIED:20260317T160855Z
UID:10014480-1788874200-1788881400@www.lovemylibrary.ca
SUMMARY:Caregiver Education Series
DESCRIPTION:A series for family members and care partners of people recently diagnosed with dementia. Participants learn about symptoms of dementia\, coping strategies\, future planning and community resources. \nPlease call 1-800-611-6345 to register
URL:https://www.lovemylibrary.ca/event/caregiver-education-series/2026-09-08/
LOCATION:Elmsdale Library\, 15 Commerce Ct\, Elmsdale\, Nova Scotia\, Canada
CATEGORIES:Events For Adults,Location: Elmsdale
ATTACH;FMTTYPE=image/png:https://www.lovemylibrary.ca/wp-content/uploads/2026/03/Untitled-design-2026-03-17T130950.868.png
END:VEVENT
BEGIN:VEVENT
DTSTART;TZID=America/Halifax:20260915T133000
DTEND;TZID=America/Halifax:20260915T153000
DTSTAMP:20260421T210444
CREATED:20260317T160855Z
LAST-MODIFIED:20260317T160855Z
UID:10014481-1789479000-1789486200@www.lovemylibrary.ca
SUMMARY:Caregiver Education Series
DESCRIPTION:A series for family members and care partners of people recently diagnosed with dementia. Participants learn about symptoms of dementia\, coping strategies\, future planning and community resources. \nPlease call 1-800-611-6345 to register
URL:https://www.lovemylibrary.ca/event/caregiver-education-series/2026-09-15/
LOCATION:Elmsdale Library\, 15 Commerce Ct\, Elmsdale\, Nova Scotia\, Canada
CATEGORIES:Events For Adults,Location: Elmsdale
ATTACH;FMTTYPE=image/png:https://www.lovemylibrary.ca/wp-content/uploads/2026/03/Untitled-design-2026-03-17T130950.868.png
END:VEVENT
BEGIN:VEVENT
DTSTART;TZID=America/Halifax:20260922T133000
DTEND;TZID=America/Halifax:20260922T153000
DTSTAMP:20260421T210444
CREATED:20260317T160855Z
LAST-MODIFIED:20260317T160855Z
UID:10014482-1790083800-1790091000@www.lovemylibrary.ca
SUMMARY:Caregiver Education Series
DESCRIPTION:A series for family members and care partners of people recently diagnosed with dementia. Participants learn about symptoms of dementia\, coping strategies\, future planning and community resources. \nPlease call 1-800-611-6345 to register
URL:https://www.lovemylibrary.ca/event/caregiver-education-series/2026-09-22/
LOCATION:Elmsdale Library\, 15 Commerce Ct\, Elmsdale\, Nova Scotia\, Canada
CATEGORIES:Events For Adults,Location: Elmsdale
ATTACH;FMTTYPE=image/png:https://www.lovemylibrary.ca/wp-content/uploads/2026/03/Untitled-design-2026-03-17T130950.868.png
END:VEVENT
BEGIN:VEVENT
DTSTART;TZID=America/Halifax:20260929T133000
DTEND;TZID=America/Halifax:20260929T153000
DTSTAMP:20260421T210444
CREATED:20260317T160855Z
LAST-MODIFIED:20260317T160855Z
UID:10014483-1790688600-1790695800@www.lovemylibrary.ca
SUMMARY:Caregiver Education Series
DESCRIPTION:A series for family members and care partners of people recently diagnosed with dementia. Participants learn about symptoms of dementia\, coping strategies\, future planning and community resources. \nPlease call 1-800-611-6345 to register
URL:https://www.lovemylibrary.ca/event/caregiver-education-series/2026-09-29/
LOCATION:Elmsdale Library\, 15 Commerce Ct\, Elmsdale\, Nova Scotia\, Canada
CATEGORIES:Events For Adults,Location: Elmsdale
ATTACH;FMTTYPE=image/png:https://www.lovemylibrary.ca/wp-content/uploads/2026/03/Untitled-design-2026-03-17T130950.868.png
END:VEVENT
END:VCALENDAR