BEGIN:VCALENDAR
VERSION:2.0
PRODID:-//Colchester East Hants Public Library - ECPv6.15.20//NONSGML v1.0//EN
CALSCALE:GREGORIAN
METHOD:PUBLISH
X-WR-CALNAME:Colchester East Hants Public Library
X-ORIGINAL-URL:https://www.lovemylibrary.ca
X-WR-CALDESC:Events for Colchester East Hants Public Library
REFRESH-INTERVAL;VALUE=DURATION:PT1H
X-Robots-Tag:noindex
X-PUBLISHED-TTL:PT1H
BEGIN:VTIMEZONE
TZID:America/Halifax
BEGIN:DAYLIGHT
TZOFFSETFROM:-0400
TZOFFSETTO:-0300
TZNAME:ADT
DTSTART:20220313T060000
END:DAYLIGHT
BEGIN:STANDARD
TZOFFSETFROM:-0300
TZOFFSETTO:-0400
TZNAME:AST
DTSTART:20221106T050000
END:STANDARD
BEGIN:DAYLIGHT
TZOFFSETFROM:-0400
TZOFFSETTO:-0300
TZNAME:ADT
DTSTART:20230312T060000
END:DAYLIGHT
BEGIN:STANDARD
TZOFFSETFROM:-0300
TZOFFSETTO:-0400
TZNAME:AST
DTSTART:20231105T050000
END:STANDARD
BEGIN:DAYLIGHT
TZOFFSETFROM:-0400
TZOFFSETTO:-0300
TZNAME:ADT
DTSTART:20240310T060000
END:DAYLIGHT
BEGIN:STANDARD
TZOFFSETFROM:-0300
TZOFFSETTO:-0400
TZNAME:AST
DTSTART:20241103T050000
END:STANDARD
BEGIN:DAYLIGHT
TZOFFSETFROM:-0400
TZOFFSETTO:-0300
TZNAME:ADT
DTSTART:20250309T060000
END:DAYLIGHT
BEGIN:STANDARD
TZOFFSETFROM:-0300
TZOFFSETTO:-0400
TZNAME:AST
DTSTART:20251102T050000
END:STANDARD
BEGIN:DAYLIGHT
TZOFFSETFROM:-0400
TZOFFSETTO:-0300
TZNAME:ADT
DTSTART:20260308T060000
END:DAYLIGHT
BEGIN:STANDARD
TZOFFSETFROM:-0300
TZOFFSETTO:-0400
TZNAME:AST
DTSTART:20261101T050000
END:STANDARD
BEGIN:DAYLIGHT
TZOFFSETFROM:-0400
TZOFFSETTO:-0300
TZNAME:ADT
DTSTART:20270314T060000
END:DAYLIGHT
BEGIN:STANDARD
TZOFFSETFROM:-0300
TZOFFSETTO:-0400
TZNAME:AST
DTSTART:20271107T050000
END:STANDARD
END:VTIMEZONE
BEGIN:VEVENT
DTSTART;TZID=America/Halifax:20260224T100000
DTEND;TZID=America/Halifax:20260224T110000
DTSTAMP:20260425T080054
CREATED:20260107T215501Z
LAST-MODIFIED:20260107T215541Z
UID:10013875-1771927200-1771930800@www.lovemylibrary.ca
SUMMARY:Baby\, Me\, & Mother Goose
DESCRIPTION:All babies 3-18 months are welcome to come for rhymes\, songs\, and stories! In partnership with Maggie’s Place. Call Maggie’s Place at 902-895-0200 to register. \nCall Maggie’s Place at 902-895-0200 to register.
URL:https://www.lovemylibrary.ca/event/baby-me-mother-goose-2-2-2-2-2-2-2-2-2/2026-02-24/
LOCATION:Maggie’s Place\, 1027 Prince Street\, Truro\, Nova Scotia\, B2N 1H7\, Canada
CATEGORIES:Events For Kids,Location: Truro
ATTACH;FMTTYPE=image/png:https://www.lovemylibrary.ca/wp-content/uploads/2022/03/Untitled-design-75.png
END:VEVENT
BEGIN:VEVENT
DTSTART;TZID=America/Halifax:20260217T100000
DTEND;TZID=America/Halifax:20260217T110000
DTSTAMP:20260425T080054
CREATED:20260107T215501Z
LAST-MODIFIED:20260107T215541Z
UID:10013874-1771322400-1771326000@www.lovemylibrary.ca
SUMMARY:Baby\, Me\, & Mother Goose
DESCRIPTION:All babies 3-18 months are welcome to come for rhymes\, songs\, and stories! In partnership with Maggie’s Place. Call Maggie’s Place at 902-895-0200 to register. \nCall Maggie’s Place at 902-895-0200 to register.
URL:https://www.lovemylibrary.ca/event/baby-me-mother-goose-2-2-2-2-2-2-2-2-2/2026-02-17/
LOCATION:Maggie’s Place\, 1027 Prince Street\, Truro\, Nova Scotia\, B2N 1H7\, Canada
CATEGORIES:Events For Kids,Location: Truro
ATTACH;FMTTYPE=image/png:https://www.lovemylibrary.ca/wp-content/uploads/2022/03/Untitled-design-75.png
END:VEVENT
BEGIN:VEVENT
DTSTART;TZID=America/Halifax:20260210T100000
DTEND;TZID=America/Halifax:20260210T110000
DTSTAMP:20260425T080054
CREATED:20260107T215501Z
LAST-MODIFIED:20260107T215541Z
UID:10013873-1770717600-1770721200@www.lovemylibrary.ca
SUMMARY:Baby\, Me\, & Mother Goose
DESCRIPTION:All babies 3-18 months are welcome to come for rhymes\, songs\, and stories! In partnership with Maggie’s Place. Call Maggie’s Place at 902-895-0200 to register. \nCall Maggie’s Place at 902-895-0200 to register.
URL:https://www.lovemylibrary.ca/event/baby-me-mother-goose-2-2-2-2-2-2-2-2-2/2026-02-10/
LOCATION:Maggie’s Place\, 1027 Prince Street\, Truro\, Nova Scotia\, B2N 1H7\, Canada
CATEGORIES:Events For Kids,Location: Truro
ATTACH;FMTTYPE=image/png:https://www.lovemylibrary.ca/wp-content/uploads/2022/03/Untitled-design-75.png
END:VEVENT
BEGIN:VEVENT
DTSTART;TZID=America/Halifax:20260203T100000
DTEND;TZID=America/Halifax:20260203T110000
DTSTAMP:20260425T080054
CREATED:20260107T215501Z
LAST-MODIFIED:20260107T215541Z
UID:10013872-1770112800-1770116400@www.lovemylibrary.ca
SUMMARY:Baby\, Me\, & Mother Goose
DESCRIPTION:All babies 3-18 months are welcome to come for rhymes\, songs\, and stories! In partnership with Maggie’s Place. Call Maggie’s Place at 902-895-0200 to register. \nCall Maggie’s Place at 902-895-0200 to register.
URL:https://www.lovemylibrary.ca/event/baby-me-mother-goose-2-2-2-2-2-2-2-2-2/2026-02-03/
LOCATION:Maggie’s Place\, 1027 Prince Street\, Truro\, Nova Scotia\, B2N 1H7\, Canada
CATEGORIES:Events For Kids,Location: Truro
ATTACH;FMTTYPE=image/png:https://www.lovemylibrary.ca/wp-content/uploads/2022/03/Untitled-design-75.png
END:VEVENT
BEGIN:VEVENT
DTSTART;TZID=America/Halifax:20260127T100000
DTEND;TZID=America/Halifax:20260127T110000
DTSTAMP:20260425T080054
CREATED:20260107T215501Z
LAST-MODIFIED:20260107T215541Z
UID:10013871-1769508000-1769511600@www.lovemylibrary.ca
SUMMARY:Baby\, Me\, & Mother Goose
DESCRIPTION:All babies 3-18 months are welcome to come for rhymes\, songs\, and stories! In partnership with Maggie’s Place. Call Maggie’s Place at 902-895-0200 to register. \nCall Maggie’s Place at 902-895-0200 to register.
URL:https://www.lovemylibrary.ca/event/baby-me-mother-goose-2-2-2-2-2-2-2-2-2/2026-01-27/
LOCATION:Maggie’s Place\, 1027 Prince Street\, Truro\, Nova Scotia\, B2N 1H7\, Canada
CATEGORIES:Events For Kids,Location: Truro
ATTACH;FMTTYPE=image/png:https://www.lovemylibrary.ca/wp-content/uploads/2022/03/Untitled-design-75.png
END:VEVENT
BEGIN:VEVENT
DTSTART;TZID=America/Halifax:20260120T100000
DTEND;TZID=America/Halifax:20260120T110000
DTSTAMP:20260425T080055
CREATED:20260107T215501Z
LAST-MODIFIED:20260107T215541Z
UID:10013870-1768903200-1768906800@www.lovemylibrary.ca
SUMMARY:Baby\, Me\, & Mother Goose
DESCRIPTION:All babies 3-18 months are welcome to come for rhymes\, songs\, and stories! In partnership with Maggie’s Place. Call Maggie’s Place at 902-895-0200 to register. \nCall Maggie’s Place at 902-895-0200 to register.
URL:https://www.lovemylibrary.ca/event/baby-me-mother-goose-2-2-2-2-2-2-2-2-2/2026-01-20/
LOCATION:Maggie’s Place\, 1027 Prince Street\, Truro\, Nova Scotia\, B2N 1H7\, Canada
CATEGORIES:Events For Kids,Location: Truro
ATTACH;FMTTYPE=image/png:https://www.lovemylibrary.ca/wp-content/uploads/2022/03/Untitled-design-75.png
END:VEVENT
BEGIN:VEVENT
DTSTART;TZID=America/Halifax:20260113T100000
DTEND;TZID=America/Halifax:20260113T110000
DTSTAMP:20260425T080055
CREATED:20260107T215501Z
LAST-MODIFIED:20260107T215541Z
UID:10013323-1768298400-1768302000@www.lovemylibrary.ca
SUMMARY:Baby\, Me\, & Mother Goose
DESCRIPTION:All babies 3-18 months are welcome to come for rhymes\, songs\, and stories! In partnership with Maggie’s Place. Call Maggie’s Place at 902-895-0200 to register. \nCall Maggie’s Place at 902-895-0200 to register.
URL:https://www.lovemylibrary.ca/event/baby-me-mother-goose-2-2-2-2-2-2-2-2-2/2026-01-13/
LOCATION:Maggie’s Place\, 1027 Prince Street\, Truro\, Nova Scotia\, B2N 1H7\, Canada
CATEGORIES:Events For Kids,Location: Truro
ATTACH;FMTTYPE=image/png:https://www.lovemylibrary.ca/wp-content/uploads/2022/03/Untitled-design-75.png
END:VEVENT
BEGIN:VEVENT
DTSTART;TZID=America/Halifax:20251125T100000
DTEND;TZID=America/Halifax:20251125T110000
DTSTAMP:20260425T080055
CREATED:20250919T170413Z
LAST-MODIFIED:20251008T205530Z
UID:10013322-1764064800-1764068400@www.lovemylibrary.ca
SUMMARY:Baby\, Me\, & Mother Goose
DESCRIPTION:All babies 3-18 months are welcome to come for rhymes\, songs\, and stories! In partnership with Maggie’s Place. Call Maggie’s Place at 902-895-0200 to register. \nCall Maggie’s Place at 902-895-0200 to register.
URL:https://www.lovemylibrary.ca/event/baby-me-mother-goose-2-2-2-2-2-2-2-2/2025-11-25/
LOCATION:Maggie’s Place\, 1027 Prince Street\, Truro\, Nova Scotia\, B2N 1H7\, Canada
CATEGORIES:Events For Kids,Location: Truro
ATTACH;FMTTYPE=image/png:https://www.lovemylibrary.ca/wp-content/uploads/2022/03/Untitled-design-75.png
END:VEVENT
BEGIN:VEVENT
DTSTART;TZID=America/Halifax:20251118T100000
DTEND;TZID=America/Halifax:20251118T110000
DTSTAMP:20260425T080055
CREATED:20250919T170413Z
LAST-MODIFIED:20251008T205530Z
UID:10013321-1763460000-1763463600@www.lovemylibrary.ca
SUMMARY:Baby\, Me\, & Mother Goose
DESCRIPTION:All babies 3-18 months are welcome to come for rhymes\, songs\, and stories! In partnership with Maggie’s Place. Call Maggie’s Place at 902-895-0200 to register. \nCall Maggie’s Place at 902-895-0200 to register.
URL:https://www.lovemylibrary.ca/event/baby-me-mother-goose-2-2-2-2-2-2-2-2/2025-11-18/
LOCATION:Maggie’s Place\, 1027 Prince Street\, Truro\, Nova Scotia\, B2N 1H7\, Canada
CATEGORIES:Events For Kids,Location: Truro
ATTACH;FMTTYPE=image/png:https://www.lovemylibrary.ca/wp-content/uploads/2022/03/Untitled-design-75.png
END:VEVENT
BEGIN:VEVENT
DTSTART;TZID=America/Halifax:20251104T100000
DTEND;TZID=America/Halifax:20251104T110000
DTSTAMP:20260425T080055
CREATED:20250919T170413Z
LAST-MODIFIED:20251008T205530Z
UID:10013320-1762250400-1762254000@www.lovemylibrary.ca
SUMMARY:Baby\, Me\, & Mother Goose
DESCRIPTION:All babies 3-18 months are welcome to come for rhymes\, songs\, and stories! In partnership with Maggie’s Place. Call Maggie’s Place at 902-895-0200 to register. \nCall Maggie’s Place at 902-895-0200 to register.
URL:https://www.lovemylibrary.ca/event/baby-me-mother-goose-2-2-2-2-2-2-2-2/2025-11-04/
LOCATION:Maggie’s Place\, 1027 Prince Street\, Truro\, Nova Scotia\, B2N 1H7\, Canada
CATEGORIES:Events For Kids,Location: Truro
ATTACH;FMTTYPE=image/png:https://www.lovemylibrary.ca/wp-content/uploads/2022/03/Untitled-design-75.png
END:VEVENT
BEGIN:VEVENT
DTSTART;TZID=America/Halifax:20251028T100000
DTEND;TZID=America/Halifax:20251028T110000
DTSTAMP:20260425T080055
CREATED:20250919T170413Z
LAST-MODIFIED:20251008T205530Z
UID:10013319-1761645600-1761649200@www.lovemylibrary.ca
SUMMARY:Baby\, Me\, & Mother Goose
DESCRIPTION:All babies 3-18 months are welcome to come for rhymes\, songs\, and stories! In partnership with Maggie’s Place. Call Maggie’s Place at 902-895-0200 to register. \nCall Maggie’s Place at 902-895-0200 to register.
URL:https://www.lovemylibrary.ca/event/baby-me-mother-goose-2-2-2-2-2-2-2-2/2025-10-28/
LOCATION:Maggie’s Place\, 1027 Prince Street\, Truro\, Nova Scotia\, B2N 1H7\, Canada
CATEGORIES:Events For Kids,Location: Truro
ATTACH;FMTTYPE=image/png:https://www.lovemylibrary.ca/wp-content/uploads/2022/03/Untitled-design-75.png
END:VEVENT
BEGIN:VEVENT
DTSTART;TZID=America/Halifax:20251021T100000
DTEND;TZID=America/Halifax:20251021T110000
DTSTAMP:20260425T080055
CREATED:20250919T170413Z
LAST-MODIFIED:20251008T205530Z
UID:10013318-1761040800-1761044400@www.lovemylibrary.ca
SUMMARY:Baby\, Me\, & Mother Goose
DESCRIPTION:All babies 3-18 months are welcome to come for rhymes\, songs\, and stories! In partnership with Maggie’s Place. Call Maggie’s Place at 902-895-0200 to register. \nCall Maggie’s Place at 902-895-0200 to register.
URL:https://www.lovemylibrary.ca/event/baby-me-mother-goose-2-2-2-2-2-2-2-2/2025-10-21/
LOCATION:Maggie’s Place\, 1027 Prince Street\, Truro\, Nova Scotia\, B2N 1H7\, Canada
CATEGORIES:Events For Kids,Location: Truro
ATTACH;FMTTYPE=image/png:https://www.lovemylibrary.ca/wp-content/uploads/2022/03/Untitled-design-75.png
END:VEVENT
BEGIN:VEVENT
DTSTART;TZID=America/Halifax:20251014T100000
DTEND;TZID=America/Halifax:20251014T110000
DTSTAMP:20260425T080055
CREATED:20250919T170413Z
LAST-MODIFIED:20251008T205530Z
UID:10013317-1760436000-1760439600@www.lovemylibrary.ca
SUMMARY:Baby\, Me\, & Mother Goose
DESCRIPTION:All babies 3-18 months are welcome to come for rhymes\, songs\, and stories! In partnership with Maggie’s Place. Call Maggie’s Place at 902-895-0200 to register. \nCall Maggie’s Place at 902-895-0200 to register.
URL:https://www.lovemylibrary.ca/event/baby-me-mother-goose-2-2-2-2-2-2-2-2/2025-10-14/
LOCATION:Maggie’s Place\, 1027 Prince Street\, Truro\, Nova Scotia\, B2N 1H7\, Canada
CATEGORIES:Events For Kids,Location: Truro
ATTACH;FMTTYPE=image/png:https://www.lovemylibrary.ca/wp-content/uploads/2022/03/Untitled-design-75.png
END:VEVENT
BEGIN:VEVENT
DTSTART;TZID=America/Halifax:20251007T100000
DTEND;TZID=America/Halifax:20251007T110000
DTSTAMP:20260425T080055
CREATED:20250919T170413Z
LAST-MODIFIED:20251008T205530Z
UID:10011351-1759831200-1759834800@www.lovemylibrary.ca
SUMMARY:Baby\, Me\, & Mother Goose
DESCRIPTION:All babies 3-18 months are welcome to come for rhymes\, songs\, and stories! In partnership with Maggie’s Place. Call Maggie’s Place at 902-895-0200 to register. \nCall Maggie’s Place at 902-895-0200 to register.
URL:https://www.lovemylibrary.ca/event/baby-me-mother-goose-2-2-2-2-2-2-2-2/2025-10-07/
LOCATION:Maggie’s Place\, 1027 Prince Street\, Truro\, Nova Scotia\, B2N 1H7\, Canada
CATEGORIES:Events For Kids,Location: Truro
ATTACH;FMTTYPE=image/png:https://www.lovemylibrary.ca/wp-content/uploads/2022/03/Untitled-design-75.png
END:VEVENT
BEGIN:VEVENT
DTSTART;TZID=America/Halifax:20240812T100000
DTEND;TZID=America/Halifax:20240812T113000
DTSTAMP:20260425T080055
CREATED:20240719T185442Z
LAST-MODIFIED:20250705T144652Z
UID:10009104-1723456800-1723462200@www.lovemylibrary.ca
SUMMARY:Teddy Bear Picnic
DESCRIPTION:Calling all stuffies and their children! Join us outside at Maggie’s Place Playground (inside if the weather is poor) for stories\, songs\, and snacks! \nThis is a drop in program. No registration is required.
URL:https://www.lovemylibrary.ca/event/teddy-bear-picnic-2/
LOCATION:Maggie’s Place\, 1027 Prince Street\, Truro\, Nova Scotia\, B2N 1H7\, Canada
CATEGORIES:Events For Kids,Location: Truro
ATTACH;FMTTYPE=image/png:https://www.lovemylibrary.ca/wp-content/uploads/2022/06/Untitled-design-5-3.png
END:VEVENT
BEGIN:VEVENT
DTSTART;TZID=America/Halifax:20240730T100000
DTEND;TZID=America/Halifax:20240730T113000
DTSTAMP:20260425T080055
CREATED:20220628T194138Z
LAST-MODIFIED:20240618T175946Z
UID:10001140-1722333600-1722339000@www.lovemylibrary.ca
SUMMARY:Teddy Bear’s Picnic with Maggie’s Place
DESCRIPTION:Calling all stuffies and their children! Join us outside at Maggie’s Place for stories\, songs\, and snacks! \nThis is a drop-in program.  Registration is not required.
URL:https://www.lovemylibrary.ca/event/teddy-bear-picnic/
LOCATION:Maggie’s Place\, 1027 Prince Street\, Truro\, Nova Scotia\, B2N 1H7\, Canada
CATEGORIES:Events For Kids,Location: Truro
ATTACH;FMTTYPE=image/png:https://www.lovemylibrary.ca/wp-content/uploads/2022/06/Untitled-design-5-3.png
END:VEVENT
BEGIN:VEVENT
DTSTART;TZID=America/Halifax:20240227T100000
DTEND;TZID=America/Halifax:20240227T110000
DTSTAMP:20260425T080055
CREATED:20231221T205705Z
LAST-MODIFIED:20231221T205815Z
UID:10006727-1709028000-1709031600@www.lovemylibrary.ca
SUMMARY:Baby\, Me\, & Mother Goose
DESCRIPTION:All babies 3-18 months are welcome to come for rhymes\, songs\, and stories! In partnership with Maggie’s Place.  The session will take place at the library \nCall Maggie’s Place at 902-895-0200 to register.
URL:https://www.lovemylibrary.ca/event/baby-me-mother-goose-2-2-2/2024-02-27/
LOCATION:Maggie’s Place\, 1027 Prince Street\, Truro\, Nova Scotia\, B2N 1H7\, Canada
CATEGORIES:Events For Kids,Location: Truro
ATTACH;FMTTYPE=image/png:https://www.lovemylibrary.ca/wp-content/uploads/2022/03/Untitled-design-75.png
END:VEVENT
BEGIN:VEVENT
DTSTART;TZID=America/Halifax:20240220T100000
DTEND;TZID=America/Halifax:20240220T110000
DTSTAMP:20260425T080055
CREATED:20231221T205705Z
LAST-MODIFIED:20231221T205815Z
UID:10006726-1708423200-1708426800@www.lovemylibrary.ca
SUMMARY:Baby\, Me\, & Mother Goose
DESCRIPTION:All babies 3-18 months are welcome to come for rhymes\, songs\, and stories! In partnership with Maggie’s Place.  The session will take place at the library \nCall Maggie’s Place at 902-895-0200 to register.
URL:https://www.lovemylibrary.ca/event/baby-me-mother-goose-2-2-2/2024-02-20/
LOCATION:Maggie’s Place\, 1027 Prince Street\, Truro\, Nova Scotia\, B2N 1H7\, Canada
CATEGORIES:Events For Kids,Location: Truro
ATTACH;FMTTYPE=image/png:https://www.lovemylibrary.ca/wp-content/uploads/2022/03/Untitled-design-75.png
END:VEVENT
BEGIN:VEVENT
DTSTART;TZID=America/Halifax:20240213T100000
DTEND;TZID=America/Halifax:20240213T110000
DTSTAMP:20260425T080055
CREATED:20231221T205705Z
LAST-MODIFIED:20231221T205815Z
UID:10006725-1707818400-1707822000@www.lovemylibrary.ca
SUMMARY:Baby\, Me\, & Mother Goose
DESCRIPTION:All babies 3-18 months are welcome to come for rhymes\, songs\, and stories! In partnership with Maggie’s Place.  The session will take place at the library \nCall Maggie’s Place at 902-895-0200 to register.
URL:https://www.lovemylibrary.ca/event/baby-me-mother-goose-2-2-2/2024-02-13/
LOCATION:Maggie’s Place\, 1027 Prince Street\, Truro\, Nova Scotia\, B2N 1H7\, Canada
CATEGORIES:Events For Kids,Location: Truro
ATTACH;FMTTYPE=image/png:https://www.lovemylibrary.ca/wp-content/uploads/2022/03/Untitled-design-75.png
END:VEVENT
BEGIN:VEVENT
DTSTART;TZID=America/Halifax:20240206T100000
DTEND;TZID=America/Halifax:20240206T110000
DTSTAMP:20260425T080055
CREATED:20231221T205705Z
LAST-MODIFIED:20231221T205815Z
UID:10006724-1707213600-1707217200@www.lovemylibrary.ca
SUMMARY:Baby\, Me\, & Mother Goose
DESCRIPTION:All babies 3-18 months are welcome to come for rhymes\, songs\, and stories! In partnership with Maggie’s Place.  The session will take place at the library \nCall Maggie’s Place at 902-895-0200 to register.
URL:https://www.lovemylibrary.ca/event/baby-me-mother-goose-2-2-2/2024-02-06/
LOCATION:Maggie’s Place\, 1027 Prince Street\, Truro\, Nova Scotia\, B2N 1H7\, Canada
CATEGORIES:Events For Kids,Location: Truro
ATTACH;FMTTYPE=image/png:https://www.lovemylibrary.ca/wp-content/uploads/2022/03/Untitled-design-75.png
END:VEVENT
BEGIN:VEVENT
DTSTART;TZID=America/Halifax:20240130T100000
DTEND;TZID=America/Halifax:20240130T110000
DTSTAMP:20260425T080055
CREATED:20231221T205705Z
LAST-MODIFIED:20231221T205815Z
UID:10006723-1706608800-1706612400@www.lovemylibrary.ca
SUMMARY:Baby\, Me\, & Mother Goose
DESCRIPTION:All babies 3-18 months are welcome to come for rhymes\, songs\, and stories! In partnership with Maggie’s Place.  The session will take place at the library \nCall Maggie’s Place at 902-895-0200 to register.
URL:https://www.lovemylibrary.ca/event/baby-me-mother-goose-2-2-2/2024-01-30/
LOCATION:Maggie’s Place\, 1027 Prince Street\, Truro\, Nova Scotia\, B2N 1H7\, Canada
CATEGORIES:Events For Kids,Location: Truro
ATTACH;FMTTYPE=image/png:https://www.lovemylibrary.ca/wp-content/uploads/2022/03/Untitled-design-75.png
END:VEVENT
BEGIN:VEVENT
DTSTART;TZID=America/Halifax:20240123T100000
DTEND;TZID=America/Halifax:20240123T110000
DTSTAMP:20260425T080055
CREATED:20231221T205705Z
LAST-MODIFIED:20231221T205815Z
UID:10006722-1706004000-1706007600@www.lovemylibrary.ca
SUMMARY:Baby\, Me\, & Mother Goose
DESCRIPTION:All babies 3-18 months are welcome to come for rhymes\, songs\, and stories! In partnership with Maggie’s Place.  The session will take place at the library \nCall Maggie’s Place at 902-895-0200 to register.
URL:https://www.lovemylibrary.ca/event/baby-me-mother-goose-2-2-2/2024-01-23/
LOCATION:Maggie’s Place\, 1027 Prince Street\, Truro\, Nova Scotia\, B2N 1H7\, Canada
CATEGORIES:Events For Kids,Location: Truro
ATTACH;FMTTYPE=image/png:https://www.lovemylibrary.ca/wp-content/uploads/2022/03/Untitled-design-75.png
END:VEVENT
BEGIN:VEVENT
DTSTART;TZID=America/Halifax:20240116T100000
DTEND;TZID=America/Halifax:20240116T110000
DTSTAMP:20260425T080055
CREATED:20231221T205705Z
LAST-MODIFIED:20231221T205815Z
UID:10005375-1705399200-1705402800@www.lovemylibrary.ca
SUMMARY:Baby\, Me\, & Mother Goose
DESCRIPTION:All babies 3-18 months are welcome to come for rhymes\, songs\, and stories! In partnership with Maggie’s Place.  The session will take place at the library \nCall Maggie’s Place at 902-895-0200 to register.
URL:https://www.lovemylibrary.ca/event/baby-me-mother-goose-2-2-2/2024-01-16/
LOCATION:Maggie’s Place\, 1027 Prince Street\, Truro\, Nova Scotia\, B2N 1H7\, Canada
CATEGORIES:Events For Kids,Location: Truro
ATTACH;FMTTYPE=image/png:https://www.lovemylibrary.ca/wp-content/uploads/2022/03/Untitled-design-75.png
END:VEVENT
BEGIN:VEVENT
DTSTART;TZID=America/Halifax:20231114T100000
DTEND;TZID=America/Halifax:20231114T104500
DTSTAMP:20260425T080055
CREATED:20230918T180904Z
LAST-MODIFIED:20230918T181016Z
UID:10005374-1699956000-1699958700@www.lovemylibrary.ca
SUMMARY:Baby\, Me\, & Mother Goose
DESCRIPTION:Learn rhymes\, songs and have fun with your baby. For all parents with babies 3-18 months. The session will take place at Maggie’s Place. \nTo register\, please call 902-895-0200
URL:https://www.lovemylibrary.ca/event/baby-me-mother-goose-2-2/2023-11-14/
LOCATION:Maggie’s Place\, 1027 Prince Street\, Truro\, Nova Scotia\, B2N 1H7\, Canada
CATEGORIES:Events For Kids,Location: Truro
ATTACH;FMTTYPE=image/png:https://www.lovemylibrary.ca/wp-content/uploads/2022/03/Untitled-design-75.png
END:VEVENT
BEGIN:VEVENT
DTSTART;TZID=America/Halifax:20231107T100000
DTEND;TZID=America/Halifax:20231107T104500
DTSTAMP:20260425T080055
CREATED:20230918T180904Z
LAST-MODIFIED:20230918T181016Z
UID:10005373-1699351200-1699353900@www.lovemylibrary.ca
SUMMARY:Baby\, Me\, & Mother Goose
DESCRIPTION:Learn rhymes\, songs and have fun with your baby. For all parents with babies 3-18 months. The session will take place at Maggie’s Place. \nTo register\, please call 902-895-0200
URL:https://www.lovemylibrary.ca/event/baby-me-mother-goose-2-2/2023-11-07/
LOCATION:Maggie’s Place\, 1027 Prince Street\, Truro\, Nova Scotia\, B2N 1H7\, Canada
CATEGORIES:Events For Kids,Location: Truro
ATTACH;FMTTYPE=image/png:https://www.lovemylibrary.ca/wp-content/uploads/2022/03/Untitled-design-75.png
END:VEVENT
BEGIN:VEVENT
DTSTART;TZID=America/Halifax:20231031T100000
DTEND;TZID=America/Halifax:20231031T104500
DTSTAMP:20260425T080055
CREATED:20230918T180904Z
LAST-MODIFIED:20230918T181016Z
UID:10005372-1698746400-1698749100@www.lovemylibrary.ca
SUMMARY:Baby\, Me\, & Mother Goose
DESCRIPTION:Learn rhymes\, songs and have fun with your baby. For all parents with babies 3-18 months. The session will take place at Maggie’s Place. \nTo register\, please call 902-895-0200
URL:https://www.lovemylibrary.ca/event/baby-me-mother-goose-2-2/2023-10-31/
LOCATION:Maggie’s Place\, 1027 Prince Street\, Truro\, Nova Scotia\, B2N 1H7\, Canada
CATEGORIES:Events For Kids,Location: Truro
ATTACH;FMTTYPE=image/png:https://www.lovemylibrary.ca/wp-content/uploads/2022/03/Untitled-design-75.png
END:VEVENT
BEGIN:VEVENT
DTSTART;TZID=America/Halifax:20231024T100000
DTEND;TZID=America/Halifax:20231024T104500
DTSTAMP:20260425T080055
CREATED:20230918T180904Z
LAST-MODIFIED:20230918T181016Z
UID:10005371-1698141600-1698144300@www.lovemylibrary.ca
SUMMARY:Baby\, Me\, & Mother Goose
DESCRIPTION:Learn rhymes\, songs and have fun with your baby. For all parents with babies 3-18 months. The session will take place at Maggie’s Place. \nTo register\, please call 902-895-0200
URL:https://www.lovemylibrary.ca/event/baby-me-mother-goose-2-2/2023-10-24/
LOCATION:Maggie’s Place\, 1027 Prince Street\, Truro\, Nova Scotia\, B2N 1H7\, Canada
CATEGORIES:Events For Kids,Location: Truro
ATTACH;FMTTYPE=image/png:https://www.lovemylibrary.ca/wp-content/uploads/2022/03/Untitled-design-75.png
END:VEVENT
BEGIN:VEVENT
DTSTART;TZID=America/Halifax:20231017T100000
DTEND;TZID=America/Halifax:20231017T104500
DTSTAMP:20260425T080055
CREATED:20230918T180904Z
LAST-MODIFIED:20230918T181016Z
UID:10005370-1697536800-1697539500@www.lovemylibrary.ca
SUMMARY:Baby\, Me\, & Mother Goose
DESCRIPTION:Learn rhymes\, songs and have fun with your baby. For all parents with babies 3-18 months. The session will take place at Maggie’s Place. \nTo register\, please call 902-895-0200
URL:https://www.lovemylibrary.ca/event/baby-me-mother-goose-2-2/2023-10-17/
LOCATION:Maggie’s Place\, 1027 Prince Street\, Truro\, Nova Scotia\, B2N 1H7\, Canada
CATEGORIES:Events For Kids,Location: Truro
ATTACH;FMTTYPE=image/png:https://www.lovemylibrary.ca/wp-content/uploads/2022/03/Untitled-design-75.png
END:VEVENT
BEGIN:VEVENT
DTSTART;TZID=America/Halifax:20231010T100000
DTEND;TZID=America/Halifax:20231010T104500
DTSTAMP:20260425T080055
CREATED:20230918T180904Z
LAST-MODIFIED:20230918T181016Z
UID:10005369-1696932000-1696934700@www.lovemylibrary.ca
SUMMARY:Baby\, Me\, & Mother Goose
DESCRIPTION:Learn rhymes\, songs and have fun with your baby. For all parents with babies 3-18 months. The session will take place at Maggie’s Place. \nTo register\, please call 902-895-0200
URL:https://www.lovemylibrary.ca/event/baby-me-mother-goose-2-2/2023-10-10/
LOCATION:Maggie’s Place\, 1027 Prince Street\, Truro\, Nova Scotia\, B2N 1H7\, Canada
CATEGORIES:Events For Kids,Location: Truro
ATTACH;FMTTYPE=image/png:https://www.lovemylibrary.ca/wp-content/uploads/2022/03/Untitled-design-75.png
END:VEVENT
BEGIN:VEVENT
DTSTART;TZID=America/Halifax:20231003T100000
DTEND;TZID=America/Halifax:20231003T104500
DTSTAMP:20260425T080055
CREATED:20230918T180904Z
LAST-MODIFIED:20230918T181016Z
UID:10002690-1696327200-1696329900@www.lovemylibrary.ca
SUMMARY:Baby\, Me\, & Mother Goose
DESCRIPTION:Learn rhymes\, songs and have fun with your baby. For all parents with babies 3-18 months. The session will take place at Maggie’s Place. \nTo register\, please call 902-895-0200
URL:https://www.lovemylibrary.ca/event/baby-me-mother-goose-2-2/2023-10-03/
LOCATION:Maggie’s Place\, 1027 Prince Street\, Truro\, Nova Scotia\, B2N 1H7\, Canada
CATEGORIES:Events For Kids,Location: Truro
ATTACH;FMTTYPE=image/png:https://www.lovemylibrary.ca/wp-content/uploads/2022/03/Untitled-design-75.png
END:VEVENT
END:VCALENDAR